Workbook
Name Cancela: #REF!,#REF!
Name fdsafs: #REF!,#REF!
Name fdsf: #REF!
Name Ganhos_e_perdas_de_receita: #REF!
Name Ganhos_e_Perdas_de_Receita_99: #REF!
Name Plan: #REF!
Name Planilha: #REF!
Name Planilha_1: #REF!,#REF!
Name Planilha_1ÁreaTotal: #REF!,#REF!
Name Planilha_1ÁreaTotal: #REF!,#REF!
Name Planilha_1ÁreaTotal: 'RREO-Anexo 07'!#REF!,'RREO-Anexo 07'!$H$18:$L$28
Name Planilha_1ÁreaTotal: #REF!,#REF!
Name Planilha_1ÁreaTotal: #REF!,#REF!
Name Planilha_1ÁreaTotal: #REF!,#REF!
Name Planilha_1ÁreaTotal: #REF!,#REF!
Name Planilha_1ÁreaTotal: #REF!,#REF!
Name Planilha_1CabGráfico: #REF!
Name Planilha_1CabGráfico: #REF!
Name Planilha_1CabGráfico: 'RREO-Anexo 07'!#REF!
Name Planilha_1CabGráfico: #REF!
Name Planilha_1CabGráfico: #REF!
Name Planilha_1CabGráfico: #REF!
Name Planilha_1CabGráfico: #REF!
Name Planilha_1CabGráfico: #REF!
Name Planilha_1TítCols: #REF!,#REF!
Name Planilha_1TítCols: #REF!,#REF!
Name Planilha_1TítCols: 'RREO-Anexo 07'!#REF!,'RREO-Anexo 07'!#REF!
Name Planilha_1TítCols: #REF!,#REF!
Name Planilha_1TítCols: #REF!,#REF!
Name Planilha_1TítCols: #REF!,#REF!
Name Planilha_1TítCols: #REF!,#REF!
Name Planilha_1TítCols: #REF!,#REF!
Name Planilha_1TítLins: #REF!
Name Planilha_1TítLins: #REF!
Name Planilha_1TítLins: 'RREO-Anexo 07'!#REF!
Name Planilha_1TítLins: #REF!
Name Planilha_1TítLins: #REF!
Name Planilha_1TítLins: #REF!
Name Planilha_1TítLins: #REF!
Name Planilha_1TítLins: #REF!
Name Planilha_2ÁreaTotal: #REF!,#REF!
Name Planilha_2ÁreaTotal: #REF!,#REF!
Name Planilha_2ÁreaTotal: #REF!,#REF!
Name Planilha_2ÁreaTotal: #REF!,#REF!
Name Planilha_2ÁreaTotal: #REF!,#REF!
Name Planilha_2ÁreaTotal: #REF!,#REF!
Name Planilha_2CabGráfico: #REF!
Name Planilha_2CabGráfico: #REF!
Name Planilha_2CabGráfico: #REF!
Name Planilha_2CabGráfico: #REF!
Name Planilha_2CabGráfico: #REF!
Name Planilha_2TítCols: #REF!,#REF!
Name Planilha_2TítCols: #REF!,#REF!
Name Planilha_2TítCols: #REF!,#REF!
Name Planilha_2TítCols: #REF!,#REF!
Name Planilha_2TítCols: #REF!,#REF!
Name Planilha_2TítCols: #REF!,#REF!
Name Planilha_2TítLins: #REF!
Name Planilha_2TítLins: #REF!
Name Planilha_2TítLins: #REF!

Sheet RREO-Anexo 01
A2: PREFEITURA MUNICIPAL DE INDAIATUBA
A3: Av. Eng. Fabio R. Barnabe, 2800 - Jd. Esplanada II
A4: C.N.P.J. 44.733.608/0001-09
A5: Telefone: (19) 3834-9000
A6: Tabela 1 - Balanço Orçamentário
A8: PREFEITURA MUNICIPAL DE INDAIATUBA
A9: RELATÓRIO RESUMIDO DA EXECUÇÃO ORÇAMENTÁRIA
A10: BALANÇO ORÇAMENTÁRIO
A11: ORÇAMENTOS FISCAL E DA SEGURIDADE SOCIAL
A12: Período: 6º Bimestre | B12: =IF(IFERROR(SEARCH("SEMESTRE",A12,1),0)>0,"Semestre",IF(IFERROR(SEARCH("QUADRIMESTRE",A12,1),0)>0,"Quadrimestre",IF(IFERROR(SEARCH("TRIMESTRE",A12,1),0)>0,"Trimestre",IF(IFERROR(SEARCH("BIMESTRE",A12,1),0)>0,"Bimestre","Mês")))) -> Bimestre
A17: RREO - Anexo 1 (LRF, Art. 52, inciso I, alíneas "a" e "b" do inciso II e §1º) | H17: Em Reais
B18: PREVISÃO INICIAL | C18: PREVISÃO ATUALIZADA | D18: RECEITAS REALIZADAS | H18: SALDO
A19: RECEITAS | C19: ATUALIZADA | D19: =CONCATENATE("No ", B12) -> No Bimestre | E19: % | F19: =CONCATENATE("Até o ", B12) -> Até o Bimestre | G19: %
C20: (a) | D20: (b) | E20: (b/a) | F20: (c) | G20: (c/a) | H20: (a-c)
A21: RECEITAS (EXCETO INTRA-ORÇAMENTÁRIAS) (I) | B21: =B22+B62 -> 994132950 | C21: =C22+C62 -> 1.0364749e+09 | D21: =D22+D62 -> 2.2463663e+08 | E21: =IF(C21>0,D21/C21,0)*100 -> 21.673138 | F21: =F22+F62 -> 1.2920405e+09 | G21: =IF(C21>0,F21/C21,0)*100 -> 124.65719 | H21: =C21-F21 -> -2.5556564e+08
A22: RECEITAS CORRENTES | B22: =B23+B27+B32+B40+B41+B42+B48+B57 -> 993197950 | C22: =C23+C27+C32+C40+C41+C42+C48+C57 -> 1.0186165e+09 | D22: =D23+D27+D32+D40+D41+D42+D48+D57 -> 2.2448695e+08 | E22: =IF(C22>0,D22/C22,0)*100 -> 22.038417 | F22: =F23+F27+F32+F40+F41+F42+F48+F57 -> 1.288262e+09 | G22: =IF(C22>0,F22/C22,0)*100 -> 126.47174 | H22: =C22-F22 -> -2.6964551e+08
A23: IMPOSTOS, TAXAS E CONTRIBUIÇÕES DE MELHORIA | B23: =SUM(B24:B26) -> 281094500 | C23: =SUM(C24:C26) -> 2.8253601e+08 | D23: =SUM(D24:D26) -> 60549359 | E23: =IF(C23>0,D23/C23,0)*100 -> 21.43067 | F23: =SUM(F24:F26) -> 3.340093e+08 | G23: =IF(C23>0,F23/C23,0)*100 -> 118.21831 | H23: =C23-F23 -> -51473292
A24: Impostos | B24: 251018500 | C24: 2.5206601e+08 | D24: 55606931 | E24: =IF(C24>0,D24/C24,0)*100 -> 22.060464 | F24: 2.9903195e+08 | G24: =IF(C24>0,F24/C24,0)*100 -> 118.6324 | H24: =C24-F24 -> -46965943
A25: Taxas | B25: 29958000 | C25: 30352000 | D25: 4900928 | E25: =IF(C25>0,D25/C25,0)*100 -> 16.146969 | F25: 34656965 | G25: =IF(C25>0,F25/C25,0)*100 -> 114.18347 | H25: =C25-F25 -> -4304965.4
A26: Contribuição de Melhoria | B26: 118000 | C26: 118000 | D26: 41499.87 | E26: =IF(C26>0,D26/C26,0)*100 -> 35.169381 | F26: 320383.05 | G26: =IF(C26>0,F26/C26,0)*100 -> 271.51106 | H26: =C26-F26 -> -202383.05
A27: CONTRIBUIÇÕES | B27: =SUM(B28:B31) -> 58798350 | C27: =SUM(C28:C31) -> 58798350 | D27: =SUM(D28:D31) -> 10914460 | E27: =IF(C27>0,D27/C27,0)*100 -> 18.562528 | F27: =SUM(F28:F31) -> 62610101 | G27: =IF(C27>0,F27/C27,0)*100 -> 106.48275 | H27: =C27-F27 -> -3811750.7
A28: Contribuições Sociais | B28: 34198350 | C28: 34198350 | D28: 6980524 | E28: =IF(C28>0,D28/C28,0)*100 -> 20.411874 | F28: 38627259 | G28: =IF(C28>0,F28/C28,0)*100 -> 112.95065 | H28: =C28-F28 -> -4428909.2
A29: Contribuições Econômicas | E29: =IF(C29>0,D29/C29,0)*100 -> 0 | G29: =IF(C29>0,F29/C29,0)*100 -> 0 | H29: =C29-F29 -> 0
A30: Contribuições para Entidades Privadas de Serviço Social └ e de Formação Profissional | E30: =IF(C30>0,D30/C30,0)*100 -> 0 | G30: =IF(C30>0,F30/C30,0)*100 -> 0 | H30: =C30-F30 -> 0
A31: Contribuição para o Custeio do Serviço de Iluminação └ Pública | B31: 24600000 | C31: 24600000 | D31: 3933936.1 | E31: =IF(C31>0,D31/C31,0)*100 -> 15.99161 | F31: 23982842 | G31: =IF(C31>0,F31/C31,0)*100 -> 97.491226 | H31: =C31-F31 -> 617158.46
A32: RECEITA PATRIMONIAL | B32: =SUM(B33:B39) -> 25122740 | C32: =SUM(C33:C39) -> 26096598 | D32: =SUM(D33:D39) -> 21704748 | E32: =IF(C32>0,D32/C32,0)*100 -> 83.170796 | F32: =SUM(F33:F39) -> 2.069146e+08 | G32: =IF(C32>0,F32/C32,0)*100 -> 792.87957 | H32: =C32-F32 -> -1.80818e+08
A33: Exploração do Patrimônio Imobiliário do Estado | B33: 546000 | C33: 546000 | D33: 163671.89 | E33: =IF(C33>0,D33/C33,0)*100 -> 29.976537 | F33: 819917.06 | G33: =IF(C33>0,F33/C33,0)*100 -> 150.16796 | H33: =C33-F33 -> -273917.06
A34: Valores Mobiliários | B34: 24003740 | C34: 24977598 | D34: 21428565 | E34: =IF(C34>0,D34/C34,0)*100 -> 85.791136 | F34: 2.0543414e+08 | G34: =IF(C34>0,F34/C34,0)*100 -> 822.47354 | H34: =C34-F34 -> -1.8045654e+08
A35: Delegação de Serviços Públicos Mediante Concessão, └ Permissão, Autorização ou Licença | B35: 465000 | C35: 465000 | D35: 89991.41 | E35: =IF(C35>0,D35/C35,0)*100 -> 19.352991 | F35: 550752.81 | G35: =IF(C35>0,F35/C35,0)*100 -> 118.44146 | H35: =C35-F35 -> -85752.81
A36: Exploração de Recursos Naturais | E36: =IF(C36>0,D36/C36,0)*100 -> 0 | G36: =IF(C36>0,F36/C36,0)*100 -> 0 | H36: =C36-F36 -> 0
A37: Exploração do Patrimônio Intangível | E37: =IF(C37>0,D37/C37,0)*100 -> 0 | G37: =IF(C37>0,F37/C37,0)*100 -> 0 | H37: =C37-F37 -> 0
A38: Cessão de Direitos | B38: 108000 | C38: 108000 | D38: 22519.79 | E38: =IF(C38>0,D38/C38,0)*100 -> 20.851657 | F38: 109791.31 | G38: =IF(C38>0,F38/C38,0)*100 -> 101.65862 | H38: =C38-F38 -> -1791.31
A39: Demais Receitas Patrimoniais | E39: =IF(C39>0,D39/C39,0)*100 -> 0 | G39: =IF(C39>0,F39/C39,0)*100 -> 0 | H39: =C39-F39 -> 0
A40: RECEITA AGROPECUÁRIA | E40: =IF(C40>0,D40/C40,0)*100 -> 0 | G40: =IF(C40>0,F40/C40,0)*100 -> 0 | H40: =C40-F40 -> 0
A41: RECEITA INDUSTRIAL | E41: =IF(C41>0,D41/C41,0)*100 -> 0 | G41: =IF(C41>0,F41/C41,0)*100 -> 0 | H41: =C41-F41 -> 0
A42: RECEITA DE SERVIÇOS | B42: =SUM(B43:B47) -> 114422000 | C42: =SUM(C43:C47) -> 1.1834781e+08 | D42: =SUM(D43:D47) -> 22979245 | E42: =IF(C42>0,D42/C42,0)*100 -> 19.416706 | F42: =SUM(F43:F47) -> 1.2349639e+08 | G42: =IF(C42>0,F42/C42,0)*100 -> 104.35038 | H42: =C42-F42 -> -5148581.8
A43: Serviços Administrativos e Comerciais Gerais | B43: 112860000 | C43: 1.1678581e+08 | D43: 22613833 | E43: =IF(C43>0,D43/C43,0)*100 -> 19.363511 | F43: 1.2130771e+08 | G43: =IF(C43>0,F43/C43,0)*100 -> 103.87196 | H43: =C43-F43 -> -4521902
A44: Serviços e Atividades Referentes à Navegação e ao └ Transporte | B44: 544000 | C44: 544000 | D44: 72486.06 | E44: =IF(C44>0,D44/C44,0)*100 -> 13.324643 | F44: 511833.59 | G44: =IF(C44>0,F44/C44,0)*100 -> 94.087057 | H44: =C44-F44 -> 32166.41
A45: Serviços e Atividades referentes à Saúde | E45: =IF(C45>0,D45/C45,0)*100 -> 0 | G45: =IF(C45>0,F45/C45,0)*100 -> 0 | H45: =C45-F45 -> 0
A46: Serviços e Atividades Financeiras | E46: =IF(C46>0,D46/C46,0)*100 -> 0 | G46: =IF(C46>0,F46/C46,0)*100 -> 0 | H46: =C46-F46 -> 0
...

Sheet RREO-Anexo 02
A2: PREFEITURA MUNICIPAL DE INDAIATUBA
A3: Av. Eng. Fabio R. Barnabe, 2800 - Jd. Esplanada II
A4: C.N.P.J. 44.733.608/0001-09
A5: Telefone: (19) 3834-9000
A6: Tabela 2 - Demonstrativo da Execução das Despesas por Função/Subfunção
A8: PREFEITURA MUNICIPAL DE INDAIATUBA
A9: RELATÓRIO RESUMIDO DA EXECUÇÃO ORÇAMENTÁRIA
A10: DEMONSTRATIVO DA EXECUÇÃO DAS DESPESAS POR FUNÇÃO/SUBFUNÇÃO
A11: ORÇAMENTOS FISCAL E DA SEGURIDADE SOCIAL
A12: Período: 6º Bimestre | B12: =IF(IFERROR(SEARCH("SEMESTRE",A12,1),0)>0,"Semestre",IF(IFERROR(SEARCH("QUADRIMESTRE",A12,1),0)>0,"Quadrimestre",IF(IFERROR(SEARCH("TRIMESTRE",A12,1),0)>0,"Trimestre",IF(IFERROR(SEARCH("BIMESTRE",A12,1),0)>0,"Bimestre","Mês")))) -> Bimestre
A15: RREO - Anexo 2 (LRF, Art. 52, inciso II, alínea "c") | L15: Em Reais
B16: DOTAÇÃO | C16: DOTAÇÃO | D16: DESPESAS EMPENHADAS | G16: SALDO | H16: DESPESAS LIQUIDADAS | K16: SALDO | L16: INSCRITAS EM RESTOS A PAGAR NÃO PROCESSADOS (f)
A17: FUNÇÃO/SUBFUNÇÃO | B17: INICIAL | C17: ATUALIZADA | D17: =CONCATENATE("No ", B12) -> No Bimestre | E17: =CONCATENATE("Até o ", B12) -> Até o Bimestre | F17: % | H17: =CONCATENATE("No ", B12) -> No Bimestre | I17: =CONCATENATE("Até o ", B12) -> Até o Bimestre | J17: %
C18: (a) | E18: (b) | F18: (b/total b) | G18: (c) = (a-b) | I18: (d) | J18: (d/total d) | K18: (e) = (a-d)
A19: DESPESAS (EXCETO INTRA-ORÇAMENTÁRIAS) (I) | B19: =B20+B25+B30+B35+B48+B54+B60+B65+B72+B79+B88+B95+B106+B111+B117+B123+B128+B133+B141+B147+B155+B160+B168+B176+B181+B188+B196+B202+B211 -> 989603400 | C19: =C20+C25+C30+C35+C48+C54+C60+C65+C72+C79+C88+C95+C106+C111+C117+C123+C128+C133+C141+C147+C155+C160+C168+C176+C181+C188+C196+C202+C211 -> 1.2697065e+09 | D19: =D20+D25+D30+D35+D48+D54+D60+D65+D72+D79+D88+D95+D106+D111+D117+D123+D128+D133+D141+D147+D155+D160+D168+D176+D181+D188+D196+D202+D211 -> 1.4273061e+08 | E19: =E20+E25+E30+E35+E48+E54+E60+E65+E72+E79+E88+E95+E106+E111+E117+E123+E128+E133+E141+E147+E155+E160+E168+E176+E181+E188+E196+E202+E211 -> 1.1350312e+09 | F19: =IF($E$213>0,E19/$E$213,0)*100 -> 91.783983 | G19: =G20+G25+G30+G35+G48+G54+G60+G65+G72+G79+G88+G95+G106+G111+G117+G123+G128+G133+G141+G147+G155+G160+G168+G176+G181+G188+G196+G202+G211 -> 1.3467534e+08 | H19: =H20+H25+H30+H35+H48+H54+H60+H65+H72+H79+H88+H95+H106+H111+H117+H123+H128+H133+H141+H147+H155+H160+H168+H176+H181+H188+H196+H202+H211 -> 2.0232133e+08 | I19: =I20+I25+I30+I35+I48+I54+I60+I65+I72+I79+I88+I95+I106+I111+I117+I123+I128+I133+I141+I147+I155+I160+I168+I176+I181+I188+I196+I202+I211 -> 1.0659987e+09 | J19: =IF($I$213>0,I19/$I$213,0)*100 -> 91.349405 | K19: =K20+K25+K30+K35+K48+K54+K60+K65+K72+K79+K88+K95+K106+K111+K117+K123+K128+K133+K141+K147+K155+K160+K168+K176+K181+K188+K196+K202+K211 -> 2.0370778e+08 | L19: =L20+L25+L30+L35+L48+L54+L60+L65+L72+L79+L88+L95+L106+L111+L117+L123+L128+L133+L141+L147+L155+L160+L168+L176+L181+L188+L196+L202+L211 -> 69032438
A20: LEGISLATIVA | B20: =SUM(B21:B24) -> 14125000 | C20: =SUM(C21:C24) -> 13846500 | D20: =SUM(D21:D24) -> 2976471.2 | E20: =SUM(E21:E24) -> 12856586 | F20: =IF($E$213>0,E20/$E$213,0)*100 -> 1.0396442 | G20: =SUM(G21:G24) -> 989914.34 | H20: =SUM(H21:H24) -> 2264499.1 | I20: =SUM(I21:I24) -> 11284756 | J20: =IF($I$213>0,I20/$I$213,0)*100 -> 0.96703281 | K20: =SUM(K21:K24) -> 2561743.8 | L20: =SUM(L21:L24) -> 1571829.4
A21: Ação Legislativa | B21: 14125000 | C21: 13846500 | D21: 2976471.2 | E21: 12856586 | F21: =IF($E$213>0,E21/$E$213,0)*100 -> 1.0396442 | G21: =C21-E21 -> 989914.34 | H21: 2264499.1 | I21: 11284756 | J21: =IF($I$213>0,I21/$I$213,0)*100 -> 0.96703281 | K21: =C21-I21 -> 2561743.8 | L21: 1571829.4
A22: Controle Externo | F22: =IF($E$213>0,E22/$E$213,0)*100 -> 0 | G22: =C22-E22 -> 0 | J22: =IF($I$213>0,I22/$I$213,0)*100 -> 0 | K22: =C22-I22 -> 0
A23: Administração Geral | F23: =IF($E$213>0,E23/$E$213,0)*100 -> 0 | G23: =C23-E23 -> 0 | J23: =IF($I$213>0,I23/$I$213,0)*100 -> 0 | K23: =C23-I23 -> 0
A24: Demais Subfunções | F24: =IF($E$213>0,E24/$E$213,0)*100 -> 0 | G24: =C24-E24 -> 0 | J24: =IF($I$213>0,I24/$I$213,0)*100 -> 0 | K24: =C24-I24 -> 0
A25: JUDICIÁRIA | B25: =SUM(B26:B29) -> 0 | C25: =SUM(C26:C29) -> 0 | D25: =SUM(D26:D29) -> 0 | E25: =SUM(E26:E29) -> 0 | F25: =IF($E$213>0,E25/$E$213,0)*100 -> 0 | G25: =SUM(G26:G29) -> 0 | H25: =SUM(H26:H29) -> 0 | I25: =SUM(I26:I29) -> 0 | J25: =IF($I$213>0,I25/$I$213,0)*100 -> 0 | K25: =SUM(K26:K29) -> 0 | L25: =SUM(L26:L29) -> 0
A26: Ação Judiciária | F26: =IF($E$213>0,E26/$E$213,0)*100 -> 0 | G26: =C26-E26 -> 0 | J26: =IF($I$213>0,I26/$I$213,0)*100 -> 0 | K26: =C26-I26 -> 0
A27: Defesa do Interesse Público no Processo Judiciário | F27: =IF($E$213>0,E27/$E$213,0)*100 -> 0 | G27: =C27-E27 -> 0 | J27: =IF($I$213>0,I27/$I$213,0)*100 -> 0 | K27: =C27-I27 -> 0
A28: Administração Geral | F28: =IF($E$213>0,E28/$E$213,0)*100 -> 0 | G28: =C28-E28 -> 0 | J28: =IF($I$213>0,I28/$I$213,0)*100 -> 0 | K28: =C28-I28 -> 0
A29: Demais Subfunções | F29: =IF($E$213>0,E29/$E$213,0)*100 -> 0 | G29: =C29-E29 -> 0 | J29: =IF($I$213>0,I29/$I$213,0)*100 -> 0 | K29: =C29-I29 -> 0
A30: ESSENCIAL A JUSTIÇA | B30: =SUM(B31:B34) -> 0 | C30: =SUM(C31:C34) -> 0 | D30: =SUM(D31:D34) -> 0 | E30: =SUM(E31:E34) -> 0 | F30: =IF($E$213>0,E30/$E$213,0)*100 -> 0 | G30: =SUM(G31:G34) -> 0 | H30: =SUM(H31:H34) -> 0 | I30: =SUM(I31:I34) -> 0 | J30: =IF($I$213>0,I30/$I$213,0)*100 -> 0 | K30: =SUM(K31:K34) -> 0 | L30: =SUM(L31:L34) -> 0
A31: Defesa da Ordem Jurídica | F31: =IF($E$213>0,E31/$E$213,0)*100 -> 0 | G31: =C31-E31 -> 0 | J31: =IF($I$213>0,I31/$I$213,0)*100 -> 0 | K31: =C31-I31 -> 0
A32: Representação Judicial e Extrajudicial | F32: =IF($E$213>0,E32/$E$213,0)*100 -> 0 | G32: =C32-E32 -> 0 | J32: =IF($I$213>0,I32/$I$213,0)*100 -> 0 | K32: =C32-I32 -> 0
A33: Administração Geral | F33: =IF($E$213>0,E33/$E$213,0)*100 -> 0 | G33: =C33-E33 -> 0 | J33: =IF($I$213>0,I33/$I$213,0)*100 -> 0 | K33: =C33-I33 -> 0
A34: Demais Subfunções | F34: =IF($E$213>0,E34/$E$213,0)*100 -> 0 | G34: =C34-E34 -> 0 | J34: =IF($I$213>0,I34/$I$213,0)*100 -> 0 | K34: =C34-I34 -> 0
A35: ADMINISTRAÇÃO | B35: =SUM(B36:B47) -> 72408000 | C35: =SUM(C36:C47) -> 80072269 | D35: =SUM(D36:D47) -> 10927889 | E35: =SUM(E36:E47) -> 71027320 | F35: =IF($E$213>0,E35/$E$213,0)*100 -> 5.7436046 | G35: =SUM(G36:G47) -> 9044949 | H35: =SUM(H36:H47) -> 14632440 | I35: =SUM(I36:I47) -> 66968035 | J35: =IF($I$213>0,I35/$I$213,0)*100 -> 5.7387404 | K35: =SUM(K36:K47) -> 13104235 | L35: =SUM(L36:L47) -> 4059285.8
A36: Planejamento e Orçamento | F36: =IF($E$213>0,E36/$E$213,0)*100 -> 0 | G36: =C36-E36 -> 0 | J36: =IF($I$213>0,I36/$I$213,0)*100 -> 0 | K36: =C36-I36 -> 0
A37: Administração Geral | B37: 45454000 | C37: 46732870 | D37: 6163307 | E37: 42278921 | F37: =IF($E$213>0,E37/$E$213,0)*100 -> 3.4188732 | G37: =C37-E37 -> 4453949.3 | H37: 9133888.2 | I37: 40182835 | J37: =IF($I$213>0,I37/$I$213,0)*100 -> 3.4434169 | K37: =C37-I37 -> 6550034.8 | L37: 2096085.6
A38: Administração Financeira | B38: 11040000 | C38: 11010000 | D38: 1231251.7 | E38: 9390878.2 | F38: =IF($E$213>0,E38/$E$213,0)*100 -> 0.75939076 | G38: =C38-E38 -> 1619121.8 | H38: 1571790.2 | I38: 9178989.4 | J38: =IF($I$213>0,I38/$I$213,0)*100 -> 0.7865818 | K38: =C38-I38 -> 1831010.6 | L38: 211888.78
A39: Controle Interno | B39: 1317000 | C39: 1312000 | D39: 225594.55 | E39: 1209602 | F39: =IF($E$213>0,E39/$E$213,0)*100 -> 0.097814128 | G39: =C39-E39 -> 102398.03 | H39: 229947.07 | I39: 1207782.1 | J39: =IF($I$213>0,I39/$I$213,0)*100 -> 0.10349935 | K39: =C39-I39 -> 104217.88 | L39: 1819.85
A40: Normatização e Fiscalização | F40: =IF($E$213>0,E40/$E$213,0)*100 -> 0 | G40: =C40-E40 -> 0 | J40: =IF($I$213>0,I40/$I$213,0)*100 -> 0 | K40: =C40-I40 -> 0
A41: Tecnologia da Informação | F41: =IF($E$213>0,E41/$E$213,0)*100 -> 0 | G41: =C41-E41 -> 0 | J41: =IF($I$213>0,I41/$I$213,0)*100 -> 0 | K41: =C41-I41 -> 0
A42: Ordenamento Territorial | B42: 5693000 | C42: 9558000 | D42: 1419017.2 | E42: 7162586.8 | F42: =IF($E$213>0,E42/$E$213,0)*100 -> 0.5792006 | G42: =C42-E42 -> 2395413.2 | H42: 1230467.9 | I42: 5553904.5 | J42: =IF($I$213>0,I42/$I$213,0)*100 -> 0.47593477 | K42: =C42-I42 -> 4004095.5 | L42: 1608682.4
A43: Formação de Recursos Humanos | F43: =IF($E$213>0,E43/$E$213,0)*100 -> 0 | G43: =C43-E43 -> 0 | J43: =IF($I$213>0,I43/$I$213,0)*100 -> 0 | K43: =C43-I43 -> 0
A44: Administração de Receitas | F44: =IF($E$213>0,E44/$E$213,0)*100 -> 0 | G44: =C44-E44 -> 0 | J44: =IF($I$213>0,I44/$I$213,0)*100 -> 0 | K44: =C44-I44 -> 0
...

Sheet RREO-Anexo 03
A2: PREFEITURA MUNICIPAL DE INDAIATUBA
A3: Av. Eng. Fabio R. Barnabe, 2800 - Jd. Esplanada II
A4: C.N.P.J. 44.733.608/0001-09
A5: Telefone: (19) 3834-9000
A6: Tabela 3 - Demonstrativo da Receita Corrente Líquida
A8: PREFEITURA MUNICIPAL DE INDAIATUBA
A9: RELATÓRIO RESUMIDO DA EXECUÇÃO ORÇAMENTÁRIA
A10: DEMONSTRATIVO DA RECEITA CORRENTE LÍQUIDA
A11: ORÇAMENTOS FISCAL E DA SEGURIDADE SOCIAL
A12: Período: 6º Bimestre | B12: =IF(IFERROR(SEARCH("SEMESTRE",A12,1),0)>0,"Semestre",IF(IFERROR(SEARCH("QUADRIMESTRE",A12,1),0)>0,"Quadrimestre",IF(IFERROR(SEARCH("TRIMESTRE",A12,1),0)>0,"Trimestre",IF(IFERROR(SEARCH("BIMESTRE",A12,1),0)>0,"Bimestre","Mês")))) -> Bimestre
A17: RREO - Anexo 3 (LRF, Art. 53, inciso I) | O17: Em Reais
B18: EVOLUÇÃO DA RECEITA REALIZADA NOS ÚLTIMOS 12 MESES | N18: TOTAL | O18: PREVISÃO
A19: ESPECIFICAÇÃO | N19: (ÚLTIMOS | O19: ATUALIZADA
B20: <MR–11> | C20: <MR–10> | D20: <MR–9> | E20: <MR–8> | F20: <MR–7> | G20: <MR–6> | H20: <MR–5> | I20: <MR–4> | J20: <MR–3> | K20: <MR–2> | L20: <MR–1> | M20: <MR> | N20: 12 MESES) | O20: <EXERCÍCIO>
A21: RECEITAS CORRENTES (I) | B21: =B22+B28+B29+B32+B33+B34+B35+B44 -> 1.0684895e+08 | C21: =C22+C28+C29+C32+C33+C34+C35+C44 -> 94420286 | D21: =D22+D28+D29+D32+D33+D34+D35+D44 -> 1.2434263e+08 | E21: =E22+E28+E29+E32+E33+E34+E35+E44 -> 93665506 | F21: =F22+F28+F29+F32+F33+F34+F35+F44 -> 88846339 | G21: =G22+G28+G29+G32+G33+G34+G35+G44 -> 82827106 | H21: =H22+H28+H29+H32+H33+H34+H35+H44 -> 1.0243827e+08 | I21: =I22+I28+I29+I32+I33+I34+I35+I44 -> 89555022 | ... M21: =M22+M28+M29+M32+M33+M34+M35+M44 -> 1.2632851e+08 | N21: =SUM(B21:M21) -> 1.1858321e+09 | O21: =O22+O28+O29+O32+O33+O34+O35+O44 -> 1.0937665e+09
A22: Impostos, Taxas e Contribuições de Melhoria | B22: =SUM(B23:B27) -> 14253712 | C22: =SUM(C23:C27) -> 20911934 | D22: =SUM(D23:D27) -> 54884019 | E22: =SUM(E23:E27) -> 25140700 | F22: =SUM(F23:F27) -> 26612004 | G22: =SUM(G23:G27) -> 23425857 | H22: =SUM(H23:H27) -> 25017169 | I22: =SUM(I23:I27) -> 29395823 | ... M22: =SUM(M23:M27) -> 32113013 | N22: =SUM(B22:M22) -> 3.340093e+08 | O22: =SUM(O23:O27) -> 2.8253601e+08
A23: IPTU | B23: 2666527.6 | C23: 7097521.5 | D23: 33484993 | E23: 8749239.6 | F23: 8797359 | G23: 8217627.9 | H23: 8912159 | I23: 8867236.9 | J23: 9137236.9 | K23: 8899479.7 | L23: 8407913.6 | M23: 9437839.1 | N23: =SUM(B23:M23) -> 1.2267513e+08 | O23: 111775000
A24: ISS | B24: 7917271.2 | C24: 7076544.5 | D24: 8118303.6 | E24: 8273069.7 | F24: 7778439.5 | G24: 7763935.4 | H24: 7570292.8 | I24: 8892489 | J24: 8779662.4 | K24: 9744483.6 | L24: 10846945 | M24: 8810022.2 | N24: =SUM(B24:M24) -> 1.0157146e+08 | O24: 86668000
A25: ITBI | B25: 2304606.2 | C25: 2456226.6 | D25: 2165926.7 | E25: 2524697.8 | F25: 4011392.2 | G25: 1973568.7 | H25: 2432226.5 | I25: 5717048.9 | J25: 2886802.7 | K25: 2870888.1 | L25: 2069138.3 | M25: 3608653.3 | N25: =SUM(B25:M25) -> 35021176 | O25: 24225500
A26: IRRF | B26: 303471.17 | C26: 2544589.2 | D26: 2298017.7 | E26: 2704044.1 | F26: 3096051.8 | G26: 3015166.2 | H26: 3374892 | I26: 3442701.3 | J26: 3524968.4 | K26: 3033862.9 | L26: 4865887.9 | M26: 7560531.2 | N26: =SUM(B26:M26) -> 39764184 | O26: 29397509
A27: Outros Impostos, Taxas e Contribuições de Melhoria | B27: 1061835.7 | C27: 1737052.2 | D27: 8816777.7 | E27: 2889648.9 | F27: 2928761.6 | G27: 2455558.6 | H27: 2727599.2 | I27: 2476347.3 | J27: 2436891.3 | K27: 2504447.9 | L27: 2246460.6 | M27: 2695967.3 | N27: =SUM(B27:M27) -> 34977348 | O27: 30470000
A28: Receita de Contribuições | B28: 6308068.2 | C28: 4598573.6 | D28: 5428417.9 | E28: 4999643.9 | F28: 4980521.1 | G28: 5063200.3 | H28: 4998826 | I28: 5133553.4 | J28: 5118633.4 | K28: 5066203 | L28: 5172922.3 | M28: 5741537.7 | N28: =SUM(B28:M28) -> 62610101 | O28: 58798350
A29: Receita Patrimonial | B29: =SUM(B30:B31) -> 2339548.5 | C29: =SUM(C30:C31) -> 2409466.7 | D29: =SUM(D30:D31) -> 2137609 | E29: =SUM(E30:E31) -> 2792320.4 | F29: =SUM(F30:F31) -> 2701869.2 | G29: =SUM(G30:G31) -> 2254176.1 | H29: =SUM(H30:H31) -> 2724821.8 | I29: =SUM(I30:I31) -> 2307317.2 | ... M29: =SUM(M30:M31) -> 1216668.8 | N29: =SUM(B29:M29) -> 26535987 | O29: =SUM(O30:O31) -> 26096598
A30: Rendimentos de Aplicação Financeira | B30: 2259835 | C30: 2198806.8 | D30: 1922134.7 | E30: 2692814.8 | F30: 2606746.3 | G30: 2163702.3 | H30: 2625001.2 | I30: 2199591.5 | J30: 1945315.2 | K30: 2044631.4 | L30: 1295773.4 | M30: 1101173.6 | N30: =SUM(B30:M30) -> 25055526 | O30: 24977598
A31: Outras Receitas Patrimoniais | B31: 79713.51 | C31: 210659.86 | D31: 215474.29 | E31: 99505.58 | F31: 95122.95 | G31: 90473.83 | H31: 99820.59 | I31: 107725.74 | J31: 97022.43 | K31: 108759.31 | L31: 160687.92 | M31: 115495.17 | N31: =SUM(B31:M31) -> 1480461.2 | O31: 1119000
A32: Receita Agropecuária | N32: =SUM(B32:M32) -> 0
A33: Receita Industrial | N33: =SUM(B33:M33) -> 0
A34: Receita de Serviços | B34: 9250063.6 | C34: 9712632.2 | D34: 10234650 | E34: 10063190 | F34: 9997388.6 | G34: 9816527.8 | H34: 11184361 | I34: 10038264 | J34: 9673973.6 | K34: 10546091 | L34: 10652233 | M34: 12327013 | N34: =SUM(B34:M34) -> 1.2349639e+08 | O34: 1.1834781e+08
A35: Transferências Correntes | B35: =SUM(B36:B43) -> 73304984 | C35: =SUM(C36:C43) -> 55487707 | D35: =SUM(D36:D43) -> 50672441 | E35: =SUM(E36:E43) -> 49540087 | F35: =SUM(F36:F43) -> 43041472 | G35: =SUM(G36:G43) -> 40083507 | H35: =SUM(H36:H43) -> 57256474 | I35: =SUM(I36:I43) -> 41254331 | ... M35: =SUM(M36:M43) -> 73169852 | N35: =SUM(B35:M35) -> 6.2111277e+08 | O35: =SUM(O36:O43) -> 5.9684182e+08
A36: Cota-Parte do FPM | B36: 6620280.6 | C36: 7271981.9 | D36: 5444846.2 | E36: 5312046.7 | F36: 6817086.4 | G36: 5369804 | H36: 7343186.8 | I36: 5360025.7 | J36: 4771213.3 | K36: 4392521.5 | L36: 5961280.2 | M36: 10162999 | N36: =SUM(B36:M36) -> 74827272 | O36: 75600000
A37: Cota-Parte do ICMS | B37: 21937977 | C37: 18643626 | D37: 19260289 | E37: 23280688 | F37: 17443218 | G37: 16933165 | H37: 25020714 | I37: 17918274 | J37: 14527561 | K37: 27691080 | L37: 20792992 | M37: 29977694 | N37: =SUM(B37:M37) -> 2.5342728e+08 | O37: 241000000
A38: Cota-Parte do IPVA | B38: 24881390 | C38: 11787314 | D38: 7862756.6 | E38: 2532127.8 | F38: 2478695 | G38: 1941476.2 | H38: 2485266.7 | I38: 2139827.7 | J38: 2303655.5 | K38: 2136198.4 | L38: 1618985.8 | M38: 2697992 | N38: =SUM(B38:M38) -> 64865686 | O38: 61000000
A39: Cota-Parte do ITR | B39: 2870.87 | C39: 2065.62 | D39: 40011.98 | E39: 3832.64 | F39: 6087.48 | G39: 1291.36 | H39: 15053.53 | I39: 1813.2 | J39: 30352.19 | K39: 653111.67 | L39: 18146.88 | M39: 18483.81 | N39: =SUM(B39:M39) -> 793121.23 | O39: 950000
A40: Transferências da LC 87/1996 | B40: 0 | C40: 0 | D40: 0 | E40: 0 | F40: 0 | G40: 0 | H40: 0 | I40: 0 | J40: 0 | K40: 0 | L40: 0 | M40: 0 | N40: =SUM(B40:M40) -> 0 | O40: 1100000
A41: Transferências da LC 61/1989 | B41: 175224.2 | C41: 128167.83 | D41: 140967.14 | E41: 160064.25 | F41: 134672.68 | G41: 146930.42 | H41: 156765.7 | I41: 112373.07 | J41: 160794.49 | K41: 163899.25 | L41: 141906.79 | M41: 174406.01 | N41: =SUM(B41:M41) -> 1796171.8 | O41: 1700000
A42: Transferências do FUNDEB | B42: 13660430 | C42: 10137101 | D42: 9700521 | E42: 10493705 | F42: 8156515.5 | G42: 7741932.8 | H42: 10808578 | I42: 8082300.5 | J42: 6769072.7 | K42: 11934432 | L42: 9153262 | M42: 13263264 | N42: =SUM(B42:M42) -> 1.1990111e+08 | O42: 1.2017259e+08
A43: Outras Transferências Correntes | B43: 6026811.3 | C43: 7517451 | D43: 8223049.2 | E43: 7757623 | F43: 8005197.7 | G43: 7948907.8 | H43: 11426910 | I43: 7639716.5 | J43: 8192007.9 | K43: 7958710.5 | L43: 7930731.4 | M43: 16875014 | N43: =SUM(B43:M43) -> 1.0550213e+08 | O43: 95319232
A44: Outras Receitas Correntes | B44: 1392574.5 | C44: 1299972.7 | D44: 985495.98 | E44: 1129564.2 | F44: 1513083.6 | G44: 2183837 | H44: 1256618.8 | I44: 1425732.6 | J44: 1935945.9 | K44: 1621074.8 | L44: 1563269.1 | M44: 1760430.7 | N44: =SUM(B44:M44) -> 18067600 | O44: 11145900
A45: DEDUÇÕES (II) | B45: =SUM(B46:B48) -> 15146512 | C45: =SUM(C46:C48) -> 10185958 | D45: =SUM(D46:D48) -> 9182975.5 | E45: =SUM(E46:E48) -> 9213498 | F45: =SUM(F46:F48) -> 8370191.2 | G45: =SUM(G46:G48) -> 8351688.1 | H45: =SUM(H46:H48) -> 9423654.9 | I45: =SUM(I46:I48) -> 8151325 | ... M45: =SUM(M46:M48) -> 11858318 | N45: =SUM(B45:M45) -> 1.1630908e+08 | O45: =SUM(O46:O48) -> 109148300
A46: Contrib. do Servidor para o Plano de Previdência | B46: 4208724.9 | C46: 2397742.4 | D46: 2411839 | E46: 2735691.5 | F46: 2763736 | G46: 2814637.9 | H46: 2833173.5 | I46: 2837127.3 | J46: 2840318.6 | K46: 2882730.6 | L46: 2865262.1 | M46: 3332256.7 | N46: =SUM(B46:M46) -> 34923241 | O46: 30998300
...

Sheet RREO-Anexo 04
A2: PREFEITURA MUNICIPAL DE INDAIATUBA
A3: Av. Eng. Fabio R. Barnabe, 2800 - Jd. Esplanada II
A4: C.N.P.J. 44.733.608/0001-09
A5: Telefone: (19) 3834-9000
A6: Tabela 4 - Demonstrativo das Receitas e Despesas Previdenciárias do Regime Próprio de Previdência dos Servidores
A8: PREFEITURA MUNICIPAL DE INDAIATUBA
A9: RELATÓRIO RESUMIDO DA EXECUÇÃO ORÇAMENTÁRIA
A10: DEMONSTRATIVO DAS RECEITAS E DESPESAS PREVIDENCIÁRIAS DO REGIME PRÓPRIO DE PREVIDÊNCIA DOS SERVIDORES
A11: ORÇAMENTO DA SEGURIDADE SOCIAL
A12: Período: 6º Bimestre | B12: =IF(IFERROR(SEARCH("SEMESTRE",A12,1),0)>0,"Semestre",IF(IFERROR(SEARCH("QUADRIMESTRE",A12,1),0)>0,"Quadrimestre",IF(IFERROR(SEARCH("TRIMESTRE",A12,1),0)>0,"Trimestre",IF(IFERROR(SEARCH("BIMESTRE",A12,1),0)>0,"Bimestre","Mês")))) -> Bimestre
A17: RREO - Anexo 4 (LRF, Art. 53, inciso II) | E17: Em Reais
B18: PREVISÃO INICIAL | C18: PREVISÃO ATUALIZADA | D18: RECEITAS REALIZADAS
A19: RECEITAS - PLANO PREVIDENCIÁRIO | D19: =CONCATENATE("No ", B12) -> No Bimestre | E19: =CONCATENATE("Até o ", B12) -> Até o Bimestre
D20: <Exercício> | E20: <Exercício Anterior>
A21: RECEITAS CORRENTES (I) | B21: =B22+B31+B40+B44+B45 -> 87625200 | C21: =C22+C31+C40+C44+C45 -> 87625200 | D21: =D22+D31+D40+D44+D45 -> 2.7577081e+08 | E21: =E22+E31+E40+E44+E45 -> 0
A22: Receita de Contribuições dos Segurados | B22: =B23+B27 -> 30998300 | C22: =C23+C27 -> 30998300 | D22: =D23+D27 -> 34923241 | E22: =E23+E27 -> 0
A23: Pessoal Civil | B23: =SUM(B24:B26) -> 30998300 | C23: =SUM(C24:C26) -> 30998300 | D23: =SUM(D24:D26) -> 34923241 | E23: =SUM(E24:E26) -> 0
A24: Ativo | B24: 30387300 | C24: 30387300 | D24: 33745865 | E24: 0
A25: Inativo | B25: 568000 | C25: 568000 | D25: 1097755.1 | E25: 0
A26: Pensionista | B26: 43000 | C26: 43000 | D26: 79620.49 | E26: 0
A27: Pessoal Militar | B27: =SUM(B28:B30) -> 0 | C27: =SUM(C28:C30) -> 0 | D27: =SUM(D28:D30) -> 0 | E27: =SUM(E28:E30) -> 0
A28: Ativo
A29: Inativo
A30: Pensionista
A31: Receita de Contribuições Patronais | B31: =B32+B36 -> 47207600 | C31: =C32+C36 -> 47207600 | D31: =D32+D36 -> 57021071 | E31: =E32+E36 -> 0
A32: Pessoal Civil | B32: =SUM(B33:B35) -> 47207600 | C32: =SUM(C33:C35) -> 47207600 | D32: =SUM(D33:D35) -> 57021071 | E32: =SUM(E33:E35) -> 0
A33: Ativo | B33: 47207600 | C33: 47207600 | D33: 57021071 | E33: 0
A34: Inativo | E34: 0
A35: Pensionista | E35: 0
A36: Pessoal Militar | B36: =SUM(B37:B39) -> 0 | C36: =SUM(C37:C39) -> 0 | D36: =SUM(D37:D39) -> 0 | E36: =SUM(E37:E39) -> 0
A37: Ativo
A38: Inativo
A39: Pensionista
A40: Receita Patrimonial | B40: =SUM(B41:B43) -> 6400000 | C40: =SUM(C41:C43) -> 6400000 | D40: =SUM(D41:D43) -> 1.8037861e+08 | E40: =SUM(E41:E43) -> 0
A41: Receitas Imobiliárias
A42: Receitas de Valores Mobiliários | B42: 6400000 | C42: 6400000 | D42: 1.8037861e+08 | E42: 0
A43: Outras Receitas Patrimoniais
A44: Receita de Serviços
A45: Outras Receitas Correntes | B45: =SUM(B46:B48) -> 3019300 | C45: =SUM(C46:C48) -> 3019300 | D45: =SUM(D46:D48) -> 3447892.2 | E45: =SUM(E46:E48) -> 0
A46: Compensação Previdenciária do RGPS para o RPPS | B46: 3000000 | C46: 3000000 | D46: 3437075 | E46: 0
...

Sheet RREO-Anexo 06
A2: PREFEITURA MUNICIPAL DE INDAIATUBA
A3: Av. Eng. Fabio R. Barnabe, 2800 - Jd. Esplanada II
A4: C.N.P.J. 44.733.608/0001-09
A5: Telefone: (19) 3834-9000
A6: Tabela 6 - Demonstrativo do Resultado Primário
A8: PREFEITURA MUNICIPAL DE INDAIATUBA
A9: RELATÓRIO RESUMIDO DA EXECUÇÃO ORÇAMENTÁRIA
A10: DEMONSTRATIVO DOS RESULTADOS PRIMÁRIO E NOMINAL - ESTADOS, DISTRITO FEDERAL E MUNICÍPIOS
A11: ORÇAMENTOS FISCAL E DA SEGURIDADE SOCIAL
A12: Período: 6º Bimestre | B12: =IF(IFERROR(SEARCH("SEMESTRE",A12,1),0)>0,"Semestre",IF(IFERROR(SEARCH("QUADRIMESTRE",A12,1),0)>0,"Quadrimestre",IF(IFERROR(SEARCH("TRIMESTRE",A12,1),0)>0,"Trimestre",IF(IFERROR(SEARCH("BIMESTRE",A12,1),0)>0,"Bimestre","Mês")))) -> Bimestre
A17: RREO - ANEXO 6 (LRF, art 53, inciso III) | C17: Em reais
B18: PREVISÃO ATUALIZADA | C18: RECEITAS REALIZADAS
A19: RECEITAS PRIMÁRIAS
C20: =CONCATENATE("Até o ", B12) -> Até o Bimestre
A21: RECEITAS CORRENTES (I) | B21: =B22+B28+B29+B32+B41 -> 1.1034835e+09 | C21: =C22+C28+C29+C32+C41 -> 1.3868847e+09
A22: Impostos, Taxas e Contribuições de Melhoria | B22: =SUM(B23:B27) -> 2.8321601e+08 | C22: =SUM(C23:C27) -> 3.3468502e+08
A23: IPTU | B23: 111775000 | C23: 1.2267513e+08
A24: ISS | B24: 86668000 | C24: 1.0157146e+08
A25: ITBI | B25: 24225500 | C25: 35021176
A26: IRRF | B26: 29397509 | C26: 39764184
A27: Outros Impostos, Taxas e Contribuições de Melhoria | B27: 31150000 | C27: 35653067
A28: Contribuições | B28: 139192400 | C28: 1.5587465e+08
A29: Receita Patrimonial | B29: =SUM(B30:B31) -> 26096598 | C29: =SUM(C30:C31) -> 2.069146e+08
A30: Aplicações Financeiras (II) | B30: 24977598 | C30: 2.0543414e+08
A31: Outras Receitas Patrimoniais | B31: 1119000 | C31: 1480461.2
A32: Transferências Correntes | B32: =SUM(B33:B40) -> 5.2169182e+08 | C32: =SUM(C33:C40) -> 5.4316401e+08
A33: Cota-Parte do FPM | B33: 61600000 | C33: 61054958
A34: Cota-Parte do ICMS | B34: 192800000 | C34: 2.0274182e+08
A35: Cota-Parte do IPVA | B35: 48800000 | C35: 51892548
A36: Cota-Parte do ITR | B36: 760000 | C36: 634497.1
A37: Transferências da LC 87/1996 | B37: 880000 | C37: 0
A38: Transferências da LC nº 61/1989 | B38: 1360000 | C38: 1436937.4
A39: Transferências do FUNDEB | B39: 1.2017259e+08 | C39: 1.1990111e+08
A40: Outras Transferências Correntes | B40: 95319232 | C40: 1.0550213e+08
A41: Demais Receitas Correntes | B41: =SUM(B42:B43) -> 1.3328671e+08 | C41: =SUM(C42:C43) -> 1.462464e+08
A42: Outras Receitas Financeiras (III)
A43: Receitas Correntes Restantes | B43: 1.3328671e+08 | C43: 1.462464e+08
A44: RECEITAS PRIMÁRIAS CORRENTES (IV) = (I - II - III) | B44: =B21-B30-B42 -> 1.0785059e+09 | C44: =C21-C30-C42 -> 1.1814505e+09
A45: RECEITAS DE CAPITAL (V) | B45: =B46+B47+B48+B52+B55 -> 17858428 | C45: =C46+C47+C48+C52+C55 -> 3778557.3
A46: Operações de Crédito (VI) | B46: 15282109 | C46: 448485.81
...

Sheet RREO-Anexo 07
A2: PREFEITURA MUNICIPAL DE INDAIATUBA
A3: Av. Eng. Fabio R. Barnabe, 2800 - Jd. Esplanada II
A4: C.N.P.J. 44.733.608/0001-09
A5: Telefone: (19) 3834-9000
A6: Tabela 7 - Demonstrativo dos Restos a Pagar por Poder e Órgão
A8: PREFEITURA MUNICIPAL DE INDAIATUBA
A9: RELATÓRIO RESUMIDO DA EXECUÇÃO ORÇAMENTÁRIA
A10: DEMONSTRATIVO DOS RESTOS A PAGAR POR PODER E ÓRGÃO
A11: ORÇAMENTOS FISCAL E DA SEGURIDADE SOCIAL
A12: Período: 6º Bimestre | B12: =IF(IFERROR(SEARCH("SEMESTRE",A12,1),0)>0,"Semestre",IF(IFERROR(SEARCH("QUADRIMESTRE",A12,1),0)>0,"Quadrimestre",IF(IFERROR(SEARCH("TRIMESTRE",A12,1),0)>0,"Trimestre",IF(IFERROR(SEARCH("BIMESTRE",A12,1),0)>0,"Bimestre","Mês")))) -> Bimestre
A16: RREO - ANEXO 7 (LRF, art. 53, inciso V) | M16: Em reais
B17: RESTOS A PAGAR PROCESSADOS E NÃO PROCESSADOS LIQUIDADOS EM EXERCÍCIOS ANTERIORES | G17: RESTOS A PAGAR NÃO PROCESSADOS | M17: Saldo Total (a+b)
B18: Inscritos | G18: Inscritos
A19: PODER/ÓRGÃO | B19: Em Exercícios Anteriores | C19: Em 31 de dezembro de <Exercício Anterior> | D19: Pagos | E19: Cancelados | F19: Saldo | G19: Em Exercícios Anteriores | H19: Em 31 de dezembro de <Exercício Anterior> | I19: Liquidados | J19: Pagos | K19: Cancelados | L19: Saldo
F20: (a) | G20: Anteriores | H20: <Exercício | L20: (b)
H21: Anterior>
A22: RESTOS A PAGAR (EXCETO INTRA-ORÇAMENTÁRIOS) (I) | B22: =B23+B24 -> 0 | C22: =C23+C24 -> 13897671 | D22: =D23+D24 -> 13855660 | E22: =E23+E24 -> 42011.29 | F22: =F23+F24 -> -8.9494279e-10 | G22: =G23+G24 -> 2162971 | H22: =H23+H24 -> 67998541 | I22: =I23+I24 -> 60015192 | ... M22: =M23+M24 -> 1867254.4
A23: PODER EXECUTIVO | B23: 0 | C23: 13888403 | D23: 13846392 | E23: 42011.29 | F23: =B23+C23-D23-E23 -> -8.9494279e-10 | G23: 2134386.3 | H23: 66104238 | I23: 58229064 | J23: 58229064 | K23: 8156052.2 | L23: =G23+H23-J23-K23 -> 1853507.7 | M23: =F23+L23 -> 1853507.7
A24: PODER LEGISLATIVO | B24: =SUM(B25:B26) -> 0 | C24: =SUM(C25:C26) -> 9268.54 | D24: =SUM(D25:D26) -> 9268.54 | E24: =SUM(E25:E26) -> 0 | F24: =SUM(F25:F26) -> 0 | G24: =SUM(G25:G26) -> 28584.62 | H24: =SUM(H25:H26) -> 1894303.6 | I24: =SUM(I25:I26) -> 1786127.6 | ... M24: =SUM(M25:M26) -> 13746.66
A25: Câmara Municipal | B25: 0 | C25: 9268.54 | D25: 9268.54 | E25: 0 | F25: =B25+C25-D25-E25 -> 0 | G25: 28584.62 | H25: 1894303.6 | I25: 1786127.6 | J25: 1786127.6 | K25: 123013.92 | L25: =G25+H25-J25-K25 -> 13746.66 | M25: =F25+L25 -> 13746.66
A26: Tribunal de Contas do Município | F26: =B26+C26-D26-E26 -> 0 | L26: =G26+H26-J26-K26 -> 0 | M26: =F26+L26 -> 0
A27: RESTOS A PAGAR (INTRA-ORÇAMENTÁRIOS) (II) | B27: =B39 -> 0 | C27: =C39 -> 11329895 | D27: =D39 -> 11239639 | E27: =E39 -> 90255.07 | F27: =F39 -> 2.910383e-10 | G27: =G39 -> 0 | H27: =H39 -> 570083.47 | I27: =I39 -> 338242.61 | ... M27: =M39 -> 2.910383e-10
A28: TOTAL (III) = (I + II) | B28: =B22+B27 -> 0 | C28: =C22+C27 -> 25227566 | D28: =D22+D27 -> 25095300 | E28: =E22+E27 -> 132266.36 | F28: =F22+F27 -> -6.0390448e-10 | G28: =G22+G27 -> 2162971 | H28: =H22+H27 -> 68568625 | I28: =I22+I27 -> 60353434 | ... M28: =M22+M27 -> 1867254.4
B34: RESTOS A PAGAR PROCESSADOS E NÃO PROCESSADOS LIQUIDADOS EM EXERCÍCIOS ANTERIORES | G34: RESTOS A PAGAR NÃO PROCESSADOS | M34: Saldo Total (a+b)
B35: Inscritos | G35: Inscritos
A36: PODER/ÓRGÃO - INTRA | B36: Em Exercícios Anteriores | C36: Em 31 de dezembro de <Exercício Anterior> | D36: Pagos | E36: Cancelados | F36: Saldo | G36: Em Exercícios Anteriores | H36: Em 31 de dezembro de <Exercício Anterior> | I36: Liquidados | J36: Pagos | K36: Cancelados | L36: Saldo
F37: (a) | G37: Anteriores | H37: <Exercício | L37: (b)
H38: Anterior>
A39: RESTOS A PAGAR (INTRA-ORÇAMENTÁRIOS) (II) | B39: =B40+B41 -> 0 | C39: =C40+C41 -> 11329895 | D39: =D40+D41 -> 11239639 | E39: =E40+E41 -> 90255.07 | F39: =F40+F41 -> 2.910383e-10 | G39: =G40+G41 -> 0 | H39: =H40+H41 -> 570083.47 | I39: =I40+I41 -> 338242.61 | ... M39: =M40+M41 -> 2.910383e-10
A40: PODER EXECUTIVO | B40: 0 | C40: 11329895 | D40: 11239639 | E40: 90255.07 | F40: =B40+C40-D40-E40 -> 2.910383e-10 | G40: 0 | H40: 555270.57 | I40: 323429.71 | J40: 323429.71 | K40: 231840.86 | L40: =G40+H40-J40-K40 -> 0 | M40: =F40+L40 -> 2.910383e-10
A41: PODER LEGISLATIVO | B41: =SUM(B42:B43) -> 0 | C41: =SUM(C42:C43) -> 0 | D41: =SUM(D42:D43) -> 0 | E41: =SUM(E42:E43) -> 0 | F41: =SUM(F42:F43) -> 0 | G41: =SUM(G42:G43) -> 0 | H41: =SUM(H42:H43) -> 14812.9 | I41: =SUM(I42:I43) -> 14812.9 | ... M41: =SUM(M42:M43) -> 0
A42: Câmara Municipal | B42: 0 | C42: 0 | D42: 0 | E42: 0 | F42: =B42+C42-D42-E42 -> 0 | G42: 0 | H42: 14812.9 | I42: 14812.9 | J42: 14812.9 | K42: 0 | L42: =G42+H42-J42-K42 -> 0 | M42: =F42+L42 -> 0
A43: Tribunal de Contas do Município | F43: =B43+C43-D43-E43 -> 0 | L43: =G43+H43-J43-K43 -> 0 | M43: =F43+L43 -> 0
A44: FONTE: Sistema CECAM, Unidade Responsável: CONTABILIDADE. Emissão: 24/01/2020, às 14:07:49. Assinado Digitalmente no dia 24/01/2020, às 14:07:49.
A48: NILSON ALCIDES GASPAR | E48: MARIANA ALVES RIZATO | J48: LUIS HENRIQUE BORTOLETTO
A49: PREFEITO MUNICIPAL | E49: CONTADORA | J49: COORDENADOR DE SERVIÇOS DE CONTABILIDADE
E50: CRC - SP 321123/O-4 | J50: CRC-SP 289944/O-3

Sheet RREO-Anexo 08
A2: PREFEITURA MUNICIPAL DE INDAIATUBA
A3: Av. Eng. Fabio R. Barnabe, 2800 - Jd. Esplanada II
A4: C.N.P.J. 44.733.608/0001-09
A5: Telefone: (19) 3834-9000
A6: Tabela 8.2 - Demonstrativo das Receitas e Despesas com Manutenção e Desenvolvimento do Ensino - MDE - MUNICÍPIOS
A8: PREFEITURA MUNICIPAL DE INDAIATUBA
A9: RELATÓRIO RESUMIDO DA EXECUÇÃO ORÇAMENTÁRIA
A10: DEMONSTRATIVO DAS RECEITAS E DESPESAS COM MANUTENÇÃO E DESENVOLVIMENTO DO ENSINO - MDE
A11: ORÇAMENTOS FISCAL E DA SEGURIDADE SOCIAL
A12: Período: 6º Bimestre | B12: =IF(IFERROR(SEARCH("SEMESTRE",A12,1),0)>0,"Semestre",IF(IFERROR(SEARCH("QUADRIMESTRE",A12,1),0)>0,"Quadrimestre",IF(IFERROR(SEARCH("TRIMESTRE",A12,1),0)>0,"Trimestre",IF(IFERROR(SEARCH("BIMESTRE",A12,1),0)>0,"Bimestre","Mês")))) -> Bimestre
A16: RREO - ANEXO 8 (LDB, art. 72) | E16: 1
A17: RECEITAS DO ENSINO
B18: PREVISÃO | C18: PREVISÃO | D18: RECEITAS REALIZADAS
A19: RECEITA RESULTANTE DE IMPOSTOS (caput do art. 212 da Constituição) | B19: INICIAL | C19: ATUALIZADA | D19: =CONCATENATE("Até o ", B12) -> Até o Bimestre | E19: %
C20: (a) | D20: (b) | E20: (c) = (b/a)x100
A21: 1- RECEITA DE IMPOSTOS | B21: =B22+B25+B28+B31+B32 -> 251018500 | C21: =C22+C25+C28+C31+C32 -> 2.5206601e+08 | D21: =D22+D25+D28+D31+D32 -> 2.9903195e+08 | E21: =IF(C21>0,D21/C21,0)*100 -> 118.6324
A22: 1.1- Receita Resultante do Imposto sobre a Propriedade Predial e Territorial Urbana – IPTU | B22: =SUM(B23:B24) -> 111775000 | C22: =SUM(C23:C24) -> 111775000 | D22: =SUM(D23:D24) -> 1.2267513e+08 | E22: =IF(C22>0,D22/C22,0)*100 -> 109.75185
A23: 1.1.1- IPTU | B23: 100000000 | C23: 100000000 | D23: 1.0464097e+08 | E23: =IF(C23>0,D23/C23,0)*100 -> 104.64097
A24: 1.1.2- Multas, Juros de Mora, Dívida Ativa e Outros Encargos do IPTU | B24: 11775000 | C24: 11775000 | D24: 18034166 | E24: =IF(C24>0,D24/C24,0)*100 -> 153.1564
A25: 1.2- Receita Resultante do Imposto sobre Transmissão Inter Vivos – ITBI | B25: =SUM(B26:B27) -> 24225500 | C25: =SUM(C26:C27) -> 24225500 | D25: =SUM(D26:D27) -> 35021176 | E25: =IF(C25>0,D25/C25,0)*100 -> 144.56327
A26: 1.2.1- ITBI | B26: 24000000 | C26: 24000000 | D26: 34603337 | E26: =IF(C26>0,D26/C26,0)*100 -> 144.18057
A27: 1.2.2- Multas, Juros de Mora, Dívida Ativa e Outros Encargos do ITBI | B27: 225500 | C27: 225500 | D27: 417838.83 | E27: =IF(C27>0,D27/C27,0)*100 -> 185.29438
A28: 1.3- Receita Resultante do Imposto sobre Serviços de Qualquer Natureza – ISS | B28: =SUM(B29:B30) -> 86668000 | C28: =SUM(C29:C30) -> 86668000 | D28: =SUM(D29:D30) -> 1.0157146e+08 | E28: =IF(C28>0,D28/C28,0)*100 -> 117.19603
A29: 1.3.1- ISS | B29: 82880000 | C29: 82880000 | D29: 95996951 | E29: =IF(C29>0,D29/C29,0)*100 -> 115.82644
A30: 1.3.2- Multas, Juros de Mora, Dívida Ativa e Outros Encargos do ISS | B30: 3788000 | C30: 3788000 | D30: 5574508 | E30: =IF(C30>0,D30/C30,0)*100 -> 147.1623
A31: 1.4- Receita Resultante do Imposto de Renda Retido na Fonte – IRRF | B31: 28350000 | C31: 29397509 | D31: 39764184 | E31: =IF(C31>0,D31/C31,0)*100 -> 135.26379
A32: 1.5- Receita Resultante do Imposto Territorial Rural – ITR (CF, art. 153, §4º, inciso III) | B32: =SUM(B33:B34) -> 0 | C32: =SUM(C33:C34) -> 0 | D32: =SUM(D33:D34) -> 0 | E32: =IF(C32>0,D32/C32,0)*100 -> 0
A33: 1.5.1- ITR | E33: =IF(C33>0,D33/C33,0)*100 -> 0
A34: 1.5.2- Multas, Juros de Mora, Dívida Ativa e Outros Encargos do ITR | E34: =IF(C34>0,D34/C34,0)*100 -> 0
A35: 2- RECEITA DE TRANSFERÊNCIAS CONSTITUCIONAIS E LEGAIS | B35: =B36+B40+B41+B42+B43+B44+B45 -> 381350000 | C35: =C36+C40+C41+C42+C43+C44+C45 -> 381350000 | D35: =D36+D40+D41+D42+D43+D44+D45 -> 3.9570953e+08 | E35: =IF(C35>0,D35/C35,0)*100 -> 103.76545
A36: 2.1- Cota-Parte FPM | B36: =SUM(B37:B39) -> 75600000 | C36: =SUM(C37:C39) -> 75600000 | D36: =SUM(D37:D39) -> 74827272 | E36: =IF(C36>0,D36/C36,0)*100 -> 98.977873
A37: 2.1.1- Parcela referente à CF, art. 159, I, alínea b | B37: 70000000 | C37: 70000000 | D37: 68861571 | E37: =IF(C37>0,D37/C37,0)*100 -> 98.373674
A38: 2.1.2- Parcela referente à CF, art. 159, I, alínea d | B38: 2800000 | C38: 2800000 | D38: 3038988.5 | E38: =IF(C38>0,D38/C38,0)*100 -> 108.5353
A39: 2.1.3- Parcela referente à CF, art. 159, I, alínea e | B39: 2800000 | C39: 2800000 | D39: 2926712.1 | E39: =IF(C39>0,D39/C39,0)*100 -> 104.52543
A40: 2.2- Cota-Parte ICMS | B40: 241000000 | C40: 241000000 | D40: 2.5342728e+08 | E40: =IF(C40>0,D40/C40,0)*100 -> 105.15655
A41: 2.3- ICMS-Desoneração – L.C. nº87/1996 | B41: 1100000 | C41: 1100000 | D41: 0 | E41: =IF(C41>0,D41/C41,0)*100 -> 0
A42: 2.4- Cota-Parte IPI-Exportação | B42: 1700000 | C42: 1700000 | D42: 1796171.8 | E42: =IF(C42>0,D42/C42,0)*100 -> 105.65717
A43: 2.5- Cota-Parte ITR | B43: 950000 | C43: 950000 | D43: 793121.23 | E43: =IF(C43>0,D43/C43,0)*100 -> 83.486445
A44: 2.6- Cota-Parte IPVA | B44: 61000000 | C44: 61000000 | D44: 64865686 | E44: =IF(C44>0,D44/C44,0)*100 -> 106.33719
A45: 2.7- Cota-Parte IOF-Ouro | E45: =IF(C45>0,D45/C45,0)*100 -> 0
...

Sheet RREO-Anexo 09
A2: PREFEITURA MUNICIPAL DE INDAIATUBA
A3: Av. Eng. Fabio R. Barnabe, 2800 - Jd. Esplanada II
A4: C.N.P.J. 44.733.608/0001-09
A5: Telefone: (19) 3834-9000
A6: Tabela 9 – Demonstrativo das Receitas de Operações de Crédito e Despesas de Capital
A8: PREFEITURA MUNICIPAL DE INDAIATUBA
A9: RELATÓRIO RESUMIDO DA EXECUÇÃO ORÇAMENTÁRIA
A10: DEMONSTRATIVO DAS RECEITAS DE OPERAÇÕES DE CRÉDITO E DESPESAS DE CAPITAL
A11: ORÇAMENTOS FISCAL E DA SEGURIDADE SOCIAL
A12: Período: 6º Bimestre | B12: =IF(IFERROR(SEARCH("SEMESTRE",A12,1),0)>0,"Semestre",IF(IFERROR(SEARCH("QUADRIMESTRE",A12,1),0)>0,"Quadrimestre",IF(IFERROR(SEARCH("TRIMESTRE",A12,1),0)>0,"Trimestre",IF(IFERROR(SEARCH("BIMESTRE",A12,1),0)>0,"Bimestre","Mês")))) -> Bimestre
A16: RREO – ANEXO 9 (LRF, art.53, § 1º, inciso I) | D16: Em Reais
A17: RECEITAS | B17: PREVISÃO ATUALIZADA | C17: RECEITAS REALIZADAS | D17: SALDO NÃO REALIZADO
B18: (a) | C18: (b) | D18: (c) = (a – b)
A19: RECEITAS DE OPERAÇÕES DE CRÉDITO1 (I) | B19: 15282109 | C19: 448485.81 | D19: =B19-C19 -> 14833623
B21: DOTAÇÃO | C21: DESPESAS | D21: SALDO NÃO EXECUTADO
A22: DESPESAS | B22: ATUALIZADA | C22: EMPENHADAS
B23: (d) | C23: (e) | D23: (f) = (d – e)
A24: DESPESAS DE CAPITAL | B24: =B25+B26+B27 -> 1.9910236e+08 | C24: =C25+C26+C27 -> 1.4988313e+08 | D24: =B24-C24 -> 49219233
A25: Investimentos | B25: 1.8903376e+08 | C25: 1.4253791e+08 | D25: =B25-C25 -> 46495853
A26: Inversões Financeiras | D26: =B26-C26 -> 0
A27: Amortização da Dívida | B27: 10068600 | C27: 7345220.1 | D27: =B27-C27 -> 2723380
A28: (-) Incentivos Fiscais a Contribuinte | D28: =B28-C28 -> 0
A29: (-) Incentivos Fiscais a Contribuinte por Instituições Financeiras | D29: =B29-C29 -> 0
A30: DESPESA DE CAPITAL LÍQUIDA (II) | B30: =B24-B28-B29 -> 1.9910236e+08 | C30: =C24-C28-C29 -> 1.4988313e+08 | D30: =D24-D28-D29 -> 49219233
A31: RESULTADO PARA APURAÇÃO DA | B31: =B19-B30 -> -1.8382025e+08 | C31: =C19-C30 -> -1.4943464e+08 | D31: =D30-D19 -> 34385610
A32: REGRA DE OURO (III) = (I – II)
A33: FONTE: Sistema CECAM, Unidade Responsável: CONTABILIDADE. Emissão: 24/01/2020, às 14:09:55. Assinado Digitalmente no dia 24/01/2020, às 14:09:55.
A34: Notas:
A35: 1 Operações de Crédito descritas na CF, art. 167, inciso III
A42: NILSON ALCIDES GASPAR | C42: MARIANA ALVES RIZATO | E42: LUIS HENRIQUE BORTOLETTO
A43: PREFEITO MUNICIPAL | C43: CONTADORA | E43: COORDENADOR DE SERVIÇOS DE CONTABILIDADE
C44: CRC - SP3211/23/O-4 | E44: CRC-SP 289944/O-3

Sheet RREO-Anexo 10
A2: PREFEITURA MUNICIPAL DE INDAIATUBA
A3: Av. Eng. Fabio R. Barnabe, 2800 - Jd. Esplanada II
A4: C.N.P.J. 44.733.608/0001-09
A5: Telefone: (19) 3834-9000
A6: Tabela 10.1 - Demonstrativo da Projeção Atuarial do Regime Próprio de Previdência dos Servidores
A8: PREFEITURA MUNICIPAL DE INDAIATUBA
A9: RELATÓRIO RESUMIDO DA EXECUÇÃO ORÇAMENTÁRIA
A10: DEMONSTRATIVO DA PROJEÇÃO ATUARIAL DO REGIME PRÓPRIO DE PREVIDÊNCIA DOS SERVIDORES
A11: ORÇAMENTO DA SEGURIDADE SOCIAL
A12: Período: 6º Bimestre
A16: RREO – ANEXO 10 (LRF, art. 53, § 1º, inciso II) | E16: Em Reais
A17: PLANO PREVIDÊNCIARIO
A18: EXERCÍCIO | B18: RECEITAS | C18: DESPESAS | D18: RESULTADO | E18: SALDO FINANCEIRO
B19: PREVIDENCIÁRIAS | C19: PREVIDENCIÁRIAS | D19: PREVIDENCIÁRIO | E19: DO EXERCÍCIO
B20: (a) | C20: (b) | D20: (c) = (a - b) | E20: (d) = (“d” exerc. Anterior) + (c)
A21: 2018 | D21: 0 | E21: 1.2267827e+09
A22: 2019 | B22: 1.4868538e+08 | C22: 63279342 | D22: =SUM(B22-C22) -> 85406035 | E22: =SUM(E21+D22) -> 1.3121888e+09
A23: 2020 | B23: 1.5285361e+08 | C23: 70291324 | D23: =SUM(B23-C23) -> 82562283 | E23: =SUM(E22+D23) -> 1.3947511e+09
A24: 2021 | B24: 1.5657827e+08 | C24: 78387896 | D24: =SUM(B24-C24) -> 78190372 | E24: =SUM(E23+D24) -> 1.4729414e+09
A25: 2022 | B25: 1.6012387e+08 | C25: 86425141 | D25: =SUM(B25-C25) -> 73698727 | E25: =SUM(E24+D25) -> 1.5466401e+09
A26: 2023 | B26: 1.6300664e+08 | C26: 94793239 | D26: =SUM(B26-C26) -> 68213400 | E26: =SUM(E25+D26) -> 1.6148535e+09
A27: 2024 | B27: 1.656753e+08 | C27: 1.0243327e+08 | D27: =SUM(B27-C27) -> 63242025 | E27: =SUM(E26+D27) -> 1.6780956e+09
A28: 2025 | B28: 1.6757115e+08 | C28: 1.113937e+08 | D28: =SUM(B28-C28) -> 56177453 | E28: =SUM(E27+D28) -> 1.734273e+09
A29: 2026 | B29: 1.6898103e+08 | C29: 1.2076156e+08 | D29: =SUM(B29-C29) -> 48219467 | E29: =SUM(E28+D29) -> 1.7824925e+09
A30: 2027 | B30: 1.6953876e+08 | C30: 1.3043319e+08 | D30: =SUM(B30-C30) -> 39105571 | E30: =SUM(E29+D30) -> 1.8215981e+09
A31: 2028 | B31: 1.6968949e+08 | C31: 1.4014806e+08 | D31: =SUM(B31-C31) -> 29541429 | E31: =SUM(E30+D31) -> 1.8511395e+09
A32: 2029 | B32: 1.6883255e+08 | C32: 1.4964991e+08 | D32: =SUM(B32-C32) -> 19182647 | E32: =SUM(E31+D32) -> 1.8703221e+09
A33: 2030 | B33: 1.6798585e+08 | C33: 1.5584988e+08 | D33: =SUM(B33-C33) -> 12135966 | E33: =SUM(E32+D33) -> 1.8824581e+09
... A96: 2093 | B96: 59901972 | C96: 216055.13 | D96: =SUM(B96-C96) -> 59685917 | E96: =SUM(E95+D96) -> 1.0579236e+09
A98: FONTE: Sistema <sistema>, Unidade Responsável: <Unidade Responsável>. Emissão: <dd/mm/aaaa>, às <hh:mm:ss>. Assinado Digitalmente no dia <dd/mm/aaaa>, às <hh:mm:ss>.
A99: Notas: 1 Projeção atuarial elaborada em <DATA DA AVALIAÇÃO> e oficialmente enviada para o Ministério da Previdência Social – MPS.
A100: 2 Este Demonstrativo utiliza as seguintes hipóteses: <HIPÓTESE>: <VALOR>
A104: NILSON ALCIDES GASPAR | C104: MARIANA ALVES RIZATO | D104: LUIS HENRIQUE BORTOLETTO
A105: PREFEITO MUNICIPAL | C105: CONTADORA | D105: COORDENADOR DE SERVIÇOS DE CONTABILIDADE
C106: CRC - SP 321123/O-4 | D106: CRC-SP 289944/O-3
A110: PLANO FINANCEIRO
A111: EXERCÍCIO | B111: RECEITAS | C111: DESPESAS | D111: RESULTADO | E111: SALDO FINANCEIRO
B112: PREVIDENCIÁRIAS | C112: PREVIDENCIÁRIAS | D112: PREVIDENCIÁRIO | E112: DO EXERCÍCIO
B113: (a) | C113: (b) | D113: (c) = (a - b) | E113: (d) = (“d” exerc. Anterior) + (c)
A189: =A98 -> FONTE: Sistema <sistema>, Unidade Responsável: <Unidade Responsável>. Emissão: <dd/mm/aaaa>, às <hh:mm:ss>. Assinado Digitalmente no dia <dd/mm/aaaa>, às <hh:mm:ss>.
...

Sheet RREO-Anexo 11
A2: PREFEITURA MUNICIPAL DE INDAIATUBA
A3: Av. Eng. Fabio R. Barnabe, 2800 - Jd. Esplanada II
A4: C.N.P.J. 44.733.608/0001-09
A5: Telefone: (19) 3834-9000
A6: Tabela 11 - Demonstrativo da Receita de Alienação de Ativos e Aplicação dos Recursos
A8: PREFEITURA MUNICIPAL DE INDAIATUBA
A9: RELATÓRIO RESUMIDO DA EXECUÇÃO ORÇAMENTÁRIA
A10: DEMONSTRATIVO DA RECEITA DE ALIENAÇÃO DE ATIVOS E APLICAÇÃO DOS RECURSOS
A11: ORÇAMENTOS FISCAL E DA SEGURIDADE SOCIAL
A12: Período: 6º Bimestre | B12: =IF(IFERROR(SEARCH("SEMESTRE",A12,1),0)>0,"Semestre",IF(IFERROR(SEARCH("QUADRIMESTRE",A12,1),0)>0,"Quadrimestre",IF(IFERROR(SEARCH("TRIMESTRE",A12,1),0)>0,"Trimestre",IF(IFERROR(SEARCH("BIMESTRE",A12,1),0)>0,"Bimestre","Mês")))) -> Bimestre
A16: RREO – ANEXO 11 (LRF, art. 53, § 1º, inciso III ) | D16: Em Reais
A17: RECEITAS | B17: PREVISÃO ATUALIZADA | C17: RECEITAS REALIZADAS | D17: SALDO
B18: (a) | C18: (b) | D18: (c) = (a-b)
A19: RECEITAS DE ALIENAÇÃO DE ATIVOS (I) | B19: =B20+B21+B22+B23 -> 20100 | C19: =C20+C21+C22+C23 -> 1930005.6 | D19: =B19-C19 -> -1909905.6
A20: Receita de Alienação de Bens Móveis | D20: =B20-C20 -> 0
A21: Receita de Alienação de Bens Imóveis | B21: 20000 | C21: 1926805.5 | D21: =B21-C21 -> -1906805.5
A22: Receita de Alienação de Bens Intangiveis | B22: 0 | D22: =B22-C22 -> 0
A23: Receita de Rendimento de Aplicações Financeiras | B23: 100 | C23: 3200.06 | D23: =B23-C23 -> -3100.06
B25: DOTAÇÃO ATUALIZADA | C25: DESPESAS | D25: DESPESAS | E25: DESPESAS (e) | F25: DESPESAS INSCRITAS EM RESTOS A PAGAR NÃO PROCESSADOS | G25: PAGAMENTO | H25: SALDO
A26: DESPESAS | C26: EMPENHADAS | D26: LIQUIDADAS | E26: PAGAS | G26: DE RESTOS A PAGAR
B27: (d) | C27: (e) | E27: (f) | G27: (g) | H27: (h) = (d-e)
A28: APLICAÇÃO DOS RECURSOS DA ALIENAÇÃO DE ATIVOS (II) | B28: =B29+B33 -> 129697.13 | C28: =C29+C33 -> 109597.13 | D28: =D29+D33 -> 109597.13 | E28: =E29+E33 -> 109597.13 | F28: =F29+F33 -> 0 | G28: =G29+G33 -> 0 | H28: =B28-E28 -> 20100
A29: Despesas de Capital | B29: =B30+B31+B32 -> 129697.13 | C29: =C30+C31+C32 -> 109597.13 | D29: =D30+D31+D32 -> 109597.13 | E29: =E30+E31+E32 -> 109597.13 | F29: =F30+F31+F32 -> 0 | G29: =G30+G31+G32 -> 0 | H29: =B29-C29 -> 20100
A30: Investimentos | H30: =B30-C30 -> 0
A31: Inversões Financeiras | H31: =B31-C31 -> 0
A32: Amortização da Dívida | B32: 129697.13 | C32: 109597.13 | D32: 109597.13 | E32: 109597.13 | F32: 0 | G32: 0 | H32: =B32-C32 -> 20100
A33: Despesas Correntes dos Regimes de Previdência | B33: =B34 -> 0 | C33: =C34 -> 0 | D33: =D34 -> 0 | E33: =E34 -> 0 | F33: =F34 -> 0 | G33: =G34 -> 0 | H33: =B33-C33 -> 0
A34: Regime Próprio dos Servidores Públicos | H34: =B34-C34 -> 0
A36: SALDO FINANCEIRO A APLICAR | B36: <EXERCÍCIO ANTERIOR> | C36: <EXERCÍCIO> | D36: SALDO ATUAL
B37: (i) | C37: (j) = (Ib – (IIf+ IIg)) | D37: (k) = (IIIi + IIIj)
A38: VALOR (III) | B38: 109597.13 | C38: =C19-(E28+G28) -> 1820408.5 | D38: =B38+C38 -> 1930005.6
A39: FONTE: Sistema CECAM, Unidade Responsável: CONTABILIDADE. Emissão: 24/01/2020, às 14:10:07. Assinado Digitalmente no dia 24/01/2020, às 14:10:07.
A45: NILSON ALCIDES GASPAR | C45: MARIANA ALVES RIZATO | F45: LUIS HENRIQUE BORTOLETTO
A46: PREFEITO MUNICIPAL | C46: CONTADORA | F46: COORDENADOR DE SERVIÇOS DE CONTABILIDADE
D47: CRC - SP3211/23/O-4 | F47: CRC-SP 289944/O-3

Sheet RREO-Anexo 12
A2: PREFEITURA MUNICIPAL DE INDAIATUBA
A3: Av. Eng. Fabio R. Barnabe, 2800 - Jd. Esplanada II
A4: C.N.P.J. 44.733.608/0001-09
A5: Telefone: (19) 3834-9000
A6: Tabela 12.2 - Demonstrativo das Despesas com Saúde - Municípios
A8: PREFEITURA MUNICIPAL DE INDAIATUBA
A9: RELATÓRIO RESUMIDO DA EXECUÇÃO ORÇAMENTÁRIA
A10: DEMONSTRATIVO DAS RECEITAS E DESPESAS COM AÇÕES E SERVIÇOS PÚBLICOS DE SAÚDE
A11: ORÇAMENTOS FISCAL E DA SEGURIDADE SOCIAL
A12: Período: 6º Bimestre | B12: =IF(IFERROR(SEARCH("SEMESTRE",A12,1),0)>0,"Semestre",IF(IFERROR(SEARCH("QUADRIMESTRE",A12,1),0)>0,"Quadrimestre",IF(IFERROR(SEARCH("TRIMESTRE",A12,1),0)>0,"Trimestre",IF(IFERROR(SEARCH("BIMESTRE",A12,1),0)>0,"Bimestre","Mês")))) -> Bimestre
A16: RREO – ANEXO 12 (LC 141/2012, art. 35) | E16: 1
B17: PREVISÃO | C17: PREVISÃO | D17: RECEITAS REALIZADAS
A18: RECEITAS PARA APURAÇÃO DA APLICAÇÃO EM AÇÕES E SERVIÇOS PÚBLICOS DE SAÚDE | B18: INICIAL | C18: ATUALIZADA | D18: =CONCATENATE("Até o ", B12) -> Até o Bimestre | E18: %
C19: (a) | D19: (b) | E19: (b/a) x 100
A20: RECEITA DE IMPOSTOS LÍQUIDA (I) | B20: =SUM(B21:B28) -> 251018500 | C20: =SUM(C21:C28) -> 2.5206601e+08 | D20: =SUM(D21:D28) -> 2.9903195e+08 | E20: =IF(C20>0,D20/C20*100,0) -> 118.6324
A21: Imposto Predial e Territorial Urbano - IPTU | B21: 100000000 | C21: 100000000 | D21: 1.0464097e+08 | E21: =IF(C21>0,D21/C21*100,0) -> 104.64097
A22: Imposto sobre Transmissão de Bens Intervivos - ITBI | B22: 24000000 | C22: 24000000 | D22: 34603337 | E22: =IF(C22>0,D22/C22*100,0) -> 144.18057
A23: Imposto sobre Serviços de Qualquer Natureza - ISS | B23: 82880000 | C23: 82880000 | D23: 95996951 | E23: =IF(C23>0,D23/C23*100,0) -> 115.82644
A24: Imposto de Renda Retido na Fonte - IRRF | B24: 28350000 | C24: 29397509 | D24: 39764184 | E24: =IF(C24>0,D24/C24*100,0) -> 135.26379
A25: Imposto Territorial Rural - ITR | E25: =IF(C25>0,D25/C25*100,0) -> 0
A26: Multas, Juros de Mora e Outros Encargos dos Impostos | B26: 1780000 | C26: 1780000 | D26: 2297648.8 | E26: =IF(C26>0,D26/C26*100,0) -> 129.0814
A27: Dívida Ativa dos Impostos | B27: 10795000 | C27: 10795000 | D27: 15777027 | E27: =IF(C27>0,D27/C27*100,0) -> 146.15124
A28: Multas, Juros de Mora e Outros Encargos da Dívida Ativa | B28: 3213500 | C28: 3213500 | D28: 5951837.9 | E28: =IF(C28>0,D28/C28*100,0) -> 185.21357
A29: RECEITA DE TRANSFERÊNCIAS CONSTITUCIONAIS E LEGAIS (II) | B29: =SUM(B30:B35) -> 375750000 | C29: =SUM(C30:C35) -> 375750000 | D29: =SUM(D30:D35) -> 389743828 | E29: =IF(C29>0,D29/C29*100,0) -> 103.72424
A30: Cota-Parte FPM | B30: 70000000 | C30: 70000000 | D30: 68861571 | E30: =IF(C30>0,D30/C30*100,0) -> 98.373674
A31: Cota-Parte ITR | B31: 950000 | C31: 950000 | D31: 793121.23 | E31: =IF(C31>0,D31/C31*100,0) -> 83.486445
A32: Cota-Parte IPVA | B32: 61000000 | C32: 61000000 | D32: 64865686 | E32: =IF(C32>0,D32/C32*100,0) -> 106.33719
A33: Cota-Parte ICMS | B33: 241000000 | C33: 241000000 | D33: 2.5342728e+08 | E33: =IF(C33>0,D33/C33*100,0) -> 105.15655
A34: Cota-Parte IPI-Exportação | B34: 1700000 | C34: 1700000 | D34: 1796171.8 | E34: =IF(C34>0,D34/C34*100,0) -> 105.65717
A35: Compensações Financeiras Provenientes de Impostos e Transferências Constitucionais | B35: =B36+B37 -> 1100000 | C35: =C36+C37 -> 1100000 | D35: =D36+D37 -> 0 | E35: =IF(C35>0,D35/C35*100,0) -> 0
A36: Desoneração ICMS (LC 87/96) | B36: 1100000 | C36: 1100000 | D36: 0 | E36: =IF(C36>0,D36/C36*100,0) -> 0
A37: Outras | E37: =IF(C37>0,D37/C37*100,0) -> 0
A38: TOTAL DAS RECEITAS PARA APURAÇÃO DA APLICAÇÃO EM AÇÕES E SERVIÇOS PÚBLICOS DE SAÚDE (III) = I + II | B38: =B20+B29 -> 626768500 | C38: =C20+C29 -> 6.2781601e+08 | D38: =D20+D29 -> 6.8877578e+08 | E38: =IF(C38>0,D38/C38*100,0) -> 109.70981
A40: RECEITAS ADICIONAIS PARA FINANCIAMENTO DA SAÚDE | B40: PREVISÃO | C40: PREVISÃO | D40: RECEITAS REALIZADAS
B41: INICIAL | C41: ATUALIZADA | D41: =CONCATENATE("Até o ", B12) -> Até o Bimestre | E41: %
C42: (c) | D42: (d) | E42: (d/c) x 100
A43: TRANSFERÊNCIA DE RECURSOS DO SISTEMA ÚNICO DE SAÚDE-SUS | B43: =SUM(B44:B47) -> 49537000 | C43: =SUM(C44:C47) -> 50999200 | D43: =SUM(D44:D47) -> 53059508 | E43: =IF(C43>0,D43/C43*100,0) -> 104.03988
A44: Provenientes da União | B44: 48714000 | C44: 49608818 | D44: 51277363 | E44: =IF(C44>0,D44/C44*100,0) -> 103.3634
A45: Provenientes dos Estados | B45: 823000 | C45: 1390382.6 | D45: 1782145 | E45: =IF(C45>0,D45/C45*100,0) -> 128.17659
A46: Provenientes de Outros Municípios | E46: =IF(C46>0,D46/C46*100,0) -> 0
...

Sheet RREO-Anexo 13
A2: PREFEITURA MUNICIPAL DE INDAIATUBA
A3: Av. Eng. Fabio R. Barnabe, 2800 - Jd. Esplanada II
A4: C.N.P.J. 44.733.608/0001-09
A5: Telefone: (19) 3834-9000
A6: Tabela 13 - Demonstrativo das Parcerias Público Privadas
A8: PREFEITURA MUNICIPAL DE INDAIATUBA
A9: RELATÓRIO RESUMIDO DA EXECUÇÃO ORÇAMENTÁRIA
A10: DEMONSTRATIVO DAS PARCERIAS PÚBLICO-PRIVADAS
A11: ORÇAMENTOS FISCAL E DA SEGURIDADE SOCIAL
A12: Período: 6º Bimestre | B12: =IF(IFERROR(SEARCH("SEMESTRE",A12,1),0)>0,"Semestre",IF(IFERROR(SEARCH("QUADRIMESTRE",A12,1),0)>0,"Quadrimestre",IF(IFERROR(SEARCH("TRIMESTRE",A12,1),0)>0,"Trimestre",IF(IFERROR(SEARCH("BIMESTRE",A12,1),0)>0,"Bimestre","Mês")))) -> Bimestre
A16: RREO - Anexo 13 (Lei nº 11.079, de 30.12.2004, arts. 22, 25 e 28) | D16: Em reais
A17: ESPECIFICAÇÃO | B17: SALDO | C17: REGISTROS EFETUADOS EM <EXERCÍCIO>
B18: DO EXERCÍCIO | C18: =CONCATENATE("No ", B12) -> No Bimestre | D18: =CONCATENATE("Até o ", B12) -> Até o Bimestre
B19: ANTERIOR
B20: (a) | D20: (b)
A21: TOTAL DE ATIVOS | B21: =B22 -> 0 | C21: =C22 -> 0 | D21: =D22 -> 0
A22: Ativos Constituídos pela SPE
A23: TOTAL DE PASSIVOS | B23: =SUM(B24:B26) -> 0 | C23: =SUM(C24:C26) -> 0 | D23: =SUM(D24:D26) -> 0
A24: Obrigações decorrentes de Ativos Constituídos pela SPE
A25: Provisões de PPP
A26: Outros Passivos
A27: ATOS POTENCIAIS PASSIVOS | B27: =SUM(B28:B31) -> 0 | C27: =SUM(C28:C31) -> 0 | D27: =SUM(D28:D31) -> 0
A28: Obrigações Contratuais
A29: Riscos não Provisionados
A30: Garantias Concedidas
A31: Outros Passivos Contingentes
B41: EXERCÍCIO | C41: EXERCÍCIO | D41: <EC + 1> | E41: <EC + 2> | F41: <EC + 3> | G41: <EC + 4> | H41: <EC + 5> | I41: <EC + 6> | J41: <EC + 7> | K41: <EC + 8> | L41: <EC + 9>
A42: DESPESAS DE PPP | B42: ANTERIOR | C42: CORRENTE
C43: (EC)
A44: Do Ente Federado, exceto estatais não dependentes (I)
A49: Das Estatais Não-Dependentes
A54: TOTAL DAS DESPESAS
A55: PPP A CONTRATAR (II)
A56: RECEITA CORRENTE LÍQUIDA (RCL) (III)
A57: TOTAL DAS DESPESAS CONSIDERADAS PARA O LIMITE (IV = I + II)
A58: TOTAL DAS DESPESAS / RCL (%) (V) = (IV)/(III)
A59: FONTE: Sistema CECAM, Unidade Responsável: CONTABILIDADE. Emissão: 24/01/2020, às 14:10:28. Assinado Digitalmente no dia 24/01/2020, às 14:10:28.
A65: NILSON ALCIDES GASPAR | B65: MARIANA ALVES RIZATO | H65: LUIS HENRIQUE BORTOLETTO
A66: PREFEITO MUNICIPAL | B66: CONTADORA | H66: COORDENADOR DE SERVIÇOS DE CONTABILIDADE
B67: CRC - SP 321123/O-4 | H67: CRC-SP 289944/O-3

Sheet RREO-Anexo 14
A2: PREFEITURA MUNICIPAL DE INDAIATUBA
A3: Av. Eng. Fabio R. Barnabe, 2800 - Jd. Esplanada II
A4: C.N.P.J. 44.733.608/0001-09
A5: Telefone: (19) 3834-9000
A6: Tabela 14 - Demonstrativo Simplificado do Relatório Resumido da Execução Orçamentária
A8: PREFEITURA MUNICIPAL DE INDAIATUBA
A9: RELATÓRIO RESUMIDO DA EXECUÇÃO ORÇAMENTÁRIA
A10: DEMONSTRATIVO SIMPLIFICADO DO RELATÓRIO RESUMIDO DA EXECUÇÃO ORÇAMENTÁRIA
A11: ORÇAMENTOS FISCAL E DA SEGURIDADE SOCIAL
A12: Período: 6º Bimestre | B12: =IF(IFERROR(SEARCH("SEMESTRE",A12,1),0)>0,"Semestre",IF(IFERROR(SEARCH("QUADRIMESTRE",A12,1),0)>0,"Quadrimestre",IF(IFERROR(SEARCH("TRIMESTRE",A12,1),0)>0,"Trimestre",IF(IFERROR(SEARCH("BIMESTRE",A12,1),0)>0,"Bimestre","Mês")))) -> Bimestre
A18: RREO - Anexo XVIII (LRF, Art. 48) | B18: Em Reais
A19: BALANÇO ORÇAMENTÁRIO | B19: =CONCATENATE("Até o ", B12) -> Até o Bimestre
A20: RECEITAS
A21: Previsão Inicial | B21: ='RREO-Anexo 01'!B96 -> 1079000000
A22: Previsão Atualizada | B22: ='RREO-Anexo 01'!C96 -> 1.121342e+09
A23: Receitas Realizadas | B23: ='RREO-Anexo 01'!F96 -> 1.3906632e+09
A24: Déficit Orçamentário | B24: ='RREO-Anexo 01'!F95 -> 0
A25: Saldos de Exercícios Anteriores (Utilizados para Créditos Adicionais) | B25: ='RREO-Anexo 01'!C97 -> 2.5302501e+08
A26: DESPESAS
A27: Dotação Inicial | B27: ='RREO-Anexo 01'!B127 -> 1053358800
A28: Créditos Adicionais | B28: =B29-B27 -> 3.0155197e+08
A29: Dotação Atualizada | B29: ='RREO-Anexo 01'!C127 -> 1.3549108e+09
A30: Despesas Empenhadas | B30: ='RREO-Anexo 01'!E127 -> 1.2366332e+09
A31: Despesas Liquidadas | B31: ='RREO-Anexo 01'!H127 -> 1.1669466e+09
A32: Despesas Pagas | B32: ='RREO-Anexo 01'!J127 -> 1.1380444e+09
