Workbook
Name Cancela: #REF!,#REF!
Name fdsafs: #REF!,#REF!
Name fdsf: #REF!
Name Ganhos_e_perdas_de_receita: #REF!
Name Ganhos_e_Perdas_de_Receita_99: #REF!
Name Plan: #REF!
Name Planilha: #REF!
Name Planilha_1: #REF!,#REF!
Name Planilha_1ÁreaTotal: #REF!,#REF!
Name Planilha_1ÁreaTotal: #REF!,#REF!
Name Planilha_1ÁreaTotal: 'RREO-Anexo 07'!#REF!,'RREO-Anexo 07'!$H$19:$L$29
Name Planilha_1ÁreaTotal: #REF!,#REF!
Name Planilha_1ÁreaTotal: #REF!,#REF!
Name Planilha_1ÁreaTotal: #REF!,#REF!
Name Planilha_1ÁreaTotal: #REF!,#REF!
Name Planilha_1ÁreaTotal: #REF!,#REF!
Name Planilha_1CabGráfico: #REF!
Name Planilha_1CabGráfico: #REF!
Name Planilha_1CabGráfico: 'RREO-Anexo 07'!#REF!
Name Planilha_1CabGráfico: #REF!
Name Planilha_1CabGráfico: #REF!
Name Planilha_1CabGráfico: #REF!
Name Planilha_1CabGráfico: #REF!
Name Planilha_1CabGráfico: #REF!
Name Planilha_1TítCols: #REF!,#REF!
Name Planilha_1TítCols: #REF!,#REF!
Name Planilha_1TítCols: 'RREO-Anexo 07'!#REF!,'RREO-Anexo 07'!#REF!
Name Planilha_1TítCols: #REF!,#REF!
Name Planilha_1TítCols: #REF!,#REF!
Name Planilha_1TítCols: #REF!,#REF!
Name Planilha_1TítCols: #REF!,#REF!
Name Planilha_1TítCols: #REF!,#REF!
Name Planilha_1TítLins: #REF!
Name Planilha_1TítLins: #REF!
Name Planilha_1TítLins: 'RREO-Anexo 07'!#REF!
Name Planilha_1TítLins: #REF!
Name Planilha_1TítLins: #REF!
Name Planilha_1TítLins: #REF!
Name Planilha_1TítLins: #REF!
Name Planilha_1TítLins: #REF!
Name Planilha_2ÁreaTotal: #REF!,#REF!
Name Planilha_2ÁreaTotal: #REF!,#REF!
Name Planilha_2ÁreaTotal: #REF!,#REF!
Name Planilha_2ÁreaTotal: #REF!,#REF!
Name Planilha_2ÁreaTotal: #REF!,#REF!
Name Planilha_2ÁreaTotal: #REF!,#REF!
Name Planilha_2CabGráfico: #REF!
Name Planilha_2CabGráfico: #REF!
Name Planilha_2CabGráfico: #REF!
Name Planilha_2CabGráfico: #REF!
Name Planilha_2CabGráfico: #REF!
Name Planilha_2TítCols: #REF!,#REF!
Name Planilha_2TítCols: #REF!,#REF!
Name Planilha_2TítCols: #REF!,#REF!
Name Planilha_2TítCols: #REF!,#REF!
Name Planilha_2TítCols: #REF!,#REF!
Name Planilha_2TítCols: #REF!,#REF!
Name Planilha_2TítLins: #REF!
Name Planilha_2TítLins: #REF!
Name Planilha_2TítLins: #REF!

Sheet RREO-Anexo 01
A2: PREFEITURA MUNICIPAL DE INDAIATUBA
A3: Av. Eng. Fabio R. Barnabe, 2800 - Jd. Esplanada II
A4: C.N.P.J. 44.733.608/0001-09
A5: Telefone: (19) 3834-9000
A6: Tabela 1 - Balanço Orçamentário
A8: PREFEITURA MUNICIPAL DE INDAIATUBA
A9: RELATÓRIO RESUMIDO DA EXECUÇÃO ORÇAMENTÁRIA
A10: BALANÇO ORÇAMENTÁRIO
A11: ORÇAMENTOS FISCAL E DA SEGURIDADE SOCIAL
A12: EXERCÍCIO: 2021
A13: Período: 4º Bimestre | B13: =IF(IFERROR(SEARCH("SEMESTRE",A13,1),0)>0,"Semestre",IF(IFERROR(SEARCH("QUADRIMESTRE",A13,1),0)>0,"Quadrimestre",IF(IFERROR(SEARCH("TRIMESTRE",A13,1),0)>0,"Trimestre",IF(IFERROR(SEARCH("BIMESTRE",A13,1),0)>0,"Bimestre","Mês")))) -> Bimestre
A18: RREO - Anexo 1 (LRF, Art. 52, inciso I, alíneas "a" e "b" do inciso II e §1º) | H18: Em Reais
B19: PREVISÃO INICIAL | C19: PREVISÃO ATUALIZADA | D19: RECEITAS REALIZADAS | H19: SALDO
A20: RECEITAS | C20: ATUALIZADA | D20: =CONCATENATE("No ", B13) -> No Bimestre | E20: % | F20: =CONCATENATE("Até o ", B13) -> Até o Bimestre | G20: %
C21: (a) | D21: (b) | E21: (b/a) | F21: (c) | G21: (c/a) | H21: (a-c)
A22: RECEITAS (EXCETO INTRA-ORÇAMENTÁRIAS) (I) | B22: =B23+B63 -> 1092641500 | C22: =C23+C63 -> 1.2072551e+09 | D22: =D23+D63 -> 2.3496439e+08 | E22: =IF(C22>0,D22/C22,0)*100 -> 19.462696 | F22: =F23+F63 -> 9.3509339e+08 | G22: =IF(C22>0,F22/C22,0)*100 -> 77.456157 | H22: =C22-F22 -> 2.7216169e+08
A23: RECEITAS CORRENTES | B23: =B24+B28+B33+B41+B42+B43+B49+B58 -> 1090550500 | C23: =C24+C28+C33+C41+C42+C43+C49+C58 -> 1.2019835e+09 | D23: =D24+D28+D33+D41+D42+D43+D49+D58 -> 2.3439585e+08 | E23: =IF(C23>0,D23/C23,0)*100 -> 19.500755 | F23: =F24+F28+F33+F41+F42+F43+F49+F58 -> 9.3189701e+08 | G23: =IF(C23>0,F23/C23,0)*100 -> 77.529936 | H23: =C23-F23 -> 2.7008646e+08
A24: IMPOSTOS, TAXAS E CONTRIBUIÇÕES DE MELHORIA | B24: =SUM(B25:B27) -> 320597000 | C24: =SUM(C25:C27) -> 351012000 | D24: =SUM(D25:D27) -> 72420531 | E24: =IF(C24>0,D24/C24,0)*100 -> 20.631925 | F24: =SUM(F25:F27) -> 2.9646081e+08 | G24: =IF(C24>0,F24/C24,0)*100 -> 84.458882 | H24: =C24-F24 -> 54551190
A25: Impostos | B25: 286915000 | C25: 317330000 | D25: 66068013 | E25: =IF(C25>0,D25/C25,0)*100 -> 20.819971 | F25: 2.6389218e+08 | G25: =IF(C25>0,F25/C25,0)*100 -> 83.160174 | H25: =C25-F25 -> 53437821
A26: Taxas | B26: 33492000 | C26: 33492000 | D26: 6139187.5 | E26: =IF(C26>0,D26/C26,0)*100 -> 18.33031 | F26: 32168881 | G26: =IF(C26>0,F26/C26,0)*100 -> 96.049447 | H26: =C26-F26 -> 1323119.1
A27: Contribuição de Melhoria | B27: 190000 | C27: 190000 | D27: 213330.79 | E27: =IF(C27>0,D27/C27,0)*100 -> 112.27936 | F27: 399749.99 | G27: =IF(C27>0,F27/C27,0)*100 -> 210.39473 | H27: =C27-F27 -> -209749.99
A28: CONTRIBUIÇÕES | B28: =SUM(B29:B32) -> 72723300 | C28: =SUM(C29:C32) -> 72723300 | D28: =SUM(D29:D32) -> 11113890 | E28: =IF(C28>0,D28/C28,0)*100 -> 15.282433 | F28: =SUM(F29:F32) -> 42161274 | G28: =IF(C28>0,F28/C28,0)*100 -> 57.974919 | H28: =C28-F28 -> 30562026
A29: Contribuições Sociais | B29: 46855300 | C29: 46855300 | D29: 6546307.8 | E29: =IF(C29>0,D29/C29,0)*100 -> 13.971328 | F29: 23645968 | G29: =IF(C29>0,F29/C29,0)*100 -> 50.465941 | H29: =C29-F29 -> 23209332
A30: Contribuições Econômicas | E30: =IF(C30>0,D30/C30,0)*100 -> 0 | G30: =IF(C30>0,F30/C30,0)*100 -> 0 | H30: =C30-F30 -> 0
A31: Contribuições para Entidades Privadas de Serviço Social └ e de Formação Profissional | E31: =IF(C31>0,D31/C31,0)*100 -> 0 | G31: =IF(C31>0,F31/C31,0)*100 -> 0 | H31: =C31-F31 -> 0
A32: Contribuição para o Custeio do Serviço de Iluminação └ Pública | B32: 25868000 | C32: 25868000 | D32: 4567582 | E32: =IF(C32>0,D32/C32,0)*100 -> 17.657268 | F32: 18515306 | G32: =IF(C32>0,F32/C32,0)*100 -> 71.576102 | H32: =C32-F32 -> 7352693.9
A33: RECEITA PATRIMONIAL | B33: =SUM(B34:B40) -> 19363000 | C33: =SUM(C34:C40) -> 19372000 | D33: =SUM(D34:D40) -> 8994986.4 | E33: =IF(C33>0,D33/C33,0)*100 -> 46.432925 | F33: =SUM(F34:F40) -> 29257954 | G33: =IF(C33>0,F33/C33,0)*100 -> 151.03218 | H33: =C33-F33 -> -9885954.1
A34: Exploração do Patrimônio Imobiliário do Estado | B34: 537000 | C34: 537000 | D34: 237594.13 | E34: =IF(C34>0,D34/C34,0)*100 -> 44.244717 | F34: 387005.35 | G34: =IF(C34>0,F34/C34,0)*100 -> 72.068035 | H34: =C34-F34 -> 149994.65
A35: Valores Mobiliários | B35: 18218000 | C35: 18227000 | D35: 8592548.7 | E35: =IF(C35>0,D35/C35,0)*100 -> 47.14187 | F35: 28222259 | G35: =IF(C35>0,F35/C35,0)*100 -> 154.83765 | H35: =C35-F35 -> -9995258.8
A36: Delegação de Serviços Públicos Mediante Concessão, └ Permissão, Autorização ou Licença | B36: 500000 | C36: 500000 | D36: 147809.38 | E36: =IF(C36>0,D36/C36,0)*100 -> 29.561876 | F36: 575902.24 | G36: =IF(C36>0,F36/C36,0)*100 -> 115.18045 | H36: =C36-F36 -> -75902.24
A37: Exploração de Recursos Naturais | E37: =IF(C37>0,D37/C37,0)*100 -> 0 | G37: =IF(C37>0,F37/C37,0)*100 -> 0 | H37: =C37-F37 -> 0
A38: Exploração do Patrimônio Intangível | E38: =IF(C38>0,D38/C38,0)*100 -> 0 | G38: =IF(C38>0,F38/C38,0)*100 -> 0 | H38: =C38-F38 -> 0
A39: Cessão de Direitos | B39: 108000 | C39: 108000 | D39: 17034.15 | E39: =IF(C39>0,D39/C39,0)*100 -> 15.772361 | F39: 72787.69 | G39: =IF(C39>0,F39/C39,0)*100 -> 67.396009 | H39: =C39-F39 -> 35212.31
A40: Demais Receitas Patrimoniais | E40: =IF(C40>0,D40/C40,0)*100 -> 0 | G40: =IF(C40>0,F40/C40,0)*100 -> 0 | H40: =C40-F40 -> 0
A41: RECEITA AGROPECUÁRIA | E41: =IF(C41>0,D41/C41,0)*100 -> 0 | G41: =IF(C41>0,F41/C41,0)*100 -> 0 | H41: =C41-F41 -> 0
A42: RECEITA INDUSTRIAL | E42: =IF(C42>0,D42/C42,0)*100 -> 0 | G42: =IF(C42>0,F42/C42,0)*100 -> 0 | H42: =C42-F42 -> 0
A43: RECEITA DE SERVIÇOS | B43: =SUM(B44:B48) -> 126233000 | C43: =SUM(C44:C48) -> 1.2936e+08 | D43: =SUM(D44:D48) -> 21905076 | E43: =IF(C43>0,D43/C43,0)*100 -> 16.933423 | F43: =SUM(F44:F48) -> 89645825 | G43: =IF(C43>0,F43/C43,0)*100 -> 69.299496 | H43: =C43-F43 -> 39714170
A44: Serviços Administrativos e Comerciais Gerais | B44: 124394100 | C44: 1.275211e+08 | D44: 21293257 | E44: =IF(C44>0,D44/C44,0)*100 -> 16.697831 | F44: 87607714 | G44: =IF(C44>0,F44/C44,0)*100 -> 68.700566 | H44: =C44-F44 -> 39913381
A45: Serviços e Atividades Referentes à Navegação e ao └ Transporte | B45: 302900 | C45: 302900 | D45: 46951.98 | E45: =IF(C45>0,D45/C45,0)*100 -> 15.500819 | F45: 188371.43 | G45: =IF(C45>0,F45/C45,0)*100 -> 62.189313 | H45: =C45-F45 -> 114528.57
A46: Serviços e Atividades referentes à Saúde | E46: =IF(C46>0,D46/C46,0)*100 -> 0 | G46: =IF(C46>0,F46/C46,0)*100 -> 0 | H46: =C46-F46 -> 0
...

Sheet RREO-Anexo 02
A2: PREFEITURA MUNICIPAL DE INDAIATUBA
A3: Av. Eng. Fabio R. Barnabe, 2800 - Jd. Esplanada II
A4: C.N.P.J. 44.733.608/0001-09
A5: Telefone: (19) 3834-9000
A6: Tabela 2 - Demonstrativo da Execução das Despesas por Função/Subfunção
A8: PREFEITURA MUNICIPAL DE INDAIATUBA
A9: RELATÓRIO RESUMIDO DA EXECUÇÃO ORÇAMENTÁRIA
A10: DEMONSTRATIVO DA EXECUÇÃO DAS DESPESAS POR FUNÇÃO/SUBFUNÇÃO
A11: ORÇAMENTOS FISCAL E DA SEGURIDADE SOCIAL
A12: EXERCÍCIO: 2021
A13: Período: 4º Bimestre | B13: =IF(IFERROR(SEARCH("SEMESTRE",A13,1),0)>0,"Semestre",IF(IFERROR(SEARCH("QUADRIMESTRE",A13,1),0)>0,"Quadrimestre",IF(IFERROR(SEARCH("TRIMESTRE",A13,1),0)>0,"Trimestre",IF(IFERROR(SEARCH("BIMESTRE",A13,1),0)>0,"Bimestre","Mês")))) -> Bimestre
A16: RREO - Anexo 2 (LRF, Art. 52, inciso II, alínea "c") | L16: Em Reais
B17: DOTAÇÃO | C17: DOTAÇÃO | D17: DESPESAS EMPENHADAS | G17: SALDO | H17: DESPESAS LIQUIDADAS | K17: SALDO | L17: INSCRITAS EM RESTOS A PAGAR NÃO PROCESSADOS (f)
A18: FUNÇÃO/SUBFUNÇÃO | B18: INICIAL | C18: ATUALIZADA | D18: =CONCATENATE("No ", B13) -> No Bimestre | E18: =CONCATENATE("Até o ", B13) -> Até o Bimestre | F18: % | H18: =CONCATENATE("No ", B13) -> No Bimestre | I18: =CONCATENATE("Até o ", B13) -> Até o Bimestre | J18: %
C19: (a) | E19: (b) | F19: (b/total b) | G19: (c) = (a-b) | I19: (d) | J19: (d/total d) | K19: (e) = (a-d)
A20: DESPESAS (EXCETO INTRA-ORÇAMENTÁRIAS) (I) | B20: =B21+B26+B31+B36+B49+B55+B61+B66+B73+B80+B89+B96+B107+B112+B118+B124+B129+B134+B142+B148+B156+B161+B169+B177+B182+B189+B197+B203+B212 -> 1097874900 | C20: =C21+C26+C31+C36+C49+C55+C61+C66+C73+C80+C89+C96+C107+C112+C118+C124+C129+C134+C142+C148+C156+C161+C169+C177+C182+C189+C197+C203+C212 -> 1.3634093e+09 | D20: =D21+D26+D31+D36+D49+D55+D61+D66+D73+D80+D89+D96+D107+D112+D118+D124+D129+D134+D142+D148+D156+D161+D169+D177+D182+D189+D197+D203+D212 -> 2.2715105e+08 | E20: =E21+E26+E31+E36+E49+E55+E61+E66+E73+E80+E89+E96+E107+E112+E118+E124+E129+E134+E142+E148+E156+E161+E169+E177+E182+E189+E197+E203+E212 -> 9.2415247e+08 | F20: =IF($E$214>0,E20/$E$214,0)*100 -> 93.902232 | G20: =G21+G26+G31+G36+G49+G55+G61+G66+G73+G80+G89+G96+G107+G112+G118+G124+G129+G134+G142+G148+G156+G161+G169+G177+G182+G189+G197+G203+G212 -> 4.3925678e+08 | H20: =H21+H26+H31+H36+H49+H55+H61+H66+H73+H80+H89+H96+H107+H112+H118+H124+H129+H134+H142+H148+H156+H161+H169+H177+H182+H189+H197+H203+H212 -> 2.0653831e+08 | I20: =I21+I26+I31+I36+I49+I55+I61+I66+I73+I80+I89+I96+I107+I112+I118+I124+I129+I134+I142+I148+I156+I161+I169+I177+I182+I189+I197+I203+I212 -> 7.0720196e+08 | J20: =IF($I$214>0,I20/$I$214,0)*100 -> 92.288186 | K20: =K21+K26+K31+K36+K49+K55+K61+K66+K73+K80+K89+K96+K107+K112+K118+K124+K129+K134+K142+K148+K156+K161+K169+K177+K182+K189+K197+K203+K212 -> 6.562073e+08 | L20: =L21+L26+L31+L36+L49+L55+L61+L66+L73+L80+L89+L96+L107+L112+L118+L124+L129+L134+L142+L148+L156+L161+L169+L177+L182+L189+L197+L203+L212 -> 0
A21: LEGISLATIVA | B21: =SUM(B22:B25) -> 14515000 | C21: =SUM(C22:C25) -> 14215000 | D21: =SUM(D22:D25) -> 1732613.5 | E21: =SUM(E22:E25) -> 7298964.2 | F21: =IF($E$214>0,E21/$E$214,0)*100 -> 0.74164064 | G21: =SUM(G22:G25) -> 6916035.8 | H21: =SUM(H22:H25) -> 1714222.2 | I21: =SUM(I22:I25) -> 6513880.2 | J21: =IF($I$214>0,I21/$I$214,0)*100 -> 0.85004599 | K21: =SUM(K22:K25) -> 7701119.8 | L21: =SUM(L22:L25) -> 0
A22: Ação Legislativa | B22: 14515000 | C22: 14215000 | D22: 1732613.5 | E22: 7298964.2 | F22: =IF($E$214>0,E22/$E$214,0)*100 -> 0.74164064 | G22: =C22-E22 -> 6916035.8 | H22: 1714222.2 | I22: 6513880.2 | J22: =IF($I$214>0,I22/$I$214,0)*100 -> 0.85004599 | K22: =C22-I22 -> 7701119.8
A23: Controle Externo | F23: =IF($E$214>0,E23/$E$214,0)*100 -> 0 | G23: =C23-E23 -> 0 | J23: =IF($I$214>0,I23/$I$214,0)*100 -> 0 | K23: =C23-I23 -> 0
A24: Administração Geral | F24: =IF($E$214>0,E24/$E$214,0)*100 -> 0 | G24: =C24-E24 -> 0 | J24: =IF($I$214>0,I24/$I$214,0)*100 -> 0 | K24: =C24-I24 -> 0
A25: Demais Subfunções | F25: =IF($E$214>0,E25/$E$214,0)*100 -> 0 | G25: =C25-E25 -> 0 | J25: =IF($I$214>0,I25/$I$214,0)*100 -> 0 | K25: =C25-I25 -> 0
A26: JUDICIÁRIA | B26: =SUM(B27:B30) -> 0 | C26: =SUM(C27:C30) -> 0 | D26: =SUM(D27:D30) -> 0 | E26: =SUM(E27:E30) -> 0 | F26: =IF($E$214>0,E26/$E$214,0)*100 -> 0 | G26: =SUM(G27:G30) -> 0 | H26: =SUM(H27:H30) -> 0 | I26: =SUM(I27:I30) -> 0 | J26: =IF($I$214>0,I26/$I$214,0)*100 -> 0 | K26: =SUM(K27:K30) -> 0 | L26: =SUM(L27:L30) -> 0
A27: Ação Judiciária | F27: =IF($E$214>0,E27/$E$214,0)*100 -> 0 | G27: =C27-E27 -> 0 | J27: =IF($I$214>0,I27/$I$214,0)*100 -> 0 | K27: =C27-I27 -> 0
A28: Defesa do Interesse Público no Processo Judiciário | F28: =IF($E$214>0,E28/$E$214,0)*100 -> 0 | G28: =C28-E28 -> 0 | J28: =IF($I$214>0,I28/$I$214,0)*100 -> 0 | K28: =C28-I28 -> 0
A29: Administração Geral | F29: =IF($E$214>0,E29/$E$214,0)*100 -> 0 | G29: =C29-E29 -> 0 | J29: =IF($I$214>0,I29/$I$214,0)*100 -> 0 | K29: =C29-I29 -> 0
A30: Demais Subfunções | F30: =IF($E$214>0,E30/$E$214,0)*100 -> 0 | G30: =C30-E30 -> 0 | J30: =IF($I$214>0,I30/$I$214,0)*100 -> 0 | K30: =C30-I30 -> 0
A31: ESSENCIAL A JUSTIÇA | B31: =SUM(B32:B35) -> 0 | C31: =SUM(C32:C35) -> 0 | D31: =SUM(D32:D35) -> 0 | E31: =SUM(E32:E35) -> 0 | F31: =IF($E$214>0,E31/$E$214,0)*100 -> 0 | G31: =SUM(G32:G35) -> 0 | H31: =SUM(H32:H35) -> 0 | I31: =SUM(I32:I35) -> 0 | J31: =IF($I$214>0,I31/$I$214,0)*100 -> 0 | K31: =SUM(K32:K35) -> 0 | L31: =SUM(L32:L35) -> 0
A32: Defesa da Ordem Jurídica | F32: =IF($E$214>0,E32/$E$214,0)*100 -> 0 | G32: =C32-E32 -> 0 | J32: =IF($I$214>0,I32/$I$214,0)*100 -> 0 | K32: =C32-I32 -> 0
A33: Representação Judicial e Extrajudicial | F33: =IF($E$214>0,E33/$E$214,0)*100 -> 0 | G33: =C33-E33 -> 0 | J33: =IF($I$214>0,I33/$I$214,0)*100 -> 0 | K33: =C33-I33 -> 0
A34: Administração Geral | F34: =IF($E$214>0,E34/$E$214,0)*100 -> 0 | G34: =C34-E34 -> 0 | J34: =IF($I$214>0,I34/$I$214,0)*100 -> 0 | K34: =C34-I34 -> 0
A35: Demais Subfunções | F35: =IF($E$214>0,E35/$E$214,0)*100 -> 0 | G35: =C35-E35 -> 0 | J35: =IF($I$214>0,I35/$I$214,0)*100 -> 0 | K35: =C35-I35 -> 0
A36: ADMINISTRAÇÃO | B36: =SUM(B37:B48) -> 78227000 | C36: =SUM(C37:C48) -> 86225577 | D36: =SUM(D37:D48) -> 11663598 | E36: =SUM(E37:E48) -> 56220108 | F36: =IF($E$214>0,E36/$E$214,0)*100 -> 5.7124704 | G36: =SUM(G37:G48) -> 30005469 | H36: =SUM(H37:H48) -> 11268983 | I36: =SUM(I37:I48) -> 41978456 | J36: =IF($I$214>0,I36/$I$214,0)*100 -> 5.4780894 | K36: =SUM(K37:K48) -> 44247121 | L36: =SUM(L37:L48) -> 0
A37: Planejamento e Orçamento | F37: =IF($E$214>0,E37/$E$214,0)*100 -> 0 | G37: =C37-E37 -> 0 | J37: =IF($I$214>0,I37/$I$214,0)*100 -> 0 | K37: =C37-I37 -> 0
A38: Administração Geral | B38: 51898000 | C38: 54057750 | D38: 5297215.1 | E38: 35458837 | F38: =IF($E$214>0,E38/$E$214,0)*100 -> 3.6029379 | G38: =C38-E38 -> 18598913 | H38: 7254579.2 | I38: 26648669 | J38: =IF($I$214>0,I38/$I$214,0)*100 -> 3.4775884 | K38: =C38-I38 -> 27409081
A39: Administração Financeira | B39: 10560000 | C39: 10760000 | D39: 1110808.6 | E39: 7140634.3 | F39: =IF($E$214>0,E39/$E$214,0)*100 -> 0.72555289 | G39: =C39-E39 -> 3619365.7 | H39: 1515433.7 | I39: 6120343 | J39: =IF($I$214>0,I39/$I$214,0)*100 -> 0.79869031 | K39: =C39-I39 -> 4639657
A40: Controle Interno | B40: 1167000 | C40: 1167000 | D40: 150116.54 | E40: 664262.83 | F40: =IF($E$214>0,E40/$E$214,0)*100 -> 0.067495099 | G40: =C40-E40 -> 502737.17 | H40: 162116.54 | I40: 648262.83 | J40: =IF($I$214>0,I40/$I$214,0)*100 -> 0.084596769 | K40: =C40-I40 -> 518737.17
A41: Normatização e Fiscalização | F41: =IF($E$214>0,E41/$E$214,0)*100 -> 0 | G41: =C41-E41 -> 0 | J41: =IF($I$214>0,I41/$I$214,0)*100 -> 0 | K41: =C41-I41 -> 0
A42: Tecnologia da Informação | F42: =IF($E$214>0,E42/$E$214,0)*100 -> 0 | G42: =C42-E42 -> 0 | J42: =IF($I$214>0,I42/$I$214,0)*100 -> 0 | K42: =C42-I42 -> 0
A43: Ordenamento Territorial | B43: 5955000 | C43: 9600322.6 | D43: 2869472.7 | E43: 5810117.5 | F43: =IF($E$214>0,E43/$E$214,0)*100 -> 0.59036037 | G43: =C43-E43 -> 3790205.2 | H43: 809704.55 | I43: 3293579.1 | J43: =IF($I$214>0,I43/$I$214,0)*100 -> 0.4298043 | K43: =C43-I43 -> 6306743.5
A44: Formação de Recursos Humanos | F44: =IF($E$214>0,E44/$E$214,0)*100 -> 0 | G44: =C44-E44 -> 0 | J44: =IF($I$214>0,I44/$I$214,0)*100 -> 0 | K44: =C44-I44 -> 0
...

Sheet RREO-Anexo 03
A2: PREFEITURA MUNICIPAL DE INDAIATUBA
A3: Av. Eng. Fabio R. Barnabe, 2800 - Jd. Esplanada II
A4: C.N.P.J. 44.733.608/0001-09
A5: Telefone: (19) 3834-9000
A6: Tabela 3 - Demonstrativo da Receita Corrente Líquida
A8: PREFEITURA MUNICIPAL DE INDAIATUBA
A9: RELATÓRIO RESUMIDO DA EXECUÇÃO ORÇAMENTÁRIA
A10: DEMONSTRATIVO DA RECEITA CORRENTE LÍQUIDA
A11: ORÇAMENTOS FISCAL E DA SEGURIDADE SOCIAL
A12: EXERCÍCIO: 2021
A13: Período: 4º Bimestre | B13: =IF(IFERROR(SEARCH("SEMESTRE",A13,1),0)>0,"Semestre",IF(IFERROR(SEARCH("QUADRIMESTRE",A13,1),0)>0,"Quadrimestre",IF(IFERROR(SEARCH("TRIMESTRE",A13,1),0)>0,"Trimestre",IF(IFERROR(SEARCH("BIMESTRE",A13,1),0)>0,"Bimestre","Mês")))) -> Bimestre
A18: RREO - Anexo 3 (LRF, Art. 53, inciso I) | O18: Em Reais
B19: EVOLUÇÃO DA RECEITA REALIZADA NOS ÚLTIMOS 12 MESES | N19: TOTAL | O19: PREVISÃO
A20: ESPECIFICAÇÃO | N20: (ÚLTIMOS | O20: ATUALIZADA
B21: <MR–11> | C21: <MR–10> | D21: <MR–9> | E21: <MR–8> | F21: <MR–7> | G21: <MR–6> | H21: <MR–5> | I21: <MR–4> | J21: <MR–3> | K21: <MR–2> | L21: <MR–1> | M21: <MR> | N21: 12 MESES) | O21: <EXERCÍCIO>
A22: RECEITAS CORRENTES (I) | B22: =B23+B29+B30+B33+B34+B35+B36+B45 -> 1.0704332e+08 | C22: =C23+C29+C30+C33+C34+C35+C36+C45 -> 99033315 | D22: =D23+D29+D30+D33+D34+D35+D36+D45 -> 1.0192294e+08 | E22: =E23+E29+E30+E33+E34+E35+E36+E45 -> 1.3999476e+08 | F22: =F23+F29+F30+F33+F34+F35+F36+F45 -> 1.2437051e+08 | G22: =G23+G29+G30+G33+G34+G35+G36+G45 -> 1.0199949e+08 | H22: =H23+H29+H30+H33+H34+H35+H36+H45 -> 1.843126e+08 | I22: =I23+I29+I30+I33+I34+I35+I36+I45 -> 98777227 | ... M22: =M23+M29+M30+M33+M34+M35+M36+M45 -> 1.2676984e+08 | N22: =SUM(B22:M22) -> 1.4312347e+09 | O22: =O23+O29+O30+O33+O34+O35+O36+O45 -> 1.2823445e+09
A23: Impostos, Taxas e Contribuições de Melhoria | B23: =SUM(B24:B28) -> 30357574 | C23: =SUM(C24:C28) -> 28912494 | D23: =SUM(D24:D28) -> 32305148 | E23: =SUM(E24:E28) -> 40364621 | F23: =SUM(F24:F28) -> 21745554 | G23: =SUM(G24:G28) -> 26989701 | H23: =SUM(H24:H28) -> 77393203 | I23: =SUM(I24:I28) -> 31470951 | ... M23: =SUM(M24:M28) -> 37283686 | N23: =SUM(B23:M23) -> 4.2840065e+08 | O23: =SUM(O24:O28) -> 351012000
A24: IPTU | B24: 9216919.4 | C24: 9055818 | D24: 8984619.2 | E24: 11690280 | F24: 3384513.6 | G24: 9105209.7 | H24: 44993461 | I24: 9771095.2 | J24: 10620707 | K24: 11077378 | L24: 10882763 | M24: 10301626 | N24: =SUM(B24:M24) -> 1.4908439e+08 | O24: 130330000
A25: ISS | B25: 9731098.7 | C25: 9047579.6 | D25: 10112587 | E25: 10027385 | F25: 10416026 | G25: 8828357.8 | H25: 10378796 | I25: 9631667.4 | J25: 8960748.8 | K25: 9608259.4 | L25: 11443863 | M25: 11583220 | N25: =SUM(B25:M25) -> 1.1976959e+08 | O25: 95380000
A26: ITBI | B26: 5249031.2 | C26: 5180775.9 | D26: 5371747.1 | E26: 5887294.6 | F26: 3878841.4 | G26: 4881095.3 | H26: 6017302.1 | I26: 5611923.2 | J26: 6223210.5 | K26: 6198707.6 | L26: 6072918.1 | M26: 6903628 | N26: =SUM(B26:M26) -> 67476475 | O26: 50587000
A27: IRRF | B27: 3831518.4 | C27: 3318807.5 | D27: 5519383.6 | E27: 9599637.2 | F27: 2485203.5 | G27: 1742688.1 | H27: 3326991.4 | I27: 3605713.3 | J27: 3542567 | K27: 3533703.4 | L27: 3456968.5 | M27: 5423027.3 | N27: =SUM(B27:M27) -> 49386209 | O27: 41033000
A28: Outros Impostos, Taxas e Contribuições de Melhoria | B28: 2329006.2 | C28: 2309513 | D28: 2316810.9 | E28: 3160023.1 | F28: 1580970.2 | G28: 2432349.6 | H28: 12676653 | I28: 2850551.4 | J28: 3166034.7 | K28: 3509554 | L28: 3280333.3 | M28: 3072185 | N28: =SUM(B28:M28) -> 42683984 | O28: 33682000
A29: Receita de Contribuições | B29: 5350234.7 | C29: 5428942.3 | D29: 5438175.3 | E29: 11523333 | F29: 1667298.9 | G29: 5363798.5 | H29: 7510142.2 | I29: 4670625.2 | J29: 5460958.3 | K29: 6374561.2 | L29: 5546320.2 | M29: 5567569.5 | N29: =SUM(B29:M29) -> 69901960 | O29: 72723300
A30: Receita Patrimonial | B30: =SUM(B31:B32) -> -65342.4 | C30: =SUM(C31:C32) -> 604908.07 | D30: =SUM(D31:D32) -> 582604.01 | E30: =SUM(E31:E32) -> 3657178.8 | F30: =SUM(F31:F32) -> 892379.77 | G30: =SUM(G31:G32) -> 445285.45 | H30: =SUM(H31:H32) -> 923401.75 | I30: =SUM(I31:I32) -> 1022966.8 | ... M30: =SUM(M31:M32) -> 3090492.7 | N30: =SUM(B30:M30) -> 17419413 | O30: =SUM(O31:O32) -> 19372000
A31: Rendimentos de Aplicação Financeira | B31: -143264.23 | C31: 510441.77 | D31: 500054.1 | E31: 3389207.6 | F31: 757522.62 | G31: 354918.34 | H31: 800945.6 | I31: 934663.54 | J31: 1435610.7 | K31: 1678842.4 | L31: 2802146.9 | M31: 2839719.5 | N31: =SUM(B31:M31) -> 15860809 | O31: 18227000
A32: Outras Receitas Patrimoniais | B32: 77921.83 | C32: 94466.3 | D32: 82549.91 | E32: 267971.2 | F32: 134857.15 | G32: 90367.11 | H32: 122456.15 | I32: 88303.26 | J32: 99785.92 | K32: 97488.03 | L32: 151664.46 | M32: 250773.2 | N32: =SUM(B32:M32) -> 1558604.5 | O32: 1145000
A33: Receita Agropecuária | N33: =SUM(B33:M33) -> 0
A34: Receita Industrial | N34: =SUM(B34:M34) -> 0
A35: Receita de Serviços | B35: 10024133 | C35: 10312774 | D35: 11347575 | E35: 12218168 | F35: 10555433 | G35: 11158567 | H35: 11901918 | I35: 10308798 | J35: 11648603 | K35: 12167431 | L35: 11146568 | M35: 10758508 | N35: =SUM(B35:M35) -> 1.3354847e+08 | O35: 1.2936e+08
A36: Transferências Correntes | B36: =SUM(B37:B44) -> 60366953 | C36: =SUM(C37:C44) -> 52636973 | D36: =SUM(D37:D44) -> 50419770 | E36: =SUM(E37:E44) -> 70089584 | F36: =SUM(F37:F44) -> 87297480 | G36: =SUM(G37:G44) -> 55995926 | H36: =SUM(H37:H44) -> 84681269 | I36: =SUM(I37:I44) -> 50453401 | ... M36: =SUM(M37:M44) -> 68451908 | N36: =SUM(B36:M36) -> 7.6255388e+08 | O36: =SUM(O37:O44) -> 6.9848997e+08
A37: Cota-Parte do FPM | B37: 3732370.4 | C37: 5022264 | D37: 6656630.5 | E37: 9925550.2 | F37: 7222055.8 | G37: 9466284 | H37: 6345051.2 | I37: 6633270.3 | J37: 7972277.5 | K37: 6894782.1 | L37: 9420902 | M37: 7532311.7 | N37: =SUM(B37:M37) -> 86823750 | O37: 77050000
A38: Cota-Parte do ICMS | B38: 24703033 | C38: 23911628 | D38: 22083780 | E38: 31691353 | F38: 25129804 | G38: 16515041 | H38: 38175322 | I38: 21668350 | J38: 24739868 | K38: 28228758 | L38: 27213907 | M38: 33009246 | N38: =SUM(B38:M38) -> 3.1707009e+08 | O38: 303733000
A39: Cota-Parte do IPVA | B39: 3033421.4 | C39: 2546533.9 | D39: 2424027.2 | E39: 3523019.5 | F39: 30351743 | G39: 12508415 | H39: 9618604.8 | I39: 2756387.2 | J39: 2659989 | K39: 2601290.3 | L39: 2476467.2 | M39: 2387701.3 | N39: =SUM(B39:M39) -> 76887601 | O39: 66000000
A40: Cota-Parte do ITR | B40: 58103.78 | C40: 946945.07 | D40: 18479.32 | E40: 14581.04 | F40: 20609.3 | G40: 4189.29 | H40: 16970.34 | I40: 1362.8 | J40: 5363.45 | K40: 3003.5 | L40: 1494.62 | M40: 5429.87 | N40: =SUM(B40:M40) -> 1096532.4 | O40: 1000000
A41: Transferências da LC 87/1996 | B41: 0 | C41: 0 | D41: 0 | E41: 0 | F41: 0 | G41: 0 | H41: 0 | I41: 0 | J41: 0 | K41: 0 | L41: 0 | M41: 0 | N41: =SUM(B41:M41) -> 0 | O41: 5000
A42: Transferências da LC 61/1989 | B42: 189307.92 | C42: 208407.12 | D42: 201781.45 | E42: 254267.84 | F42: 225417.52 | G42: 187367.32 | H42: 198035.34 | I42: 224413.68 | J42: 194743.31 | K42: 203154.94 | L42: 220007.45 | M42: 175557.33 | N42: =SUM(B42:M42) -> 2482461.2 | O42: 1800000
A43: Transferências do FUNDEB | B43: 10791780 | C43: 10519593 | D43: 10014898 | E43: 14061062 | F43: 15674166 | G43: 9439656.2 | H43: 17554326 | I43: 9629880.4 | J43: 10442182 | K43: 12287502 | L43: 11594100 | M43: 14086445 | N43: =SUM(B43:M43) -> 1.4609559e+08 | O43: 133971000
A44: Outras Transferências Correntes | B44: 17858936 | C44: 9481601 | D44: 9020174.2 | E44: 10619750 | F44: 8673684.3 | G44: 7874973.5 | H44: 12772959 | I44: 9539736.1 | J44: 10454534 | K44: 11281823 | L44: 13264463 | M44: 11255217 | N44: =SUM(B44:M44) -> 1.3209785e+08 | O44: 1.1493097e+08
A45: Outras Receitas Correntes | B45: 1009763.5 | C45: 1137223.3 | D45: 1829672.1 | E45: 2141871.9 | F45: 2212366.2 | G45: 2046216.6 | H45: 1902666.3 | I45: 850485.39 | J45: 1889192.7 | K45: 1265887.4 | L45: 1507359.9 | M45: 1617673.2 | N45: =SUM(B45:M45) -> 19410378 | O45: 11387200
A46: DEDUÇÕES (II) | B46: =SUM(B47:B49) -> 9378175.1 | C46: =SUM(C47:C49) -> 9444897.2 | D46: =SUM(D47:D49) -> 9299065.9 | E46: =SUM(E47:E49) -> 17094740 | F46: =SUM(F47:F49) -> 12960969 | G46: =SUM(G47:G49) -> 10684447 | H46: =SUM(H47:H49) -> 13860697 | I46: =SUM(I47:I49) -> 9255520.6 | ... M46: =SUM(M47:M49) -> 11473941 | N46: =SUM(B46:M46) -> 1.342249e+08 | O46: =SUM(O47:O49) -> 123361000
...

Sheet RREO-Anexo 04
A2: PREFEITURA MUNICIPAL DE INDAIATUBA
A3: Av. Eng. Fabio R. Barnabe, 2800 - Jd. Esplanada II
A4: C.N.P.J. 44.733.608/0001-09
A5: Telefone: (19) 3834-9000
A6: Tabela 4 - Demonstrativo das Receitas e Despesas Previdenciárias do Regime Próprio de Previdência dos Servidores
A8: PREFEITURA MUNICIPAL DE INDAIATUBA
A9: RELATÓRIO RESUMIDO DA EXECUÇÃO ORÇAMENTÁRIA
A10: DEMONSTRATIVO DAS RECEITAS E DESPESAS PREVIDENCIÁRIAS DO REGIME PRÓPRIO DE PREVIDÊNCIA DOS SERVIDORES
A11: ORÇAMENTO DA SEGURIDADE SOCIAL
A12: EXERCÍCIO: 2021
A13: Período: 4º Bimestre | B13: =IF(IFERROR(SEARCH("SEMESTRE",A13,1),0)>0,"Semestre",IF(IFERROR(SEARCH("QUADRIMESTRE",A13,1),0)>0,"Quadrimestre",IF(IFERROR(SEARCH("TRIMESTRE",A13,1),0)>0,"Trimestre",IF(IFERROR(SEARCH("BIMESTRE",A13,1),0)>0,"Bimestre","Mês")))) -> Bimestre
A17: RREO - Anexo 4 (LRF, Art. 53, inciso II) | C17: Em Reais
B18: PREVISÃO ATUALIZADA | C18: RECEITAS REALIZADAS
A19: RECEITAS - PLANO PREVIDENCIÁRIO
A21: RECEITAS CORRENTES (I) | B21: =B22+B26+B30+B34+B35 -> 116280000 | C21: =C22+C26+C30+C34+C35 -> 67667166
A22: Receita de Contribuições dos Segurados | B22: =SUM(B23:B25) -> 40000000 | C22: =SUM(C23:C25) -> 19594222
A23: Ativo | B23: 38780000 | C23: 18489143
A24: Inativo | B24: 1130000 | C24: 1058161.9
A25: Pensionista | B25: 90000 | C25: 46917.3
A26: Receita de Contribuições Patronais | B26: =SUM(B27:B29) -> 61757000 | C26: =SUM(C27:C29) -> 29990091
A27: Ativo | B27: 61757000 | C27: 29990091
A28: Inativo
A29: Pensionista
A30: Receita Patrimonial | B30: =SUM(B31:B33) -> 11509000 | C30: =SUM(C31:C33) -> 16617889
A31: Receitas Imobiliárias
A32: Receitas de Valores Mobiliários | B32: 11509000 | C32: 16617889
A33: Outras Receitas Patrimoniais
A34: Receita de Serviços
A35: Outras Receitas Correntes | B35: =SUM(B36:B38) -> 3014000 | C35: =SUM(C36:C38) -> 1464963.7
A36: Compensação Previdenciária do RGPS para o RPPS | B36: 3000000 | C36: 1452506.1
A37: Receita de Aporte Periódico de Valores Predefinidos (II)
A38: Demais Receitas Correntes | B38: 14000 | C38: 12457.58
A39: RECEITAS DE CAPITAL (III) | B39: =SUM(B40:B42) -> 0 | C39: =SUM(C40:C42) -> 0
A40: Alienação de Bens, Direitos e Ativos
A41: Amortização de Empréstimos
A42: Outras Receitas de Capital
A43: TOTAL DAS RECEITAS PREVIDENCIÁRIAS RPPS - (IV) = (I + III - II) | B43: =B21+B39 -> 116280000 | C43: =C21+C39 -> 67667166
A49: DESPESAS - PLANO PREVIDENCIÁRIO | B49: DOTAÇÃO ATUALIZADA | C49: DESPESA EMPENHADA | D49: DESPESA LIQUIDADA | E49: DESPESA PAGA | F49: INSCRITAS EM RESTOS A PAGAR NÃO PROCESSADOS
A52: Benefícios | B52: =SUM(B53:B54) -> 90160000 | C52: =SUM(C53:C54) -> 54269844 | D52: =SUM(D53:D54) -> 54269844 | E52: =SUM(E53:E54) -> 47682323 | F52: =SUM(F53:F54) -> 0
A53: Aposentadorias | B53: 79160000 | C53: 48238773 | D53: 48238773 | E53: 42361355
...

Sheet RREO-Anexo 06
A2: PREFEITURA MUNICIPAL DE INDAIATUBA
A3: Av. Eng. Fabio R. Barnabe, 2800 - Jd. Esplanada II
A4: C.N.P.J. 44.733.608/0001-09
A5: Telefone: (19) 3834-9000
A6: Tabela 6 - Demonstrativo do Resultado Primário
A8: PREFEITURA MUNICIPAL DE INDAIATUBA
A9: RELATÓRIO RESUMIDO DA EXECUÇÃO ORÇAMENTÁRIA
A10: DEMONSTRATIVO DOS RESULTADOS PRIMÁRIO E NOMINAL - ESTADOS, DISTRITO FEDERAL E MUNICÍPIOS
A11: ORÇAMENTOS FISCAL E DA SEGURIDADE SOCIAL
A12: EXERCÍCIO: 2021
A13: Período: 4º Bimestre | B13: =IF(IFERROR(SEARCH("SEMESTRE",A13,1),0)>0,"Semestre",IF(IFERROR(SEARCH("QUADRIMESTRE",A13,1),0)>0,"Quadrimestre",IF(IFERROR(SEARCH("TRIMESTRE",A13,1),0)>0,"Trimestre",IF(IFERROR(SEARCH("BIMESTRE",A13,1),0)>0,"Bimestre","Mês")))) -> Bimestre
A18: RREO - ANEXO 6 (LRF, art 53, inciso III) | C18: Em reais
B19: PREVISÃO ATUALIZADA | C19: RECEITAS REALIZADAS
A20: RECEITAS PRIMÁRIAS
A22: RECEITAS CORRENTES (I) | B22: =B23+B29+B30+B33+B42 -> 1.2019835e+09 | C22: =C23+C29+C30+C33+C42 -> 9.3189701e+08
A23: Impostos, Taxas e Contribuições de Melhoria | B23: =SUM(B24:B28) -> 351012000 | C23: =SUM(C24:C28) -> 2.9646081e+08
A24: IPTU | B24: 130330000 | C24: 1.1013675e+08
A25: ISS | B25: 95380000 | C25: 80850937
A26: ITBI | B26: 50587000 | C26: 45787626
A27: IRRF | B27: 41033000 | C27: 27116863
A28: Outros Impostos, Taxas e Contribuições de Melhoria | B28: 33682000 | C28: 32568631
A29: Contribuições | B29: 72723300 | C29: 42161274
A30: Receita Patrimonial | B30: =SUM(B31:B32) -> 19372000 | C30: =SUM(C31:C32) -> 29257954
A31: Aplicações Financeiras (II) | B31: 18227000 | C31: 28222259
A32: Outras Receitas Patrimoniais | B32: 1145000 | C32: 1035695.3
A33: Transferências Correntes | B33: =SUM(B34:B41) -> 6.1812897e+08 | C33: =SUM(C34:C41) -> 4.610793e+08
A34: Cota-Parte do FPM | B34: 62850000 | C34: 49871240
A35: Cota-Parte do ICMS | B35: 251333000 | C35: 1.7174424e+08
A36: Cota-Parte do IPVA | B36: 52800000 | C36: 52282619
A37: Cota-Parte do ITR | B37: 800000 | C37: 46738.63
A38: Transferências da LC 87/1996 | B38: 4000 | C38: 0
A39: Transferências da LC nº 61/1989 | B39: 1440000 | C39: 1308816.8
A40: Transferências do FUNDEB | B40: 133971000 | C40: 1.0070826e+08
A41: Outras Transferências Correntes | B41: 1.1493097e+08 | C41: 85117390
A42: Demais Receitas Correntes | B42: =SUM(B43:B44) -> 1.407472e+08 | C42: =SUM(C43:C44) -> 1.0293767e+08
A43: Outras Receitas Financeiras (III)
A44: Receitas Correntes Restantes | B44: 1.407472e+08 | C44: 1.0293767e+08
A45: RECEITAS PRIMÁRIAS CORRENTES (IV) = (I - II - III) | B45: =B22-B31-B43 -> 1.1837565e+09 | C45: =C22-C31-C43 -> 9.0367475e+08
A46: RECEITAS DE CAPITAL (V) | B46: =B47+B48+B49+B53+B56 -> 5271606.7 | C46: =C47+C48+C49+C53+C56 -> 3196379.1
A47: Operações de Crédito (VI)
...

Sheet RREO-Anexo 07
A2: PREFEITURA MUNICIPAL DE INDAIATUBA
A3: Av. Eng. Fabio R. Barnabe, 2800 - Jd. Esplanada II
A4: C.N.P.J. 44.733.608/0001-09
A5: Telefone: (19) 3834-9000
A6: Tabela 7 - Demonstrativo dos Restos a Pagar por Poder e Órgão
A8: PREFEITURA MUNICIPAL DE INDAIATUBA
A9: RELATÓRIO RESUMIDO DA EXECUÇÃO ORÇAMENTÁRIA
A10: DEMONSTRATIVO DOS RESTOS A PAGAR POR PODER E ÓRGÃO
A11: ORÇAMENTOS FISCAL E DA SEGURIDADE SOCIAL
A12: EXERCÍCIO: 2021
A13: Período: 4º Bimestre | B13: =IF(IFERROR(SEARCH("SEMESTRE",A13,1),0)>0,"Semestre",IF(IFERROR(SEARCH("QUADRIMESTRE",A13,1),0)>0,"Quadrimestre",IF(IFERROR(SEARCH("TRIMESTRE",A13,1),0)>0,"Trimestre",IF(IFERROR(SEARCH("BIMESTRE",A13,1),0)>0,"Bimestre","Mês")))) -> Bimestre
A17: RREO - ANEXO 7 (LRF, art. 53, inciso V) | M17: Em reais
B18: RESTOS A PAGAR PROCESSADOS E NÃO PROCESSADOS LIQUIDADOS EM EXERCÍCIOS ANTERIORES | G18: RESTOS A PAGAR NÃO PROCESSADOS | M18: Saldo Total (a+b)
B19: Inscritos | G19: Inscritos
A20: PODER/ÓRGÃO | B20: Em Exercícios Anteriores | C20: Em 31 de dezembro de <Exercício Anterior> | D20: Pagos | E20: Cancelados | F20: Saldo | G20: Em Exercícios Anteriores | H20: Em 31 de dezembro de <Exercício Anterior> | I20: Liquidados | J20: Pagos | K20: Cancelados | L20: Saldo
F21: (a) | G21: Anteriores | H21: <Exercício | L21: (b)
H22: Anterior>
A23: RESTOS A PAGAR (EXCETO INTRA-ORÇAMENTÁRIOS) (I) | B23: =B24+B25 -> 140713.38 | C23: =C24+C25 -> 14703614 | D23: =D24+D25 -> 14700135 | E23: =E24+E25 -> 3478.66 | F23: =F24+F25 -> 140713.38 | G23: =G24+G25 -> 1332775.5 | H23: =H24+H25 -> 69085230 | I23: =I24+I25 -> 57400467 | ... M23: =M24+M25 -> 1748924
A24: PODER EXECUTIVO | B24: 140713.38 | C24: 14703614 | D24: 14700135 | E24: 3478.66 | F24: =B24+C24-D24-E24 -> 140713.38 | G24: 1332775.5 | H24: 67608209 | I24: 56327148 | J24: 56212243 | K24: 11510611 | L24: =G24+H24-J24-K24 -> 1218129.7 | M24: =F24+L24 -> 1358843.1
A25: PODER LEGISLATIVO | B25: =SUM(B26:B27) -> 0 | C25: =SUM(C26:C27) -> 0 | D25: =SUM(D26:D27) -> 0 | E25: =SUM(E26:E27) -> 0 | F25: =SUM(F26:F27) -> 0 | G25: =SUM(G26:G27) -> 0 | H25: =SUM(H26:H27) -> 1477021 | I25: =SUM(I26:I27) -> 1073318.8 | ... M25: =SUM(M26:M27) -> 390080.86
A26: Câmara Municipal | B26: 0 | C26: 0 | D26: 0 | E26: 0 | F26: =B26+C26-D26-E26 -> 0 | G26: 0 | H26: 1477021 | I26: 1073318.8 | J26: 1066096.3 | K26: 20843.82 | L26: =G26+H26-J26-K26 -> 390080.86 | M26: =F26+L26 -> 390080.86
A27: Tribunal de Contas do Município | F27: =B27+C27-D27-E27 -> 0 | L27: =G27+H27-J27-K27 -> 0 | M27: =F27+L27 -> 0
A28: RESTOS A PAGAR (INTRA-ORÇAMENTÁRIOS) (II) | B28: =B40 -> 0 | C28: =C40 -> 593514.79 | D28: =D40 -> 593514.79 | E28: =E40 -> 0 | F28: =F40 -> 0 | G28: =G40 -> 0 | H28: =H40 -> 476124.04 | I28: =I40 -> 287600.59 | ... M28: =M40 -> 41088.04
A29: TOTAL (III) = (I + II) | B29: =B23+B28 -> 140713.38 | C29: =C23+C28 -> 15297129 | D29: =D23+D28 -> 15293650 | E29: =E23+E28 -> 3478.66 | F29: =F23+F28 -> 140713.38 | G29: =G23+G28 -> 1332775.5 | H29: =H23+H28 -> 69561354 | I29: =I23+I28 -> 57688067 | ... M29: =M23+M28 -> 1790012
B35: RESTOS A PAGAR PROCESSADOS E NÃO PROCESSADOS LIQUIDADOS EM EXERCÍCIOS ANTERIORES | G35: RESTOS A PAGAR NÃO PROCESSADOS | M35: Saldo Total (a+b)
B36: Inscritos | G36: Inscritos
A37: PODER/ÓRGÃO - INTRA | B37: Em Exercícios Anteriores | C37: Em 31 de dezembro de <Exercício Anterior> | D37: Pagos | E37: Cancelados | F37: Saldo | G37: Em Exercícios Anteriores | H37: Em 31 de dezembro de <Exercício Anterior> | I37: Liquidados | J37: Pagos | K37: Cancelados | L37: Saldo
F38: (a) | G38: Anteriores | H38: <Exercício | L38: (b)
H39: Anterior>
A40: RESTOS A PAGAR (INTRA-ORÇAMENTÁRIOS) (II) | B40: =B41+B42 -> 0 | C40: =C41+C42 -> 593514.79 | D40: =D41+D42 -> 593514.79 | E40: =E41+E42 -> 0 | F40: =F41+F42 -> 0 | G40: =G41+G42 -> 0 | H40: =H41+H42 -> 476124.04 | I40: =I41+I42 -> 287600.59 | ... M40: =M41+M42 -> 41088.04
A41: PODER EXECUTIVO | B41: 0 | C41: 593514.79 | D41: 593514.79 | E41: 0 | F41: =B41+C41-D41-E41 -> 0 | G41: 0 | H41: 426880.04 | I41: 279300.03 | J41: 279300.03 | K41: 147580.01 | L41: =G41+H41-J41-K41 -> 0 | M41: =F41+L41 -> 0
A42: PODER LEGISLATIVO | B42: =SUM(B43:B44) -> 0 | C42: =SUM(C43:C44) -> 0 | D42: =SUM(D43:D44) -> 0 | E42: =SUM(E43:E44) -> 0 | F42: =SUM(F43:F44) -> 0 | G42: =SUM(G43:G44) -> 0 | H42: =SUM(H43:H44) -> 49244 | I42: =SUM(I43:I44) -> 8300.56 | ... M42: =SUM(M43:M44) -> 41088.04
A43: Câmara Municipal | B43: 0 | C43: 0 | D43: 0 | E43: 0 | F43: =B43+C43-D43-E43 -> 0 | G43: 0 | H43: 49244 | I43: 8300.56 | J43: 8155.96 | K43: 0 | L43: =G43+H43-J43-K43 -> 41088.04 | M43: =F43+L43 -> 41088.04
A44: Tribunal de Contas do Município | F44: =B44+C44-D44-E44 -> 0 | L44: =G44+H44-J44-K44 -> 0 | M44: =F44+L44 -> 0
A45: FONTE: Sistema CECAM, Unidade Responsável: CONTABILIDADE. Emissão: 14/09/2021, às 08:27:57. Assinado Digitalmente no dia 14/09/2021, às 08:27:57.
A49: NILSON ALCIDES GASPAR | E49: MARIANA ALVES RIZATO | J49: LUIS HENRIQUE BORTOLETTO
A50: PREFEITO MUNICIPAL | E50: CONTADORA | J50: COORDENADOR DE SERVIÇOS DE CONTABILIDADE
E51: CRC-SP 321123/O-4 | J51: CRC-SP 289944/O-3

Sheet RREO-Anexo 08
A2: PREFEITURA MUNICIPAL DE INDAIATUBA
A3: Av. Eng. Fabio R. Barnabe, 2800 - Jd. Esplanada II
A4: C.N.P.J. 44.733.608/0001-09
A5: Telefone: (19) 3834-9000
A6: Tabela 8.2 - Demonstrativo das Receitas e Despesas com Manutenção e Desenvolvimento do Ensino - MDE - MUNICÍPIOS
A8: PREFEITURA MUNICIPAL DE INDAIATUBA
A9: RELATÓRIO RESUMIDO DA EXECUÇÃO ORÇAMENTÁRIA
A10: DEMONSTRATIVO DAS RECEITAS E DESPESAS COM MANUTENÇÃO E DESENVOLVIMENTO DO ENSINO - MDE
A11: ORÇAMENTOS FISCAL E DA SEGURIDADE SOCIAL
A12: EXERCÍCIO: 2021
A13: Período: 4º Bimestre | B13: =IF(IFERROR(SEARCH("SEMESTRE",A13,1),0)>0,"Semestre",IF(IFERROR(SEARCH("QUADRIMESTRE",A13,1),0)>0,"Quadrimestre",IF(IFERROR(SEARCH("TRIMESTRE",A13,1),0)>0,"Trimestre",IF(IFERROR(SEARCH("BIMESTRE",A13,1),0)>0,"Bimestre","Mês")))) -> Bimestre
A17: RREO - ANEXO 8 (LDB, art. 72) | C17: Em Reais
A18: RECEITAS DO ENSINO
B19: PREVISÃO | C19: RECEITAS
A20: RECEITA RESULTANTE DE IMPOSTOS (caput do art. 212 da Constituição) | B20: ATUALIZADA | C20: REALIZADAS
B21: (a) | C21: (b)
A22: 1- RECEITA DE IMPOSTOS | B22: =SUM(B23:B26) -> 317330000 | C22: =SUM(C23:C26) -> 2.6389218e+08
A23: 1.1- Receita Resultante do Imposto sobre a Propriedade Predial e Territorial Urbana – IPTU | B23: 130330000 | C23: 1.1013675e+08
A24: 1.2- Receita Resultante do Imposto sobre Transmissão Inter Vivos – ITBI | B24: 50587000 | C24: 45787626
A25: 1.3- Receita Resultante do Imposto sobre Serviços de Qualquer Natureza – ISS | B25: 95380000 | C25: 80850937
A26: 1.4- Receita Resultante do Imposto de Renda Retido na Fonte – IRRF | B26: 41033000 | C26: 27116863
A27: 2- RECEITA DE TRANSFERÊNCIAS CONSTITUCIONAIS E LEGAIS | B27: =B28+SUM(B31:B36) -> 449583000 | C27: =C28+SUM(C31:C36) -> 3.4321495e+08
A28: 2.1- Cota-Parte FPM | B28: =SUM(B29:B30) -> 77050000 | C28: =SUM(C29:C30) -> 61486935
A29: 2.1.1- Parcela referente à CF, art. 159, I, alínea b | B29: 71000000 | C29: 58078477
A30: 2.1.2- Parcela referente à CF, art. 159, I, alínea d e e | B30: 6050000 | C30: 3408457.5
A31: 2.2- Cota-Parte ICMS | B31: 303733000 | C31: 2.146803e+08
A32: 2.3- ICMS-Desoneração – L.C. nº87/1996 | B32: 0 | C32: 0
A33: 2.4- Cota-Parte IPI-Exportação | B33: 1800000 | C33: 1628696.9
A34: 2.5- Cota-Parte ITR | B34: 1000000 | C34: 58423.17
A35: 2.6- Cota-Parte IPVA | B35: 66000000 | C35: 65360598
A36: 2.7- Cota-Parte IOF-Ouro
A37: 3- TOTAL DA RECEITA DE IMPOSTOS (1 + 2) | B37: =B22+B27 -> 766913000 | C37: =C22+C27 -> 6.0710713e+08
A39: 4- TOTAL DESTINADO AO FUNDEB - 20% DE ((2.1.1) + (2.2) + (2.3) + (2.4) + (2.5) + (2.6)) | B39: 80361000 | C39: 67961298
A41: 5- VALOR MÍNIMO A SER APLICADO ALÉM DO VALOR DESTINADO AO FUNDEB - 5% DE ((2.1.1) + (2.2) + (2.3) + (2.4) + (2.5)) + 25% DE ((1.1) + (1.2) + (1.3) + (1.4) + (2.1.2) + (2.6)+ (2.7)) | B41: =ROUND(B37*0.25,2)-B39 -> 111367250 | C41: =ROUND(C37*0.25,2)-C39 -> 83815484
A43: FUNDEB
B44: PREVISÃO | C44: RECEITAS
A45: RECEITAS RECEBIDAS DO FUNDEB NO EXERCÍCIO | B45: ATUALIZADA | C45: REALIZADAS
B46: (a) | C46: (b)
A47: 6- RECEITAS RECEBIDAS DO FUNDEB | B47: =B48+B51+B54 -> 134031000 | C47: =C48+C51+C54 -> 1.0104355e+08
A48: 6.1- FUNDEB - Impostos e Transferências de Impostos | B48: =SUM(B49:B50) -> 134031000 | C48: =SUM(C49:C50) -> 1.0104355e+08
...

Sheet RREO-Anexo 09
A2: PREFEITURA MUNICIPAL DE INDAIATUBA
A3: Av. Eng. Fabio R. Barnabe, 2800 - Jd. Esplanada II
A4: C.N.P.J. 44.733.608/0001-09
A5: Telefone: (19) 3834-9000
A6: Tabela 9 – Demonstrativo das Receitas de Operações de Crédito e Despesas de Capital
A8: PREFEITURA MUNICIPAL DE INDAIATUBA
A9: RELATÓRIO RESUMIDO DA EXECUÇÃO ORÇAMENTÁRIA
A10: DEMONSTRATIVO DAS RECEITAS DE OPERAÇÕES DE CRÉDITO E DESPESAS DE CAPITAL
A11: ORÇAMENTOS FISCAL E DA SEGURIDADE SOCIAL
A12: EXERCÍCIO: 2021
A13: Período: 4º Bimestre | B13: =IF(IFERROR(SEARCH("SEMESTRE",A13,1),0)>0,"Semestre",IF(IFERROR(SEARCH("QUADRIMESTRE",A13,1),0)>0,"Quadrimestre",IF(IFERROR(SEARCH("TRIMESTRE",A13,1),0)>0,"Trimestre",IF(IFERROR(SEARCH("BIMESTRE",A13,1),0)>0,"Bimestre","Mês")))) -> Bimestre
A17: RREO – ANEXO 9 (LRF, art.53, § 1º, inciso I) | D17: Em Reais
A18: RECEITAS | B18: PREVISÃO ATUALIZADA | C18: RECEITAS REALIZADAS | D18: SALDO NÃO REALIZADO
B19: (a) | C19: (b) | D19: (c) = (a – b)
A20: RECEITAS DE OPERAÇÕES DE CRÉDITO1 (I) | D20: =B20-C20 -> 0
B22: DOTAÇÃO | C22: DESPESAS | D22: SALDO NÃO EXECUTADO
A23: DESPESAS | B23: ATUALIZADA | C23: EMPENHADAS
B24: (d) | C24: (e) | D24: (f) = (d – e)
A25: DESPESAS DE CAPITAL | B25: =B26+B27+B28 -> 0 | C25: =C26+C27+C28 -> 0 | D25: =B25-C25 -> 0
A26: Investimentos | B26: 0 | C26: 0 | D26: =B26-C26 -> 0
A27: Inversões Financeiras | D27: =B27-C27 -> 0
A28: Amortização da Dívida | B28: 0 | C28: 0 | D28: =B28-C28 -> 0
A29: (-) Incentivos Fiscais a Contribuinte | D29: =B29-C29 -> 0
A30: (-) Incentivos Fiscais a Contribuinte por Instituições Financeiras | D30: =B30-C30 -> 0
A31: DESPESA DE CAPITAL LÍQUIDA (II) | B31: =B25-B29-B30 -> 0 | C31: =C25-C29-C30 -> 0 | D31: =D25-D29-D30 -> 0
A32: RESULTADO PARA APURAÇÃO DA | B32: =B20-B31 -> 0 | C32: =C20-C31 -> 0 | D32: =D31-D20 -> 0
A33: REGRA DE OURO (III) = (I – II)
A34: FONTE: Sistema CECAM, Unidade Responsável: CONTABILIDADE. Emissão: 14/09/2021, às 08:30:30. Assinado Digitalmente no dia 14/09/2021, às 08:30:30.
A35: Notas:
A36: 1 Operações de Crédito descritas na CF, art. 167, inciso III
A41: NILSON ALCIDES GASPAR | B41: MARIANA ALVES RIZATO | D41: LUIS HENRIQUE BORTOLETTO
A42: PREFEITO MUNICIPAL | B42: CONTADORA | D42: COORDENADOR DE SERVIÇOS DE CONTABILIDADE
B43: CRC-SP 321123/O-4 | D43: CRC-SP 289944/O-3

Sheet RREO-Anexo 10
A2: PREFEITURA MUNICIPAL DE INDAIATUBA
A3: Av. Eng. Fabio R. Barnabe, 2800 - Jd. Esplanada II
A4: C.N.P.J. 44.733.608/0001-09
A5: Telefone: (19) 3834-9000
A6: Tabela 10.1 - Demonstrativo da Projeção Atuarial do Regime Próprio de Previdência dos Servidores
A8: PREFEITURA MUNICIPAL DE INDAIATUBA
A9: RELATÓRIO RESUMIDO DA EXECUÇÃO ORÇAMENTÁRIA
A10: DEMONSTRATIVO DA PROJEÇÃO ATUARIAL DO REGIME PRÓPRIO DE PREVIDÊNCIA DOS SERVIDORES
A11: ORÇAMENTO DA SEGURIDADE SOCIAL
A12: EXERCÍCIO: 2021
A13: Período: 4º Bimestre
A17: RREO – ANEXO 10 (LRF, art. 53, § 1º, inciso II) | E17: Em Reais
A18: PLANO PREVIDÊNCIARIO
A19: EXERCÍCIO | B19: RECEITAS | C19: DESPESAS | D19: RESULTADO | E19: SALDO FINANCEIRO
B20: PREVIDENCIÁRIAS | C20: PREVIDENCIÁRIAS | D20: PREVIDENCIÁRIO | E20: DO EXERCÍCIO
B21: (a) | C21: (b) | D21: (c) = (a - b) | E21: (d) = (“d” exerc. Anterior) + (c)
A22: 2021 | D22: =B22-C22 -> 0 | E22: =D22+F22 -> 0
A23: =IF(A22<>"",IF(A22>0,A22+1,""),"") -> 2022 | D23: =B23-C23 -> 0 | E23: =D23+E22 -> 0
A24: =IF(A23<>"",IF(A23>0,A23+1,""),"") -> 2023 | D24: =B24-C24 -> 0 | E24: =D24+E23 -> 0
A25: =IF(A24<>"",IF(A24>0,A24+1,""),"") -> 2024 | D25: =B25-C25 -> 0 | E25: =D25+E24 -> 0
A26: =IF(A25<>"",IF(A25>0,A25+1,""),"") -> 2025 | D26: =B26-C26 -> 0 | E26: =D26+E25 -> 0
A27: =IF(A26<>"",IF(A26>0,A26+1,""),"") -> 2026 | D27: =B27-C27 -> 0 | E27: =D27+E26 -> 0
A28: =IF(A27<>"",IF(A27>0,A27+1,""),"") -> 2027 | D28: =B28-C28 -> 0 | E28: =D28+E27 -> 0
A29: =IF(A28<>"",IF(A28>0,A28+1,""),"") -> 2028 | D29: =B29-C29 -> 0 | E29: =D29+E28 -> 0
A30: =IF(A29<>"",IF(A29>0,A29+1,""),"") -> 2029 | D30: =B30-C30 -> 0 | E30: =D30+E29 -> 0
A31: =IF(A30<>"",IF(A30>0,A30+1,""),"") -> 2030 | D31: =B31-C31 -> 0 | E31: =D31+E30 -> 0
A32: =IF(A31<>"",IF(A31>0,A31+1,""),"") -> 2031 | D32: =B32-C32 -> 0 | E32: =D32+E31 -> 0
A33: =IF(A32<>"",IF(A32>0,A32+1,""),"") -> 2032 | D33: =B33-C33 -> 0 | E33: =D33+E32 -> 0
A34: =IF(A33<>"",IF(A33>0,A33+1,""),"") -> 2033 | D34: =B34-C34 -> 0 | E34: =D34+E33 -> 0
... A96: =IF(A95<>"",IF(A95>0,A95+1,""),"") -> 2095 | D96: =B96-C96 -> 0 | E96: =D96+E95 -> 0
A97: FONTE: Sistema CECAM, Unidade Responsável: CONTABILIDADE. Emissão: 14/09/2021, às 08:30:31. Assinado Digitalmente no dia 14/09/2021, às 08:30:31.
A98: Notas: 1 Projeção atuarial elaborada em <DATA DA AVALIAÇÃO> e oficialmente enviada para o Ministério da Previdência Social – MPS.
A99: 2 Este Demonstrativo utiliza as seguintes hipóteses: <HIPÓTESE>: <VALOR>
A109: PLANO FINANCEIRO
A110: EXERCÍCIO | B110: RECEITAS | C110: DESPESAS | D110: RESULTADO | E110: SALDO FINANCEIRO
B111: PREVIDENCIÁRIAS | C111: PREVIDENCIÁRIAS | D111: PREVIDENCIÁRIO | E111: DO EXERCÍCIO
B112: (a) | C112: (b) | D112: (c) = (a - b) | E112: (d) = (“d” exerc. Anterior) + (c)
A113: 2021 | D113: =B113-C113 -> 0 | E113: =D113+F113 -> 0
A114: =IF(A113<>"",IF(A113>0,A113+1,""),"") -> 2022 | D114: =B114-C114 -> 0 | E114: =D114+E113 -> 0
A115: =IF(A114<>"",IF(A114>0,A114+1,""),"") -> 2023 | D115: =B115-C115 -> 0 | E115: =D115+E114 -> 0
...

Sheet RREO-Anexo 11
A2: PREFEITURA MUNICIPAL DE INDAIATUBA
A3: Av. Eng. Fabio R. Barnabe, 2800 - Jd. Esplanada II
A4: C.N.P.J. 44.733.608/0001-09
A5: Telefone: (19) 3834-9000
A6: Tabela 11 - Demonstrativo da Receita de Alienação de Ativos e Aplicação dos Recursos
A8: PREFEITURA MUNICIPAL DE INDAIATUBA
A9: RELATÓRIO RESUMIDO DA EXECUÇÃO ORÇAMENTÁRIA
A10: DEMONSTRATIVO DA RECEITA DE ALIENAÇÃO DE ATIVOS E APLICAÇÃO DOS RECURSOS
A11: ORÇAMENTOS FISCAL E DA SEGURIDADE SOCIAL
A12: EXERCÍCIO: 2021
A13: Período: 4º Bimestre | B13: =IF(IFERROR(SEARCH("SEMESTRE",A13,1),0)>0,"Semestre",IF(IFERROR(SEARCH("QUADRIMESTRE",A13,1),0)>0,"Quadrimestre",IF(IFERROR(SEARCH("TRIMESTRE",A13,1),0)>0,"Trimestre",IF(IFERROR(SEARCH("BIMESTRE",A13,1),0)>0,"Bimestre","Mês")))) -> Bimestre
A17: RREO – ANEXO 11 (LRF, art. 53, § 1º, inciso III ) | D17: Em Reais
A18: RECEITAS | B18: PREVISÃO ATUALIZADA | C18: RECEITAS REALIZADAS | D18: SALDO
B19: (a) | C19: (b) | D19: (c) = (a-b)
A20: RECEITAS DE ALIENAÇÃO DE ATIVOS (I) | B20: =B21+B22+B23+B24 -> 0 | C20: =C21+C22+C23+C24 -> 0 | D20: =B20-C20 -> 0
A21: Receita de Alienação de Bens Móveis | B21: 0 | C21: 0 | D21: =B21-C21 -> 0
A22: Receita de Alienação de Bens Imóveis | B22: 0 | C22: 0 | D22: =B22-C22 -> 0
A23: Receita de Alienação de Bens Intangiveis | D23: =B23-C23 -> 0
A24: Receita de Rendimento de Aplicações Financeiras | B24: 0 | C24: 0 | D24: =B24-C24 -> 0
B26: DOTAÇÃO ATUALIZADA | C26: DESPESAS | D26: DESPESAS | E26: DESPESAS (e) | F26: DESPESAS INSCRITAS EM RESTOS A PAGAR NÃO PROCESSADOS | G26: PAGAMENTO | H26: SALDO
A27: DESPESAS | C27: EMPENHADAS | D27: LIQUIDADAS | E27: PAGAS | G27: DE RESTOS A PAGAR
B28: (d) | C28: (e) | E28: (f) | G28: (g) | H28: (h) = (d-e)
A29: APLICAÇÃO DOS RECURSOS DA ALIENAÇÃO DE ATIVOS (II) | B29: =B30+B34 -> 0 | C29: =C30+C34 -> 0 | D29: =D30+D34 -> 0 | E29: =E30+E34 -> 0 | F29: =F30+F34 -> 0 | G29: =G30+G34 -> 0 | H29: =B29-E29 -> 0
A30: Despesas de Capital | B30: =B31+B32+B33 -> 0 | C30: =C31+C32+C33 -> 0 | D30: =D31+D32+D33 -> 0 | E30: =E31+E32+E33 -> 0 | F30: =F31+F32+F33 -> 0 | G30: =G31+G32+G33 -> 0 | H30: =B30-C30 -> 0
A31: Investimentos | B31: 0 | C31: 0 | D31: 0 | E31: 0 | G31: 0 | H31: =B31-C31 -> 0
A32: Inversões Financeiras | H32: =B32-C32 -> 0
A33: Amortização da Dívida | H33: =B33-C33 -> 0
A34: Despesas Correntes dos Regimes de Previdência | B34: =B35 -> 0 | C34: =C35 -> 0 | D34: =D35 -> 0 | E34: =E35 -> 0 | F34: =F35 -> 0 | G34: =G35 -> 0 | H34: =B34-C34 -> 0
A35: Regime Próprio dos Servidores Públicos | H35: =B35-C35 -> 0
A37: SALDO FINANCEIRO A APLICAR | B37: <EXERCÍCIO ANTERIOR> | C37: <EXERCÍCIO> | D37: SALDO ATUAL
B38: (i) | C38: (j) = (Ib – (IIf+ IIg)) | D38: (k) = (IIIi + IIIj)
A39: VALOR (III) | C39: =C20-(E29+G29) -> 0 | D39: =B39+C39 -> 0
A40: FONTE: Sistema CECAM, Unidade Responsável: CONTABILIDADE. Emissão: 14/09/2021, às 08:30:40. Assinado Digitalmente no dia 14/09/2021, às 08:30:40.
A46: NILSON ALCIDES GASPAR | C46: MARIANA ALVES RIZATO | F46: LUIS HENRIQUE BORTOLETTO
A47: PREFEITO MUNICIPAL | C47: CONTADORA | F47: COORDENADOR DE SERVIÇOS DE CONTABILIDADE
C48: CRC-SP 321123/O-4 | F48: CRC-SP 289944/O-3

Sheet RREO-Anexo 12
A2: PREFEITURA MUNICIPAL DE INDAIATUBA
A3: Av. Eng. Fabio R. Barnabe, 2800 - Jd. Esplanada II
A4: C.N.P.J. 44.733.608/0001-09
A5: Telefone: (19) 3834-9000
A6: Tabela 12.2 - Demonstrativo das Despesas com Saúde - Municípios
A8: PREFEITURA MUNICIPAL DE INDAIATUBA
A9: RELATÓRIO RESUMIDO DA EXECUÇÃO ORÇAMENTÁRIA
A10: DEMONSTRATIVO DAS RECEITAS E DESPESAS COM AÇÕES E SERVIÇOS PÚBLICOS DE SAÚDE
A11: ORÇAMENTOS FISCAL E DA SEGURIDADE SOCIAL
A12: EXERCÍCIO: 2021
A13: Período: 4º Bimestre | B13: =IF(IFERROR(SEARCH("SEMESTRE",A13,1),0)>0,"Semestre",IF(IFERROR(SEARCH("QUADRIMESTRE",A13,1),0)>0,"Quadrimestre",IF(IFERROR(SEARCH("TRIMESTRE",A13,1),0)>0,"Trimestre",IF(IFERROR(SEARCH("BIMESTRE",A13,1),0)>0,"Bimestre","Mês")))) -> Bimestre
A17: RREO – ANEXO 12 (LC 141/2012, art. 35) | E17: Em Reais
A18: RECEITAS PARA APURAÇÃO DA APLICAÇÃO EM AÇÕES E SERVIÇOS PÚBLICOS DE SAÚDE | B18: PREVISÃO | C18: PREVISÃO | D18: RECEITAS REALIZADAS
B19: INICIAL | C19: ATUALIZADA | D19: =CONCATENATE("Até o ", B13) -> Até o Bimestre | E19: %
C20: (a) | D20: (b) | E20: (b/a) x 100
A21: RECEITA DE IMPOSTOS (I) | B21: =B22+B25+B28+B31 -> 286915000 | C21: =C22+C25+C28+C31 -> 317330000 | D21: =D22+D25+D28+D31 -> 2.6389218e+08 | E21: =IF(C21>0,D21/C21*100,0) -> 83.160174
A22: Receita Resultante do Imposto Predial e Territorial Urbano - IPTU | B22: =SUM(B23:B24) -> 125330000 | C22: =SUM(C23:C24) -> 130330000 | D22: =SUM(D23:D24) -> 1.1013675e+08 | E22: =IF(C22>0,D22/C22*100,0) -> 84.506064
A23: IPTU | B23: 109000000 | C23: 114000000 | D23: 89877840 | E23: =IF(C23>0,D23/C23*100,0) -> 78.840211
A24: Multas, Juros de Mora, Divida Ativa e Outros Encargos do IPTU | B24: 16330000 | C24: 16330000 | D24: 20258913 | E24: =IF(C24>0,D24/C24*100,0) -> 124.05948
A25: Receita Resultante do Imposto sobre Transmissão Inter Vivos - ITBI | B25: =SUM(B26:B27) -> 30405000 | C25: =SUM(C26:C27) -> 50587000 | D25: =SUM(D26:D27) -> 45787626 | E25: =IF(C25>0,D25/C25*100,0) -> 90.512634
A26: ITBI | B26: 30000000 | C26: 50182000 | D26: 45664183 | E26: =IF(C26>0,D26/C26*100,0) -> 90.997136
A27: Multas, Juros de Mora, Dívida Ativa e Outros Encargos do ITBI | B27: 405000 | C27: 405000 | D27: 123443.49 | E27: =IF(C27>0,D27/C27*100,0) -> 30.479874
A28: Receita Resultante do Imposto sobre Serviços de Qualquer Natureza - ISS | B28: =SUM(B29:B30) -> 90380000 | C28: =SUM(C29:C30) -> 95380000 | D28: =SUM(D29:D30) -> 80850937 | E28: =IF(C28>0,D28/C28*100,0) -> 84.767181
A29: ISS | B29: 85500000 | C29: 90500000 | D29: 75970972 | E29: =IF(C29>0,D29/C29*100,0) -> 83.945826
A30: Multas, Juros de Mora, Dívida Ativa e Outros Encargos do ISS | B30: 4880000 | C30: 4880000 | D30: 4879964.7 | E30: =IF(C30>0,D30/C30*100,0) -> 99.999277
A31: Receita Resultante do IRRF | B31: 40800000 | C31: 41033000 | D31: 27116863 | E31: =IF(C31>0,D31/C31*100,0) -> 66.085499
A32: RECEITA DE TRANSFERÊNCIAS CONSTITUCIONAIS E LEGAIS (II) | B32: =SUM(B33:B38) -> 401805000 | C32: =SUM(C33:C38) -> 443538000 | D32: =SUM(D33:D38) -> 3.3980649e+08 | E32: =IF(C32>0,D32/C32*100,0) -> 76.612712
A33: Cota-Parte FPM | B33: 71000000 | C33: 71000000 | D33: 58078477 | E33: =IF(C33>0,D33/C33*100,0) -> 81.800672
A34: Cota-Parte ITR | B34: 1000000 | C34: 1000000 | D34: 58423.17 | E34: =IF(C34>0,D34/C34*100,0) -> 5.842317
A35: Cota-Parte IPVA | B35: 66000000 | C35: 66000000 | D35: 65360598 | E35: =IF(C35>0,D35/C35*100,0) -> 99.03121
A36: Cota-Parte ICMS | B36: 262000000 | C36: 303733000 | D36: 2.146803e+08 | E36: =IF(C36>0,D36/C36*100,0) -> 70.680596
A37: Cota-Parte IPI-Exportação | B37: 1800000 | C37: 1800000 | D37: 1628696.9 | E37: =IF(C37>0,D37/C37*100,0) -> 90.483161
A38: Compensações Financeiras Provenientes de Impostos e Transferências Constitucionais | B38: =SUM(B39:B40) -> 5000 | C38: =SUM(C39:C40) -> 5000 | D38: =SUM(D39:D40) -> 0 | E38: =IF(C38>0,D38/C38*100,0) -> 0
A39: Desoneração ICMS (LC 87/96) | B39: 5000 | C39: 5000 | D39: 0 | E39: =IF(C39>0,D39/C39*100,0) -> 0
A40: Outras | E40: =IF(C40>0,D40/C40*100,0) -> 0
A41: TOTAL DAS RECEITAS RESULTANTES DE IMPOSTOS E TRANFERÊNCIAS CONSTITUCIONAIS E LEGAIS - (III) = (I) + (II) | B41: =B21+B32 -> 688720000 | C41: =C21+C32 -> 760868000 | D41: =D21+D32 -> 6.0369867e+08 | E41: =IF(C41>0,D41/C41*100,0) -> 79.343417
A43: DESPESAS COM AÇÕES E SERVIÇOS PÚBLICOS DE SAÚDE (ASPS) – POR SUBFUNÇÃO E CATEGORIA ECONÔMICA | B43: DOTAÇÃO | C43: DOTAÇÃO | D43: DESPESAS EMPENHADAS | F43: DESPESAS LIQUIDADAS | H43: DESPESAS PAGAS | J43: Inscritas em Restos a Pagar não Processados7
A44: (Por Subfunção) | B44: INICIAL | C44: ATUALIZADA | D44: =CONCATENATE("Até o ", B13) -> Até o Bimestre | E44: % | F44: =CONCATENATE("Até o ", B13) -> Até o Bimestre | G44: % | H44: =CONCATENATE("Até o ", B13) -> Até o Bimestre | I44: %
C45: (c) | D45: (d) | E45: (d/c) x 100 | F45: (e) | G45: (e/c) x 100 | H45: (f) | I45: (f/c) x 100 | J45: (g)
A46: ATENÇÃO BÁSICA (IV) | B46: =SUM(B47:B48) -> 37427000 | C46: =SUM(C47:C48) -> 38299004 | D46: =SUM(D47:D48) -> 25929855 | E46: =IF(C46>0,D46/C46*100,0) -> 67.703732 | F46: =SUM(F47:F48) -> 24575102 | G46: =IF(C46>0,F46/C46*100,0) -> 64.166426 | H46: =SUM(H47:H48) -> 21717701 | I46: =IF(C46>0,H46/C46*100,0) -> 56.705654 | J46: =SUM(J47:J48) -> 0
...

Sheet RREO-Anexo 13
A2: PREFEITURA MUNICIPAL DE INDAIATUBA
A3: Av. Eng. Fabio R. Barnabe, 2800 - Jd. Esplanada II
A4: C.N.P.J. 44.733.608/0001-09
A5: Telefone: (19) 3834-9000
A6: Tabela 13 - Demonstrativo das Parcerias Público Privadas
A8: PREFEITURA MUNICIPAL DE INDAIATUBA
A9: RELATÓRIO RESUMIDO DA EXECUÇÃO ORÇAMENTÁRIA
A10: DEMONSTRATIVO DAS PARCERIAS PÚBLICO-PRIVADAS
A11: ORÇAMENTOS FISCAL E DA SEGURIDADE SOCIAL
A12: EXERCÍCIO: 2021
A13: Período: 4º Bimestre | B13: =IF(IFERROR(SEARCH("SEMESTRE",A13,1),0)>0,"Semestre",IF(IFERROR(SEARCH("QUADRIMESTRE",A13,1),0)>0,"Quadrimestre",IF(IFERROR(SEARCH("TRIMESTRE",A13,1),0)>0,"Trimestre",IF(IFERROR(SEARCH("BIMESTRE",A13,1),0)>0,"Bimestre","Mês")))) -> Bimestre
A17: RREO - Anexo 13 (Lei nº 11.079, de 30.12.2004, arts. 22, 25 e 28) | D17: Em reais
A18: ESPECIFICAÇÃO | B18: SALDO | C18: REGISTROS EFETUADOS EM <EXERCÍCIO>
B19: DO EXERCÍCIO | C19: =CONCATENATE("No ", B13) -> No Bimestre | D19: =CONCATENATE("Até o ", B13) -> Até o Bimestre
B20: ANTERIOR
B21: (a) | D21: (b)
A22: TOTAL DE ATIVOS | B22: =B23 -> 0 | C22: =C23 -> 0 | D22: =D23 -> 0
A23: Ativos Constituídos pela SPE
A24: TOTAL DE PASSIVOS | B24: =SUM(B25:B27) -> 0 | C24: =SUM(C25:C27) -> 0 | D24: =SUM(D25:D27) -> 0
A25: Obrigações decorrentes de Ativos Constituídos pela SPE
A26: Provisões de PPP
A27: Outros Passivos
A28: ATOS POTENCIAIS PASSIVOS | B28: =SUM(B29:B32) -> 0 | C28: =SUM(C29:C32) -> 0 | D28: =SUM(D29:D32) -> 0
A29: Obrigações Contratuais
A30: Riscos não Provisionados
A31: Garantias Concedidas
A32: Outros Passivos Contingentes
B42: EXERCÍCIO | C42: EXERCÍCIO | D42: <EC + 1> | E42: <EC + 2> | F42: <EC + 3> | G42: <EC + 4> | H42: <EC + 5> | I42: <EC + 6> | J42: <EC + 7> | K42: <EC + 8> | L42: <EC + 9>
A43: DESPESAS DE PPP | B43: ANTERIOR | C43: CORRENTE
C44: (EC)
A45: DO ENTE FEDERADO, EXCETO ESTATAIS NÃO DEPENDENTES (I) = (I.1 + I.2) | B45: =B46+B52 -> 0 | C45: =C46+C52 -> 0 | D45: =D46+D52 -> 0 | E45: =E46+E52 -> 0 | F45: =F46+F52 -> 0 | G45: =G46+G52 -> 0 | H45: =H46+H52 -> 0 | I45: =I46+I52 -> 0 | ... L45: =L46+L52 -> 0
A46: Do Ente Federado, exceto estatais não dependentes - Contratadas (I.1)
A52: Do Ente Federado, exceto estatais não dependentes - A contratar (I.2)
A58: DAS ESTATAIS NÃO-DEPENDENTES (II) = (II.1 + II.2) | B58: =B59+B65 -> 0 | C58: =C59+C65 -> 0 | D58: =D59+D65 -> 0 | E58: =E59+E65 -> 0 | F58: =F59+F65 -> 0 | G58: =G59+G65 -> 0 | H58: =H59+H65 -> 0 | I58: =I59+I65 -> 0 | ... L58: =L59+L65 -> 0
A59: Das Estatais Não-Dependentes - Contratadas (II.1)
A65: Das Estatais Não-Dependentes - A contratar (II.2)
A71: TOTAL DAS DESPESAS DE PPP (III) = (I +II) | B71: =B45+B58 -> 0 | C71: =C45+C58 -> 0 | D71: =D45+D58 -> 0 | E71: =E45+E58 -> 0 | F71: =F45+F58 -> 0 | G71: =G45+G58 -> 0 | H71: =H45+H58 -> 0 | I71: =I45+I58 -> 0 | ... L71: =L45+L58 -> 0
A72: RECEITA CORRENTE LÍQUIDA (RCL) (IV)
A73: TOTAL DAS DESPESAS CONSIDERADAS PARA O LIMITE (I) | B73: =B45 -> 0 | C73: =C45 -> 0 | D73: =D45 -> 0 | E73: =E45 -> 0 | F73: =F45 -> 0 | G73: =G45 -> 0 | H73: =H45 -> 0 | I73: =I45 -> 0 | ... L73: =L45 -> 0
A74: TOTAL DAS DESPESAS CONSIDERADAS PARA O LIMITE / RCL (%) (V) = (I / IV) | B74: =IF(B72>0,B71/B72*100,0) -> 0 | C74: =IF(C72>0,C71/C72*100,0) -> 0 | D74: =IF(D72>0,D71/D72*100,0) -> 0 | E74: =IF(E72>0,E71/E72*100,0) -> 0 | F74: =IF(F72>0,F71/F72*100,0) -> 0 | G74: =IF(G72>0,G71/G72*100,0) -> 0 | H74: =IF(H72>0,H71/H72*100,0) -> 0 | I74: =IF(I72>0,I71/I72*100,0) -> 0 | ... L74: =IF(L72>0,L71/L72*100,0) -> 0
...

Sheet RREO-Anexo 14
A2: PREFEITURA MUNICIPAL DE INDAIATUBA
A3: Av. Eng. Fabio R. Barnabe, 2800 - Jd. Esplanada II
A4: C.N.P.J. 44.733.608/0001-09
A5: Telefone: (19) 3834-9000
A6: Tabela 14 - Demonstrativo Simplificado do Relatório Resumido da Execução Orçamentária
A8: PREFEITURA MUNICIPAL DE INDAIATUBA
A9: RELATÓRIO RESUMIDO DA EXECUÇÃO ORÇAMENTÁRIA
A10: DEMONSTRATIVO SIMPLIFICADO DO RELATÓRIO RESUMIDO DA EXECUÇÃO ORÇAMENTÁRIA
A11: ORÇAMENTOS FISCAL E DA SEGURIDADE SOCIAL
A12: EXERCÍCIO: 2021
A13: Período: 4º Bimestre | B13: =IF(IFERROR(SEARCH("SEMESTRE",A13,1),0)>0,"Semestre",IF(IFERROR(SEARCH("QUADRIMESTRE",A13,1),0)>0,"Quadrimestre",IF(IFERROR(SEARCH("TRIMESTRE",A13,1),0)>0,"Trimestre",IF(IFERROR(SEARCH("BIMESTRE",A13,1),0)>0,"Bimestre","Mês")))) -> Bimestre
A19: RREO - Anexo XVIII (LRF, Art. 48) | B19: Em Reais
A20: BALANÇO ORÇAMENTÁRIO | B20: =CONCATENATE("Até o ", B13) -> Até o Bimestre
A21: RECEITAS
A22: Previsão Inicial | B22: ='RREO-Anexo 01'!B95 -> 1200000000
A23: Previsão Atualizada | B23: ='RREO-Anexo 01'!C95 -> 1.3146136e+09
A24: Receitas Realizadas | B24: ='RREO-Anexo 01'!F95 -> 9.8809074e+08
A25: Déficit Orçamentário | B25: ='RREO-Anexo 01'!F96 -> 0
A26: Saldos de Exercícios Anteriores (Utilizados para Créditos Adicionais) | B26: ='RREO-Anexo 01'!F98 -> 1.4937098e+08
A27: DESPESAS
A28: Dotação Inicial | B28: ='RREO-Anexo 01'!B128 -> 1174530000
A29: Dotação Atualizada | B29: ='RREO-Anexo 01'!C128 -> 1.4385146e+09
A30: Despesas Empenhadas | B30: ='RREO-Anexo 01'!E128 -> 9.8416454e+08
A31: Despesas Liquidadas | B31: ='RREO-Anexo 01'!H128 -> 7.6629739e+08
A32: Despesas Pagas | B32: ='RREO-Anexo 01'!J128 -> 6.9981206e+08
A33: Superávit Orçamentário | B33: =IF(A13="Período: 6º Bimestre",'RREO-Anexo 01'!E129,'RREO-Anexo 01'!H129) -> 2.2179336e+08
A41: DESPESAS POR FUNÇÃO/SUBFUNÇÃO | B41: =CONCATENATE("Até o ", B13) -> Até o Bimestre
A42: Despesas Empenhadas | B42: ='RREO-Anexo 02'!E214 -> 9.8416454e+08
A43: Despesas Liquidadas | B43: ='RREO-Anexo 02'!I214 -> 7.6629739e+08
A51: RECEITA CORRENTE LÍQUIDA - RCL | B51: =CONCATENATE("Até o ", B13) -> Até o Bimestre
A52: Receita Corrente Líquida | B52: ='RREO-Anexo 03'!N50 -> 1.2970098e+09
A53: Receita Corrente Líquida Ajustada para Cálculo dos Limites de Endividamento | B53: ='RREO-Anexo 03'!N52 -> 1.2950092e+09
A54: Receita Corrente Líquida Ajustada para Cálculo dos Limites da Despesa com Pessoal | B54: ='RREO-Anexo 03'!N54 -> 1.2950092e+09
A66: RECEITAS E DESPESAS DOS REGIMES DE PREVIDÊNCIA | B66: =CONCATENATE("Até o ", B13) -> Até o Bimestre
A67: Regime Próprio de Previdência dos Servidores - PLANO PREVIDENCIÁRIO
A68: Receitas Previdenciárias Realizadas | B68: ='RREO-Anexo 04'!C43 -> 67667166
A69: Despesas Previdenciárias Empenhadas | B69: ='RREO-Anexo 04'!C58 -> 57202673
A70: Despesas Previdenciárias Liquidadas | B70: ='RREO-Anexo 04'!D58 -> 56971106
A71: Resultado Previdenciário | B71: ='RREO-Anexo 04'!D59 -> 10696060
A72: Regime Próprio de Previdência dos Servidores - PLANO FINANCEIRO
...
