Workbook
Name Cancela: #REF!,#REF!
Name fdsafs: #REF!,#REF!
Name fdsf: #REF!
Name Ganhos_e_perdas_de_receita: #REF!
Name Ganhos_e_Perdas_de_Receita_99: #REF!
Name Plan: #REF!
Name Planilha: #REF!
Name Planilha_1: #REF!,#REF!
Name Planilha_1ÁreaTotal: #REF!,#REF!
Name Planilha_1ÁreaTotal: #REF!,#REF!
Name Planilha_1ÁreaTotal: 'RREO-Anexo 07'!#REF!,'RREO-Anexo 07'!$H$18:$L$28
Name Planilha_1ÁreaTotal: #REF!,#REF!
Name Planilha_1ÁreaTotal: #REF!,#REF!
Name Planilha_1ÁreaTotal: #REF!,#REF!
Name Planilha_1ÁreaTotal: #REF!,#REF!
Name Planilha_1ÁreaTotal: #REF!,#REF!
Name Planilha_1CabGráfico: #REF!
Name Planilha_1CabGráfico: #REF!
Name Planilha_1CabGráfico: 'RREO-Anexo 07'!#REF!
Name Planilha_1CabGráfico: #REF!
Name Planilha_1CabGráfico: #REF!
Name Planilha_1CabGráfico: #REF!
Name Planilha_1CabGráfico: #REF!
Name Planilha_1CabGráfico: #REF!
Name Planilha_1TítCols: #REF!,#REF!
Name Planilha_1TítCols: #REF!,#REF!
Name Planilha_1TítCols: 'RREO-Anexo 07'!#REF!,'RREO-Anexo 07'!#REF!
Name Planilha_1TítCols: #REF!,#REF!
Name Planilha_1TítCols: #REF!,#REF!
Name Planilha_1TítCols: #REF!,#REF!
Name Planilha_1TítCols: #REF!,#REF!
Name Planilha_1TítCols: #REF!,#REF!
Name Planilha_1TítLins: #REF!
Name Planilha_1TítLins: #REF!
Name Planilha_1TítLins: 'RREO-Anexo 07'!#REF!
Name Planilha_1TítLins: #REF!
Name Planilha_1TítLins: #REF!
Name Planilha_1TítLins: #REF!
Name Planilha_1TítLins: #REF!
Name Planilha_1TítLins: #REF!
Name Planilha_2ÁreaTotal: #REF!,#REF!
Name Planilha_2ÁreaTotal: #REF!,#REF!
Name Planilha_2ÁreaTotal: #REF!,#REF!
Name Planilha_2ÁreaTotal: #REF!,#REF!
Name Planilha_2ÁreaTotal: #REF!,#REF!
Name Planilha_2ÁreaTotal: #REF!,#REF!
Name Planilha_2CabGráfico: #REF!
Name Planilha_2CabGráfico: #REF!
Name Planilha_2CabGráfico: #REF!
Name Planilha_2CabGráfico: #REF!
Name Planilha_2CabGráfico: #REF!
Name Planilha_2TítCols: #REF!,#REF!
Name Planilha_2TítCols: #REF!,#REF!
Name Planilha_2TítCols: #REF!,#REF!
Name Planilha_2TítCols: #REF!,#REF!
Name Planilha_2TítCols: #REF!,#REF!
Name Planilha_2TítCols: #REF!,#REF!
Name Planilha_2TítLins: #REF!
Name Planilha_2TítLins: #REF!
Name Planilha_2TítLins: #REF!

Sheet RREO-Anexo 01
A2: PREFEITURA MUNICIPAL DE INDAIATUBA
A3: Av. Eng. Fabio R. Barnabe, 2800 - Jd. Esplanada II
A4: C.N.P.J. 44.733.608/0001-09
A5: Telefone: (19) 3834-9000
A6: Tabela 1 - Balanço Orçamentário
A8: PREFEITURA MUNICIPAL DE INDAIATUBA
A9: RELATÓRIO RESUMIDO DA EXECUÇÃO ORÇAMENTÁRIA
A10: BALANÇO ORÇAMENTÁRIO
A11: ORÇAMENTOS FISCAL E DA SEGURIDADE SOCIAL
A12: Período: 3º Bimestre | B12: =IF(IFERROR(SEARCH("SEMESTRE",A12,1),0)>0,"Semestre",IF(IFERROR(SEARCH("QUADRIMESTRE",A12,1),0)>0,"Quadrimestre",IF(IFERROR(SEARCH("TRIMESTRE",A12,1),0)>0,"Trimestre",IF(IFERROR(SEARCH("BIMESTRE",A12,1),0)>0,"Bimestre","Mês")))) -> Bimestre
A17: RREO - Anexo 1 (LRF, Art. 52, inciso I, alíneas "a" e "b" do inciso II e §1º) | H17: Em Reais
B18: PREVISÃO INICIAL | C18: PREVISÃO ATUALIZADA | D18: RECEITAS REALIZADAS | H18: SALDO
A19: RECEITAS | C19: ATUALIZADA | D19: =CONCATENATE("No ", B12) -> No Bimestre | E19: % | F19: =CONCATENATE("Até o ", B12) -> Até o Bimestre | G19: %
C20: (a) | D20: (b) | E20: (b/a) | F20: (c) | G20: (c/a) | H20: (a-c)
A21: RECEITAS (EXCETO INTRA-ORÇAMENTÁRIAS) (I) | B21: =B22+B62 -> 2536352000 | C21: =C22+C62 -> 2.5678566e+09 | D21: =D22+D62 -> 4.5436513e+08 | E21: =IF(C21>0,D21/C21,0)*100 -> 17.694334 | F21: =F22+F62 -> 1.3937223e+09 | G21: =IF(C21>0,F21/C21,0)*100 -> 54.275707 | H21: =C21-F21 -> 1.1741343e+09
A22: RECEITAS CORRENTES | B22: =B23+B27+B32+B40+B41+B42+B48+B56 -> 2497790000 | C22: =C23+C27+C32+C40+C41+C42+C48+C56 -> 2.5124847e+09 | D22: =D23+D27+D32+D40+D41+D42+D48+D56 -> 4.5306506e+08 | E22: =IF(C22>0,D22/C22,0)*100 -> 18.03255 | F22: =F23+F27+F32+F40+F41+F42+F48+F56 -> 1.3859901e+09 | G22: =IF(C22>0,F22/C22,0)*100 -> 55.16412 | H22: =C22-F22 -> 1.1264946e+09
A23: IMPOSTOS, TAXAS E CONTRIBUIÇÕES DE MELHORIA | B23: =SUM(B24:B26) -> 826374000 | C23: =SUM(C24:C26) -> 826374000 | D23: =SUM(D24:D26) -> 1.4252904e+08 | E23: =IF(C23>0,D23/C23,0)*100 -> 17.247523 | F23: =SUM(F24:F26) -> 4.4543357e+08 | G23: =IF(C23>0,F23/C23,0)*100 -> 53.902177 | H23: =C23-F23 -> 3.8094043e+08
A24: Impostos | B24: 746494000 | C24: 746494000 | D24: 1.2979549e+08 | E24: =IF(C24>0,D24/C24,0)*100 -> 17.387345 | F24: 3.9559894e+08 | G24: =IF(C24>0,F24/C24,0)*100 -> 52.994255 | H24: =C24-F24 -> 3.5089506e+08
A25: Taxas | B25: 79539000 | C25: 79539000 | D25: 12499059 | E25: =IF(C25>0,D25/C25,0)*100 -> 15.714378 | F25: 49416562 | G25: =IF(C25>0,F25/C25,0)*100 -> 62.128719 | H25: =C25-F25 -> 30122438
A26: Contribuição de Melhoria | B26: 341000 | C26: 341000 | D26: 234497.37 | E26: =IF(C26>0,D26/C26,0)*100 -> 68.767557 | F26: 418075.99 | G26: =IF(C26>0,F26/C26,0)*100 -> 122.60293 | H26: =C26-F26 -> -77075.99
A27: CONTRIBUIÇÕES | B27: =SUM(B28:B31) -> 123829000 | C27: =SUM(C28:C31) -> 123829000 | D27: =SUM(D28:D31) -> 22146130 | E27: =IF(C27>0,D27/C27,0)*100 -> 17.884446 | F27: =SUM(F28:F31) -> 67877922 | G27: =IF(C27>0,F27/C27,0)*100 -> 54.815852 | H27: =C27-F27 -> 55951078
A28: Contribuições Sociais | B28: 82829000 | C28: 82829000 | D28: 15450644 | E28: =IF(C28>0,D28/C28,0)*100 -> 18.653665 | F28: 47402636 | G28: =IF(C28>0,F28/C28,0)*100 -> 57.229517 | H28: =C28-F28 -> 35426364
A29: Contribuições Econômicas | E29: =IF(C29>0,D29/C29,0)*100 -> 0 | G29: =IF(C29>0,F29/C29,0)*100 -> 0 | H29: =C29-F29 -> 0
A30: Contribuições para Entidades Privadas de Serviço Social └ e de Formação Profissional | E30: =IF(C30>0,D30/C30,0)*100 -> 0 | G30: =IF(C30>0,F30/C30,0)*100 -> 0 | H30: =C30-F30 -> 0
A31: Contribuição para o Custeio do Serviço de Iluminação └ Pública | B31: 41000000 | C31: 41000000 | D31: 6695486.2 | E31: =IF(C31>0,D31/C31,0)*100 -> 16.330454 | F31: 20475285 | G31: =IF(C31>0,F31/C31,0)*100 -> 49.93972 | H31: =C31-F31 -> 20524715
A32: RECEITA PATRIMONIAL | B32: =SUM(B33:B39) -> 195454000 | C32: =SUM(C33:C39) -> 2.0405811e+08 | D32: =SUM(D33:D39) -> 56520682 | E32: =IF(C32>0,D32/C32,0)*100 -> 27.698327 | F32: =SUM(F33:F39) -> 1.480913e+08 | G32: =IF(C32>0,F32/C32,0)*100 -> 72.573102 | H32: =C32-F32 -> 55966810
A33: Exploração do Patrimônio Imobiliário do Estado | B33: 885000 | C33: 885000 | D33: 115162.47 | E33: =IF(C33>0,D33/C33,0)*100 -> 13.012708 | F33: 681921.43 | G33: =IF(C33>0,F33/C33,0)*100 -> 77.053269 | H33: =C33-F33 -> 203078.57
A34: Valores Mobiliários | B34: 193989000 | C34: 2.0259311e+08 | D34: 56294334 | E34: =IF(C34>0,D34/C34,0)*100 -> 27.786895 | F34: 1.4708738e+08 | G34: =IF(C34>0,F34/C34,0)*100 -> 72.602359 | H34: =C34-F34 -> 55505732
A35: Delegação de Serviços Públicos Mediante Concessão, └ Permissão, Autorização ou Licença | B35: 580000 | C35: 580000 | D35: 111186.13 | E35: =IF(C35>0,D35/C35,0)*100 -> 19.170022 | F35: 322001.02 | G35: =IF(C35>0,F35/C35,0)*100 -> 55.517417 | H35: =C35-F35 -> 257998.98
A36: Exploração de Recursos Naturais | E36: =IF(C36>0,D36/C36,0)*100 -> 0 | G36: =IF(C36>0,F36/C36,0)*100 -> 0 | H36: =C36-F36 -> 0
A37: Exploração do Patrimônio Intangível | E37: =IF(C37>0,D37/C37,0)*100 -> 0 | G37: =IF(C37>0,F37/C37,0)*100 -> 0 | H37: =C37-F37 -> 0
A38: Cessão de Direitos | E38: =IF(C38>0,D38/C38,0)*100 -> 0 | G38: =IF(C38>0,F38/C38,0)*100 -> 0 | H38: =C38-F38 -> 0
A39: Demais Receitas Patrimoniais | E39: =IF(C39>0,D39/C39,0)*100 -> 0 | G39: =IF(C39>0,F39/C39,0)*100 -> 0 | H39: =C39-F39 -> 0
A40: RECEITA AGROPECUÁRIA | E40: =IF(C40>0,D40/C40,0)*100 -> 0 | G40: =IF(C40>0,F40/C40,0)*100 -> 0 | H40: =C40-F40 -> 0
A41: RECEITA INDUSTRIAL | E41: =IF(C41>0,D41/C41,0)*100 -> 0 | G41: =IF(C41>0,F41/C41,0)*100 -> 0 | H41: =C41-F41 -> 0
A42: RECEITA DE SERVIÇOS | B42: =SUM(B43:B47) -> 257347000 | C42: =SUM(C43:C47) -> 257347000 | D42: =SUM(D43:D47) -> 36476291 | E42: =IF(C42>0,D42/C42,0)*100 -> 14.173972 | F42: =SUM(F43:F47) -> 1.1749401e+08 | G42: =IF(C42>0,F42/C42,0)*100 -> 45.65587 | H42: =C42-F42 -> 1.3985299e+08
A43: Serviços Administrativos e Comerciais Gerais | B43: 16256600 | C43: 16256600 | D43: 50894.91 | E43: =IF(C43>0,D43/C43,0)*100 -> 0.31307229 | F43: 11051527 | G43: =IF(C43>0,F43/C43,0)*100 -> 67.981784 | H43: =C43-F43 -> 5205073.3
A44: Serviços e Atividades Referentes à Navegação e ao └ Transporte | B44: 600900 | C44: 600900 | D44: 49461.5 | E44: =IF(C44>0,D44/C44,0)*100 -> 8.2312365 | F44: 234717.66 | G44: =IF(C44>0,F44/C44,0)*100 -> 39.061018 | H44: =C44-F44 -> 366182.34
A45: Serviços e Atividades referentes à Saúde | E45: =IF(C45>0,D45/C45,0)*100 -> 0 | G45: =IF(C45>0,F45/C45,0)*100 -> 0 | H45: =C45-F45 -> 0
A46: Serviços e Atividades Financeiras | E46: =IF(C46>0,D46/C46,0)*100 -> 0 | G46: =IF(C46>0,F46/C46,0)*100 -> 0 | H46: =C46-F46 -> 0
...

Sheet RREO-Anexo 02
A2: PREFEITURA MUNICIPAL DE INDAIATUBA
A3: Av. Eng. Fabio R. Barnabe, 2800 - Jd. Esplanada II
A4: C.N.P.J. 44.733.608/0001-09
A5: Telefone: (19) 3834-9000
A6: Tabela 2 - Demonstrativo da Execução das Despesas por Função/Subfunção
A8: PREFEITURA MUNICIPAL DE INDAIATUBA
A9: RELATÓRIO RESUMIDO DA EXECUÇÃO ORÇAMENTÁRIA
A10: DEMONSTRATIVO DA EXECUÇÃO DAS DESPESAS POR FUNÇÃO/SUBFUNÇÃO
A11: ORÇAMENTOS FISCAL E DA SEGURIDADE SOCIAL
A12: Período: 3º Bimestre | B12: =IF(IFERROR(SEARCH("SEMESTRE",A12,1),0)>0,"Semestre",IF(IFERROR(SEARCH("QUADRIMESTRE",A12,1),0)>0,"Quadrimestre",IF(IFERROR(SEARCH("TRIMESTRE",A12,1),0)>0,"Trimestre",IF(IFERROR(SEARCH("BIMESTRE",A12,1),0)>0,"Bimestre","Mês")))) -> Bimestre
A15: RREO - Anexo 2 (LRF, Art. 52, inciso II, alínea "c") | L15: Em Reais
B16: DOTAÇÃO | C16: DOTAÇÃO | D16: DESPESAS EMPENHADAS | G16: SALDO | H16: DESPESAS LIQUIDADAS | K16: SALDO | L16: INSCRITAS EM RESTOS A PAGAR NÃO PROCESSADOS (f)
A17: FUNÇÃO/SUBFUNÇÃO | B17: INICIAL | C17: ATUALIZADA | D17: =CONCATENATE("No ", B12) -> No Bimestre | E17: =CONCATENATE("Até o ", B12) -> Até o Bimestre | F17: % | H17: =CONCATENATE("No ", B12) -> No Bimestre | I17: =CONCATENATE("Até o ", B12) -> Até o Bimestre | J17: %
C18: (a) | E18: (b) | F18: (b/total b) | G18: (c) = (a-b) | I18: (d) | J18: (d/total d) | K18: (e) = (a-d)
A19: DESPESAS (EXCETO INTRA-ORÇAMENTÁRIAS) (I) | B19: =B20+B25+B30+B35+B48+B54+B60+B65+B74+B81+B90+B97+B108+B113+B119+B125+B130+B135+B143+B149+B157+B162+B170+B178+B183+B190+B198+B204+B213 -> 2544778000 | C19: =C20+C25+C30+C35+C48+C54+C60+C65+C74+C81+C90+C97+C108+C113+C119+C125+C130+C135+C143+C149+C157+C162+C170+C178+C183+C190+C198+C204+C213 -> 2.8744833e+09 | D19: =D20+D25+D30+D35+D48+D54+D60+D65+D74+D81+D90+D97+D108+D113+D119+D125+D130+D135+D143+D149+D157+D162+D170+D178+D183+D190+D198+D204+D213 -> 3.4999861e+08 | E19: =E20+E25+E30+E35+E48+E54+E60+E65+E74+E81+E90+E97+E108+E113+E119+E125+E130+E135+E143+E149+E157+E162+E170+E178+E183+E190+E198+E204+E213 -> 1.6713646e+09 | F19: =IF($E$215>0,E19/$E$215,0)*100 -> 94.430453 | G19: =G20+G25+G30+G35+G48+G54+G60+G65+G74+G81+G90+G97+G108+G113+G119+G125+G130+G135+G143+G149+G157+G162+G170+G178+G183+G190+G198+G204+G213 -> 1.2031187e+09 | H19: =H20+H25+H30+H35+H48+H54+H60+H65+H74+H81+H90+H97+H108+H113+H119+H125+H130+H135+H143+H149+H157+H162+H170+H178+H183+H190+H198+H204+H213 -> 4.3792614e+08 | I19: =I20+I25+I30+I35+I48+I54+I60+I65+I74+I81+I90+I97+I108+I113+I119+I125+I130+I135+I143+I149+I157+I162+I170+I178+I183+I190+I198+I204+I213 -> 1.1260583e+09 | J19: =IF($I$215>0,I19/$I$215,0)*100 -> 92.406909 | K19: =K20+K25+K30+K35+K48+K54+K60+K65+K74+K81+K90+K97+K108+K113+K119+K125+K130+K135+K143+K149+K157+K162+K170+K178+K183+K190+K198+K204+K213 -> 1.748425e+09 | L19: =L20+L25+L30+L35+L48+L54+L60+L65+L74+L81+L90+L97+L108+L113+L119+L125+L130+L135+L143+L149+L157+L162+L170+L178+L183+L190+L198+L204+L213 -> 0
A20: LEGISLATIVA | B20: =SUM(B21:B24) -> 30038000 | C20: =SUM(C21:C24) -> 29963000 | D20: =SUM(D21:D24) -> 4513977.3 | E20: =SUM(E21:E24) -> 14056004 | F20: =IF($E$215>0,E20/$E$215,0)*100 -> 0.79415038 | G20: =SUM(G21:G24) -> 15906996 | H20: =SUM(H21:H24) -> 3745333.6 | I20: =SUM(I21:I24) -> 12131607 | J20: =IF($I$215>0,I20/$I$215,0)*100 -> 0.99554727 | K20: =SUM(K21:K24) -> 17831393 | L20: =SUM(L21:L24) -> 0
A21: Ação Legislativa | B21: 30038000 | C21: 29963000 | D21: 4513977.3 | E21: 14056004 | F21: =IF($E$215>0,E21/$E$215,0)*100 -> 0.79415038 | G21: =C21-E21 -> 15906996 | H21: 3745333.6 | I21: 12131607 | J21: =IF($I$215>0,I21/$I$215,0)*100 -> 0.99554727 | K21: =C21-I21 -> 17831393
A22: Controle Externo | F22: =IF($E$215>0,E22/$E$215,0)*100 -> 0 | G22: =C22-E22 -> 0 | J22: =IF($I$215>0,I22/$I$215,0)*100 -> 0 | K22: =C22-I22 -> 0
A23: Administração Geral | F23: =IF($E$215>0,E23/$E$215,0)*100 -> 0 | G23: =C23-E23 -> 0 | J23: =IF($I$215>0,I23/$I$215,0)*100 -> 0 | K23: =C23-I23 -> 0
A24: Demais Subfunções | F24: =IF($E$215>0,E24/$E$215,0)*100 -> 0 | G24: =C24-E24 -> 0 | J24: =IF($I$215>0,I24/$I$215,0)*100 -> 0 | K24: =C24-I24 -> 0
A25: JUDICIÁRIA | B25: =SUM(B26:B29) -> 0 | C25: =SUM(C26:C29) -> 0 | D25: =SUM(D26:D29) -> 0 | E25: =SUM(E26:E29) -> 0 | F25: =IF($E$215>0,E25/$E$215,0)*100 -> 0 | G25: =SUM(G26:G29) -> 0 | H25: =SUM(H26:H29) -> 0 | I25: =SUM(I26:I29) -> 0 | J25: =IF($I$215>0,I25/$I$215,0)*100 -> 0 | K25: =SUM(K26:K29) -> 0 | L25: =SUM(L26:L29) -> 0
A26: Ação Judiciária | F26: =IF($E$215>0,E26/$E$215,0)*100 -> 0 | G26: =C26-E26 -> 0 | J26: =IF($I$215>0,I26/$I$215,0)*100 -> 0 | K26: =C26-I26 -> 0
A27: Defesa do Interesse Público no Processo Judiciário | F27: =IF($E$215>0,E27/$E$215,0)*100 -> 0 | G27: =C27-E27 -> 0 | J27: =IF($I$215>0,I27/$I$215,0)*100 -> 0 | K27: =C27-I27 -> 0
A28: Administração Geral | F28: =IF($E$215>0,E28/$E$215,0)*100 -> 0 | G28: =C28-E28 -> 0 | J28: =IF($I$215>0,I28/$I$215,0)*100 -> 0 | K28: =C28-I28 -> 0
A29: Demais Subfunções | F29: =IF($E$215>0,E29/$E$215,0)*100 -> 0 | G29: =C29-E29 -> 0 | J29: =IF($I$215>0,I29/$I$215,0)*100 -> 0 | K29: =C29-I29 -> 0
A30: ESSENCIAL A JUSTIÇA | B30: =SUM(B31:B34) -> 0 | C30: =SUM(C31:C34) -> 0 | D30: =SUM(D31:D34) -> 0 | E30: =SUM(E31:E34) -> 0 | F30: =IF($E$215>0,E30/$E$215,0)*100 -> 0 | G30: =SUM(G31:G34) -> 0 | H30: =SUM(H31:H34) -> 0 | I30: =SUM(I31:I34) -> 0 | J30: =IF($I$215>0,I30/$I$215,0)*100 -> 0 | K30: =SUM(K31:K34) -> 0 | L30: =SUM(L31:L34) -> 0
A31: Defesa da Ordem Jurídica | F31: =IF($E$215>0,E31/$E$215,0)*100 -> 0 | G31: =C31-E31 -> 0 | J31: =IF($I$215>0,I31/$I$215,0)*100 -> 0 | K31: =C31-I31 -> 0
A32: Representação Judicial e Extrajudicial | F32: =IF($E$215>0,E32/$E$215,0)*100 -> 0 | G32: =C32-E32 -> 0 | J32: =IF($I$215>0,I32/$I$215,0)*100 -> 0 | K32: =C32-I32 -> 0
A33: Administração Geral | F33: =IF($E$215>0,E33/$E$215,0)*100 -> 0 | G33: =C33-E33 -> 0 | J33: =IF($I$215>0,I33/$I$215,0)*100 -> 0 | K33: =C33-I33 -> 0
A34: Demais Subfunções | F34: =IF($E$215>0,E34/$E$215,0)*100 -> 0 | G34: =C34-E34 -> 0 | J34: =IF($I$215>0,I34/$I$215,0)*100 -> 0 | K34: =C34-I34 -> 0
A35: ADMINISTRAÇÃO | B35: =SUM(B36:B47) -> 227701000 | C35: =SUM(C36:C47) -> 2.3713168e+08 | D35: =SUM(D36:D47) -> 37913337 | E35: =SUM(E36:E47) -> 1.6866212e+08 | F35: =IF($E$215>0,E35/$E$215,0)*100 -> 9.5292432 | G35: =SUM(G36:G47) -> 68469559 | H35: =SUM(H36:H47) -> 41076039 | I35: =SUM(I36:I47) -> 1.1165303e+08 | J35: =IF($I$215>0,I35/$I$215,0)*100 -> 9.1625017 | K35: =SUM(K36:K47) -> 1.2547865e+08 | L35: =SUM(L36:L47) -> 0
A36: Planejamento e Orçamento | F36: =IF($E$215>0,E36/$E$215,0)*100 -> 0 | G36: =C36-E36 -> 0 | J36: =IF($I$215>0,I36/$I$215,0)*100 -> 0 | K36: =C36-I36 -> 0
A37: Administração Geral | B37: 182229000 | C37: 1.9079168e+08 | D37: 32643756 | E37: 1.4293087e+08 | F37: =IF($E$215>0,E37/$E$215,0)*100 -> 8.075453 | G37: =C37-E37 -> 47860809 | H37: 34182968 | I37: 93985261 | J37: =IF($I$215>0,I37/$I$215,0)*100 -> 7.7126443 | K37: =C37-I37 -> 96806416
A38: Administração Financeira | B38: 15118000 | C38: 15718000 | D38: 2353597.3 | E38: 9450501.5 | F38: =IF($E$215>0,E38/$E$215,0)*100 -> 0.53394401 | G38: =C38-E38 -> 6267498.5 | H38: 2561517 | I38: 6949521.4 | J38: =IF($I$215>0,I38/$I$215,0)*100 -> 0.57029354 | K38: =C38-I38 -> 8768478.6
A39: Controle Interno | B39: 2391000 | C39: 2391000 | D39: 472361.13 | E39: 1233115.1 | F39: =IF($E$215>0,E39/$E$215,0)*100 -> 0.069669786 | G39: =C39-E39 -> 1157884.9 | H39: 472361.13 | I39: 1233115.1 | J39: =IF($I$215>0,I39/$I$215,0)*100 -> 0.10119223 | K39: =C39-I39 -> 1157884.9
A40: Normatização e Fiscalização | F40: =IF($E$215>0,E40/$E$215,0)*100 -> 0 | G40: =C40-E40 -> 0 | J40: =IF($I$215>0,I40/$I$215,0)*100 -> 0 | K40: =C40-I40 -> 0
A41: Tecnologia da Informação | F41: =IF($E$215>0,E41/$E$215,0)*100 -> 0 | G41: =C41-E41 -> 0 | J41: =IF($I$215>0,I41/$I$215,0)*100 -> 0 | K41: =C41-I41 -> 0
A42: Ordenamento Territorial | B42: 11808000 | C42: 12076000 | D42: 1715793.3 | E42: 5283699 | F42: =IF($E$215>0,E42/$E$215,0)*100 -> 0.29852378 | G42: =C42-E42 -> 6792301 | H42: 1800681.1 | I42: 4764498.3 | J42: =IF($I$215>0,I42/$I$215,0)*100 -> 0.39098557 | K42: =C42-I42 -> 7311501.7
A43: Formação de Recursos Humanos | F43: =IF($E$215>0,E43/$E$215,0)*100 -> 0 | G43: =C43-E43 -> 0 | J43: =IF($I$215>0,I43/$I$215,0)*100 -> 0 | K43: =C43-I43 -> 0
A44: Administração de Receitas | F44: =IF($E$215>0,E44/$E$215,0)*100 -> 0 | G44: =C44-E44 -> 0 | J44: =IF($I$215>0,I44/$I$215,0)*100 -> 0 | K44: =C44-I44 -> 0
...

Sheet RREO-Anexo 03
A2: PREFEITURA MUNICIPAL DE INDAIATUBA
A3: Av. Eng. Fabio R. Barnabe, 2800 - Jd. Esplanada II
A4: C.N.P.J. 44.733.608/0001-09
A5: Telefone: (19) 3834-9000
A6: Tabela 3 - Demonstrativo da Receita Corrente Líquida
A8: PREFEITURA MUNICIPAL DE INDAIATUBA
A9: RELATÓRIO RESUMIDO DA EXECUÇÃO ORÇAMENTÁRIA
A10: DEMONSTRATIVO DA RECEITA CORRENTE LÍQUIDA
A11: ORÇAMENTOS FISCAL E DA SEGURIDADE SOCIAL
A12: Período: 3º Bimestre | B12: =IF(IFERROR(SEARCH("SEMESTRE",A12,1),0)>0,"Semestre",IF(IFERROR(SEARCH("QUADRIMESTRE",A12,1),0)>0,"Quadrimestre",IF(IFERROR(SEARCH("TRIMESTRE",A12,1),0)>0,"Trimestre",IF(IFERROR(SEARCH("BIMESTRE",A12,1),0)>0,"Bimestre","Mês")))) -> Bimestre
A17: RREO - Anexo 3 (LRF, Art. 53, inciso I) | O17: Em Reais
B18: EVOLUÇÃO DA RECEITA REALIZADA NOS ÚLTIMOS 12 MESES | N18: TOTAL | O18: PREVISÃO
A19: ESPECIFICAÇÃO | N19: (ÚLTIMOS | O19: ATUALIZADA
B20: <MR–11> | C20: <MR–10> | D20: <MR–9> | E20: <MR–8> | F20: <MR–7> | G20: <MR–6> | H20: <MR–5> | I20: <MR–4> | J20: <MR–3> | K20: <MR–2> | L20: <MR–1> | M20: <MR> | N20: 12 MESES) | O20: <EXERCÍCIO>
A21: RECEITAS CORRENTES (I) | B21: =B22+B28+B29+B32+B33+B34+B35+B43 -> 2.2328615e+08 | C21: =C22+C28+C29+C32+C33+C34+C35+C43 -> 2.2288625e+08 | D21: =D22+D28+D29+D32+D33+D34+D35+D43 -> 2.1056111e+08 | E21: =E22+E28+E29+E32+E33+E34+E35+E43 -> 2.1748192e+08 | F21: =F22+F28+F29+F32+F33+F34+F35+F43 -> 2.1752407e+08 | G21: =G22+G28+G29+G32+G33+G34+G35+G43 -> 2.5400897e+08 | H21: =H22+H28+H29+H32+H33+H34+H35+H43 -> 2.514884e+08 | I21: =I22+I28+I29+I32+I33+I34+I35+I43 -> 2.2689534e+08 | ... M21: =M22+M28+M29+M32+M33+M34+M35+M43 -> 2.353268e+08 | N21: =SUM(B21:M21) -> 2.8207295e+09 | O21: =O22+O28+O29+O32+O33+O34+O35+O43 -> 2.6659847e+09
A22: Impostos, Taxas e Contribuições de Melhoria | B22: =SUM(B23:B27) -> 61607641 | C22: =SUM(C23:C27) -> 62366347 | D22: =SUM(D23:D27) -> 62890675 | E22: =SUM(E23:E27) -> 68147848 | F22: =SUM(F23:F27) -> 68622140 | G22: =SUM(G23:G27) -> 76334609 | H22: =SUM(H23:H27) -> 55437164 | I22: =SUM(I23:I27) -> 52732088 | ... M22: =SUM(M23:M27) -> 72244998 | N22: =SUM(B22:M22) -> 8.4540283e+08 | O22: =SUM(O23:O27) -> 826374000
A23: IPTU | B23: 17015957 | C23: 15780936 | D23: 17296253 | E23: 18815786 | F23: 17616868 | G23: 18555443 | H23: 6762648.9 | I23: 10141855 | J23: 64557958 | K23: 17700519 | L23: 18291810 | M23: 19284144 | N23: =SUM(B23:M23) -> 2.4182018e+08 | O23: 234600000
A24: ISS | B24: 21582824 | C24: 22971204 | D24: 23765881 | E24: 25387972 | F24: 25664526 | G24: 26051482 | H24: 28462755 | I24: 21199063 | J24: 22981312 | K24: 24688123 | L24: 24054456 | M24: 26755997 | N24: =SUM(B24:M24) -> 2.9356559e+08 | O24: 297000000
A25: ITBI | B25: 7802981.4 | C25: 9090340 | D25: 6597068.1 | E25: 8341667.8 | F25: 10236878 | G25: 8254548.9 | H25: 6382879.1 | I25: 7359339.6 | J25: 8696958.3 | K25: 7486061.5 | L25: 11309093 | M25: 8873188 | N25: =SUM(B25:M25) -> 100431004 | O25: 90374000
A26: IRRF | B26: 9474148.8 | C26: 9222359.4 | D26: 9251871.9 | E26: 9506215.8 | F26: 9399538.1 | G26: 17298981 | H26: 10587911 | I26: 10337903 | J26: 8629101.2 | K26: 9829064.7 | L26: 10339974 | M26: 10886824 | N26: =SUM(B26:M26) -> 1.2476389e+08 | O26: 124520000
A27: Outros Impostos, Taxas e Contribuições de Melhoria | B27: 5731729 | C27: 5301508.1 | D27: 5979600.2 | E27: 6096206.1 | F27: 5704329.1 | G27: 6174153.2 | H27: 3240970.9 | I27: 3693927 | J27: 24002630 | K27: 6163553.6 | L27: 6288710.4 | M27: 6444845.8 | N27: =SUM(B27:M27) -> 84822163 | O27: 79880000
A28: Contribuições | B28: 9603658.9 | C28: 9821223.4 | D28: 8551794.5 | E28: 11086060 | F28: 10007507 | G28: 11658087 | H28: 14070880 | I28: 9790964.7 | J28: 11015758 | K28: 10854188 | L28: 10905652 | M28: 11240478 | N28: =SUM(B28:M28) -> 1.2860625e+08 | O28: 123829000
A29: Receita Patrimonial | B29: =SUM(B30:B31) -> 21680244 | C29: =SUM(C30:C31) -> 41675122 | D29: =SUM(D30:D31) -> 16931438 | E29: =SUM(E30:E31) -> 22123590 | F29: =SUM(F30:F31) -> 33118822 | G29: =SUM(G30:G31) -> 17055382 | H29: =SUM(H30:H31) -> 19418430 | I29: =SUM(I30:I31) -> 36191484 | ... M29: =SUM(M30:M31) -> 20741831 | N29: =SUM(B29:M29) -> 3.006759e+08 | O29: =SUM(O30:O31) -> 2.0405811e+08
A30: Rendimentos de Aplicação Financeira | B30: 21559152 | C30: 41560397 | D30: 16777564 | E30: 21973253 | F30: 32997074 | G30: 16862916 | H30: 19315827 | I30: 36106104 | J30: 18001673 | K30: 17369438 | L30: 35668648 | M30: 20625685 | N30: =SUM(B30:M30) -> 2.9881773e+08 | O30: 2.0259311e+08
A31: Outras Receitas Patrimoniais | B31: 121092.19 | C31: 114724.71 | D31: 153874.07 | E31: 150337.15 | F31: 121748.37 | G31: 192466.54 | H31: 102603.18 | I31: 85379.06 | J31: 424903.41 | K31: 164688.2 | L31: 110202.43 | M31: 116146.17 | N31: =SUM(B31:M31) -> 1858165.5 | O31: 1465000
A32: Receita Agropecuária | N32: =SUM(B32:M32) -> 0
A33: Receita Industrial | N33: =SUM(B33:M33) -> 0
A34: Receita de Serviços | B34: 21251746 | C34: 19820844 | D34: 19543590 | E34: 23711756 | F34: 16968134 | G34: 18133217 | H34: 16353590 | I34: 29052421 | J34: 18226053 | K34: 17385655 | L34: 18493942 | M34: 17982349 | N34: =SUM(B34:M34) -> 2.369233e+08 | O34: 257347000
A35: Transferências Correntes | B35: =SUM(B36:B42) -> 1.0335599e+08 | C35: =SUM(C36:C42) -> 84576120 | D35: =SUM(D36:D42) -> 96918567 | E35: =SUM(E36:E42) -> 86068932 | F35: =SUM(F36:F42) -> 79749314 | G35: =SUM(G36:G42) -> 1.2447531e+08 | H35: =SUM(H36:H42) -> 1.4048101e+08 | I35: =SUM(I36:I42) -> 93328931 | ... M35: =SUM(M36:M42) -> 1.0627972e+08 | N35: =SUM(B35:M35) -> 1.2399101e+09 | O35: =SUM(O36:O42) -> 1.2057606e+09
A36: Cota-Parte do FPM | B36: 14368936 | C36: 11072060 | D36: 14050880 | E36: 9423431.5 | F36: 12809645 | G36: 20628301 | H36: 13088375 | I36: 16456009 | J36: 9965109.4 | K36: 11732948 | L36: 14200593 | M36: 14961622 | N36: =SUM(B36:M36) -> 1.6275791e+08 | O36: 170500000
A37: Cota-Parte do ICMS | B37: 47761424 | C37: 35242134 | D37: 42554376 | E37: 35067126 | F37: 32307893 | G37: 50648633 | H37: 36566288 | I37: 23370939 | J37: 54902263 | K37: 35146196 | L37: 37220554 | M37: 46277381 | N37: =SUM(B37:M37) -> 4.7706521e+08 | O37: 457000000
A38: Cota-Parte do IPVA | B38: 4784092.2 | C38: 4370436.1 | D38: 4383105.4 | E38: 4331017.2 | F38: 3191964.1 | G38: 4648694.1 | H38: 53734106 | I38: 24188606 | J38: 18558858 | K38: 15062185 | L38: 13348598 | M38: 4334604.1 | N38: =SUM(B38:M38) -> 1.5493627e+08 | O38: 153000000
A39: Cota-Parte do ITR | B39: 22668.78 | C39: 50581.57 | D39: 125473.21 | E39: 2888319.8 | F39: 42066.27 | G39: 13542.12 | H39: 59725.68 | I39: 2692.55 | J39: 5841.4 | K39: 1483.51 | L39: 7942.46 | M39: 3930.06 | N39: =SUM(B39:M39) -> 3224267.4 | O39: 2000000
A40: Transferências da LC nº 61/1989 | B40: 272724.36 | C40: 240920.4 | D40: 293312.08 | E40: 292225.18 | F40: 268941.68 | G40: 308929.1 | H40: 294723.35 | I40: 283239.84 | J40: 253650.77 | K40: 272895.53 | L40: 254070.95 | M40: 399434.09 | N40: =SUM(B40:M40) -> 3435067.3 | O40: 3500000
A41: Transferências do FUNDEB | B41: 20587248 | C41: 16147746 | D41: 18859572 | E41: 16620058 | F41: 15541551 | G41: 25149171 | H41: 22268993 | I41: 14077018 | J41: 24978692 | K41: 16657066 | L41: 17620464 | M41: 20076376 | N41: =SUM(B41:M41) -> 2.2858395e+08 | O41: 2.2929629e+08
A42: Outras Transferências Correntes | B42: 15558900 | C42: 17452241 | D42: 16651849 | E42: 17446755 | F42: 15587254 | G42: 23078040 | H42: 14468801 | I42: 14950427 | J42: 17141076 | K42: 16072270 | L42: 21273487 | M42: 20226373 | N42: =SUM(B42:M42) -> 2.0990747e+08 | O42: 1.904643e+08
A43: Outras Receitas Correntes | B43: 5786872.3 | C43: 4626595.5 | D43: 5725049.5 | E43: 6343736.6 | F43: 9058149.3 | G43: 6352359 | H43: 5727319.1 | I43: 5799447.5 | J43: 4079870.6 | K43: 4322475.8 | L43: 4551811.9 | M43: 6837423.3 | N43: =SUM(B43:M43) -> 69211110 | O43: 48616000
A44: DEDUÇÕES (II) | B44: =SUM(B45:B48) -> 22587817 | C44: =SUM(C45:C48) -> 41633635 | D44: =SUM(D45:D48) -> 17167109 | E44: =SUM(E45:E48) -> 20744046 | F44: =SUM(F45:F48) -> 34170772 | G44: =SUM(G45:G48) -> 22104256 | H44: =SUM(H45:H48) -> 33819963 | I44: =SUM(I45:I48) -> 40815813 | ... M44: =SUM(M45:M48) -> 23842448 | N44: =SUM(B44:M44) -> 3.3951939e+08 | O44: =SUM(O45:O48) -> 309289000
A45: Contrib. do Servidor para o Plano de Previdência | B45: 5721101.9 | C45: 5697789.9 | D45: 5730730.7 | E45: 5701994.8 | F45: 5775526.6 | G45: 7002349.7 | H45: 9724595 | I45: 5669660 | J45: 5679184 | K45: 6404027.5 | L45: 6527593.5 | M45: 6650539 | N45: =SUM(B45:M45) -> 76285093 | O45: 70924000
A46: Compensações Financ. entre Regimes Previdência | B46: 869257.06 | C46: 476534.67 | D46: 588150.85 | E46: 541720.08 | F46: 649931.75 | G46: 893077.24 | H46: 599212.55 | I46: 538502.57 | J46: 703212.15 | K46: 569176.39 | L46: 570176.31 | M46: 601796.49 | N46: =SUM(B46:M46) -> 7600748.1 | O46: 5100000
...

Sheet RREO-Anexo 04
A2: PREFEITURA MUNICIPAL DE INDAIATUBA
A3: Av. Eng. Fabio R. Barnabe, 2800 - Jd. Esplanada II
A4: C.N.P.J. 44.733.608/0001-09
A5: Telefone: (19) 3834-9000
A6: Tabela 4 - Demonstrativo das Receitas e Despesas Previdenciárias do Regime Próprio de Previdência dos Servidores
A8: PREFEITURA MUNICIPAL DE INDAIATUBA
A9: RELATÓRIO RESUMIDO DA EXECUÇÃO ORÇAMENTÁRIA
A10: DEMONSTRATIVO DAS RECEITAS E DESPESAS PREVIDENCIÁRIAS DO REGIME PRÓPRIO DE PREVIDÊNCIA DOS SERVIDORES
A11: ORÇAMENTO DA SEGURIDADE SOCIAL
A12: Período: 3º Bimestre | B12: Mês
A16: RREO - Anexo 4 (LRF, Art. 53, inciso II) | C16: Em Reais
A17: RECEITAS - PLANO PREVIDENCIÁRIO FUNDO EM CAPITALIZAÇÃO | B17: PREVISÃO ATUALIZADA | C17: RECEITAS REALIZADAS
A20: RECEITAS CORRENTES (I) | B20: =B21+B25+B29+B33+B34 -> 233837000 | C20: =C21+C25+C29+C33+C34 -> 1.3618111e+08
A21: Receita de Contribuições dos Segurados | B21: =SUM(B22:B24) -> 70924000 | C21: =SUM(C22:C24) -> 40655599
A22: Ativo | B22: 65469000 | C22: 37168037
A23: Inativo | B23: 5260000 | C23: 3365881.4
A24: Pensionista | B24: 195000 | C24: 121680.89
A25: Receita de Contribuições Patronais | B25: =SUM(B26:B28) -> 78030000 | C25: =SUM(C26:C28) -> 44241925
A26: Ativo | B26: 78030000 | C26: 44241925
A27: Inativo
A28: Pensionista
A29: Receita Patrimonial | B29: =SUM(B30:B32) -> 79755000 | C29: =SUM(C30:C32) -> 47686466
A30: Receitas Imobiliárias
A31: Receitas de Valores Mobiliários | B31: 79755000 | C31: 47686466
A32: Outras Receitas Patrimoniais
A33: Receita de Serviços
A34: Outras Receitas Correntes | B34: =SUM(B35:B37) -> 5128000 | C34: =SUM(C35:C37) -> 3597119.1
A35: Compensação Financeira entre os Regimes | B35: 5100000 | C35: 3582076.5
A36: Receita de Aportes Periódicos para Amortização de Déficit Atuarial do RPPS (II)
A37: Demais Receitas Correntes | B37: 28000 | C37: 15042.69
A38: RECEITAS DE CAPITAL (III) | B38: =SUM(B39:B41) -> 0 | C38: =SUM(C39:C41) -> 0
A39: Alienação de Bens, Direitos e Ativos
A40: Amortização de Empréstimos
A41: Outras Receitas de Capital
A42: TOTAL DAS RECEITAS DO FUNDO EM CAPITALIZAÇÃO (IV) = (I + III - II) | B42: =B20+B38 -> 233837000 | C42: =C20+C38 -> 1.3618111e+08
A48: DESPESAS - PLANO PREVIDENCIÁRIO FUNDO EM CAPITALIZAÇÃO | B48: DOTAÇÃO ATUALIZADA | C48: DESPESA EMPENHADA | D48: DESPESA LIQUIDADA | E48: DESPESA PAGA | F48: INSCRITAS EM RESTOS A PAGAR NÃO PROCESSADOS
A51: Benefícios | B51: =SUM(B52:B53) -> 218400000 | C51: =SUM(C52:C53) -> 1.0438897e+08 | D51: =SUM(D52:D53) -> 1.0438897e+08 | E51: =SUM(E52:E53) -> 78261750 | F51: =SUM(F52:F53) -> 0
A52: Aposentadorias | B52: 195940000 | C52: 94643075 | D52: 94643075 | E52: 70786986
A53: Pensõe por Morte | B53: 22460000 | C53: 9745899.6 | D53: 9745899.6 | E53: 7474763.4
A54: Outras Despesas Previdenciárias | B54: =SUM(B55:B56) -> 1840000 | C54: =SUM(C55:C56) -> 71702.86 | D54: =SUM(D55:D56) -> 55630.76 | E54: =SUM(E55:E56) -> 52589.37 | F54: =SUM(F55:F56) -> 0
...

Sheet RREO-Anexo 06
A2: PREFEITURA MUNICIPAL DE INDAIATUBA
A3: Av. Eng. Fabio R. Barnabe, 2800 - Jd. Esplanada II
A4: C.N.P.J. 44.733.608/0001-09
A5: Telefone: (19) 3834-9000
A6: Tabela 6 - Demonstrativo do Resultado Primário
A8: PREFEITURA MUNICIPAL DE INDAIATUBA
A9: RELATÓRIO RESUMIDO DA EXECUÇÃO ORÇAMENTÁRIA
A10: DEMONSTRATIVO DOS RESULTADOS PRIMÁRIO E NOMINAL - ESTADOS, DISTRITO FEDERAL E MUNICÍPIOS
A11: ORÇAMENTOS FISCAL E DA SEGURIDADE SOCIAL
A12: Período: 3º Bimestre | B12: =IF(IFERROR(SEARCH("SEMESTRE",A12,1),0)>0,"Semestre",IF(IFERROR(SEARCH("QUADRIMESTRE",A12,1),0)>0,"Quadrimestre",IF(IFERROR(SEARCH("TRIMESTRE",A12,1),0)>0,"Trimestre",IF(IFERROR(SEARCH("BIMESTRE",A12,1),0)>0,"Bimestre","Mês")))) -> Bimestre
A17: RREO - ANEXO 6 (LRF, art 53, inciso III) | C17: Em reais
B18: PREVISÃO ATUALIZADA | C18: RECEITAS REALIZADAS
A19: RECEITAS PRIMÁRIAS
A21: RECEITAS CORRENTES (EXCETO RPPS) (I) | B21: =B22+B28+B29+B32+B40 -> 2.4259657e+09 | C21: =C22+C28+C29+C32+C40 -> 1.3333117e+09
A22: Impostos, Taxas e Contribuições de Melhoria | B22: =SUM(B23:B27) -> 826374000 | C22: =SUM(C23:C27) -> 4.4543357e+08
A23: IPTU | B23: 234600000 | C23: 1.3673894e+08
A24: ISS | B24: 297000000 | C24: 1.481417e+08
A25: ITBI | B25: 90374000 | C25: 50107519
A26: IRRF | B26: 124520000 | C26: 60610777
A27: Outros Impostos, Taxas e Contribuições de Melhoria | B27: 79880000 | C27: 49834638
A28: Contribuições | B28: 113545000 | C28: 62440069
A29: Receita Patrimonial | B29: =SUM(B30:B31) -> 1.2429311e+08 | C29: =SUM(C30:C31) -> 1.0020819e+08
A30: Aplicações Financeiras (II) | B30: 1.2282811e+08 | C30: 99204264
A31: Outras Receitas Patrimoniais | B31: 1465000 | C31: 1003922.4
A32: Transferências Correntes | B32: =SUM(B33:B39) -> 1.0522606e+09 | C32: =SUM(C33:C39) -> 5.7577493e+08
A33: Cota-Parte do FPM | B33: 140100000 | C33: 64323726
A34: Cota-Parte do ICMS | B34: 365600000 | C34: 1.867869e+08
A35: Cota-Parte do IPVA | B35: 122400000 | C35: 1.0338157e+08
A36: Cota-Parte do ITR | B36: 1600000 | C36: 65292.59
A37: Transferências da LC nº 61/1989 | B37: 2800000 | C37: 1406411.6
A38: Transferências do FUNDEB | B38: 2.2929629e+08 | C38: 1.1567861e+08
A39: Outras Transferências Correntes | B39: 1.904643e+08 | C39: 1.0413243e+08
A40: Demais Receitas Correntes | B40: =SUM(B41:B42) -> 309493000 | C40: =SUM(C41:C42) -> 1.494549e+08
A41: Outras Receitas Financeiras (III)
A42: Receitas Correntes Restantes | B42: 309493000 | C42: 1.494549e+08
A43: RECEITAS PRIMÁRIAS CORRENTES (EXCETO RPPS) (IV) = (I - (II + III)) | B43: =B21-B30-B41 -> 2.3031376e+09 | C43: =C21-C30-C41 -> 1.2341074e+09
A44: RECEITAS PRIMÁRIAS CORRENTES (RPPS) (V) | B44: 185402000 | C44: 1.0728146e+08
A45: RECEITAS NÃO PRIMÁRIAS CORRENTES (RPPS) (VI) | B45: 79765000 | C45: 47883112
A46: RECEITAS DE CAPITAL (EXCETO RPPS) (VII) | B46: =B47+B48+B49+B53+B56 -> 55371938 | C46: =C47+C48+C49+C53+C56 -> 7732258.7
A47: Operações de Crédito (VIII) | B47: 45395000 | C47: 0
...

Sheet RREO-Anexo 07
A2: PREFEITURA MUNICIPAL DE INDAIATUBA
A3: Av. Eng. Fabio R. Barnabe, 2800 - Jd. Esplanada II
A4: C.N.P.J. 44.733.608/0001-09
A5: Telefone: (19) 3834-9000
A6: Tabela 7 - Demonstrativo dos Restos a Pagar por Poder e Órgão
A8: PREFEITURA MUNICIPAL DE INDAIATUBA
A9: RELATÓRIO RESUMIDO DA EXECUÇÃO ORÇAMENTÁRIA
A10: DEMONSTRATIVO DOS RESTOS A PAGAR POR PODER E ÓRGÃO
A11: ORÇAMENTOS FISCAL E DA SEGURIDADE SOCIAL
A12: Período: 3º Bimestre | B12: =IF(IFERROR(SEARCH("SEMESTRE",A12,1),0)>0,"Semestre",IF(IFERROR(SEARCH("QUADRIMESTRE",A12,1),0)>0,"Quadrimestre",IF(IFERROR(SEARCH("TRIMESTRE",A12,1),0)>0,"Trimestre",IF(IFERROR(SEARCH("BIMESTRE",A12,1),0)>0,"Bimestre","Mês")))) -> Bimestre
A16: RREO - ANEXO 7 (LRF, art. 53, inciso V) | M16: Em reais
B17: RESTOS A PAGAR PROCESSADOS E NÃO PROCESSADOS LIQUIDADOS EM EXERCÍCIOS ANTERIORES | G17: RESTOS A PAGAR NÃO PROCESSADOS | M17: Saldo Total (a+b)
B18: Inscritos | G18: Inscritos
A19: PODER/ÓRGÃO | B19: Em Exercícios Anteriores | C19: Em 31 de dezembro de <Exercício Anterior> | D19: Pagos | E19: Cancelados | F19: Saldo | G19: Em Exercícios Anteriores | H19: Em 31 de dezembro de <Exercício Anterior> | I19: Liquidados | J19: Pagos | K19: Cancelados | L19: Saldo
F20: (a) | G20: Anteriores | H20: <Exercício | L20: (b)
H21: Anterior>
A22: RESTOS A PAGAR (EXCETO INTRA-ORÇAMENTÁRIOS) (I) | B22: =B23+B24 -> 0 | C22: =C23+C24 -> 1.0897588e+08 | D22: =D23+D24 -> 1.0897575e+08 | E22: =E23+E24 -> 132.9 | F22: =F23+F24 -> -8.9407024e-09 | G22: =G23+G24 -> 4556295.6 | H22: =H23+H24 -> 1.3180585e+08 | I22: =I23+I24 -> 1.0644501e+08 | ... M22: =M23+M24 -> 21877351
A23: PODER EXECUTIVO | B23: 0 | C23: 1.0885527e+08 | D23: 1.0885514e+08 | E23: 132.9 | F23: =B23+C23-D23-E23 -> -8.9407024e-09 | G23: 4556295.6 | H23: 1.2810863e+08 | I23: 1.0476776e+08 | J23: 1.0356162e+08 | K23: 8642668.4 | L23: =G23+H23-J23-K23 -> 20460641 | M23: =F23+L23 -> 20460641
A24: PODER LEGISLATIVO | B24: =SUM(B25:B26) -> 0 | C24: =SUM(C25:C26) -> 120615.22 | D24: =SUM(D25:D26) -> 120615.22 | E24: =SUM(E25:E26) -> 0 | F24: =SUM(F25:F26) -> 0 | G24: =SUM(G25:G26) -> 0 | H24: =SUM(H25:H26) -> 3697215.7 | I24: =SUM(I25:I26) -> 1677242.6 | ... M24: =SUM(M25:M26) -> 1416710
A25: Câmara Municipal | B25: 0 | C25: 120615.22 | D25: 120615.22 | E25: 0 | F25: =B25+C25-D25-E25 -> 0 | G25: 0 | H25: 3697215.7 | I25: 1677242.6 | J25: 1651400.7 | K25: 629105 | L25: =G25+H25-J25-K25 -> 1416710 | M25: =F25+L25 -> 1416710
A26: Tribunal de Contas do Município | F26: =B26+C26-D26-E26 -> 0 | L26: =G26+H26-J26-K26 -> 0 | M26: =F26+L26 -> 0
A27: RESTOS A PAGAR (INTRA-ORÇAMENTÁRIOS) (II) | B27: =B39 -> 0 | C27: =C39 -> 23866767 | D27: =D39 -> 23866767 | E27: =E39 -> 0 | F27: =F39 -> 0 | G27: =G39 -> 0 | H27: =H39 -> 1778934.8 | I27: =I39 -> 1070896.9 | ... M27: =M39 -> 32351.45
A28: TOTAL (III) = (I + II) | B28: =B22+B27 -> 0 | C28: =C22+C27 -> 1.3284265e+08 | D28: =D22+D27 -> 1.3284252e+08 | E28: =E22+E27 -> 132.9 | F28: =F22+F27 -> -8.9407024e-09 | G28: =G22+G27 -> 4556295.6 | H28: =H22+H27 -> 1.3358478e+08 | I28: =I22+I27 -> 1.075159e+08 | ... M28: =M22+M27 -> 21909702
B34: RESTOS A PAGAR PROCESSADOS E NÃO PROCESSADOS LIQUIDADOS EM EXERCÍCIOS ANTERIORES | G34: RESTOS A PAGAR NÃO PROCESSADOS | M34: Saldo Total (a+b)
B35: Inscritos | G35: Inscritos
A36: PODER/ÓRGÃO - INTRA | B36: Em Exercícios Anteriores | C36: Em 31 de dezembro de <Exercício Anterior> | D36: Pagos | E36: Cancelados | F36: Saldo | G36: Em Exercícios Anteriores | H36: Em 31 de dezembro de <Exercício Anterior> | I36: Liquidados | J36: Pagos | K36: Cancelados | L36: Saldo
F37: (a) | G37: Anteriores | H37: <Exercício | L37: (b)
H38: Anterior>
A39: RESTOS A PAGAR (INTRA-ORÇAMENTÁRIOS) (II) | B39: =B40+B41 -> 0 | C39: =C40+C41 -> 23866767 | D39: =D40+D41 -> 23866767 | E39: =E40+E41 -> 0 | F39: =F40+F41 -> 0 | G39: =G40+G41 -> 0 | H39: =H40+H41 -> 1778934.8 | I39: =I40+I41 -> 1070896.9 | ... M39: =M40+M41 -> 32351.45
A40: PODER EXECUTIVO | B40: 0 | C40: 23866767 | D40: 23866767 | E40: 0 | F40: =B40+C40-D40-E40 -> 0 | G40: 0 | H40: 1750372 | I40: 1044958.8 | J40: 1044958.8 | K40: 675686.5 | L40: =G40+H40-J40-K40 -> 29726.68 | M40: =F40+L40 -> 29726.68
A41: PODER LEGISLATIVO | B41: =SUM(B42:B43) -> 0 | C41: =SUM(C42:C43) -> 0 | D41: =SUM(D42:D43) -> 0 | E41: =SUM(E42:E43) -> 0 | F41: =SUM(F42:F43) -> 0 | G41: =SUM(G42:G43) -> 0 | H41: =SUM(H42:H43) -> 28562.81 | I41: =SUM(I42:I43) -> 25938.04 | ... M41: =SUM(M42:M43) -> 2624.77
A42: Câmara Municipal | B42: 0 | C42: 0 | D42: 0 | E42: 0 | F42: =B42+C42-D42-E42 -> 0 | G42: 0 | H42: 28562.81 | I42: 25938.04 | J42: 25938.04 | K42: 0 | L42: =G42+H42-J42-K42 -> 2624.77 | M42: =F42+L42 -> 2624.77
A43: Tribunal de Contas do Município | F43: =B43+C43-D43-E43 -> 0 | L43: =G43+H43-J43-K43 -> 0 | M43: =F43+L43 -> 0
A44: FONTE: Sistema CECAM, Unidade Responsável: CONTABILIDADE. Emissão: 17/07/2026, às 08:06:05. Assinado Digitalmente no dia 17/07/2026, às 08:06:05.
A48: DR. CUSTÓDIO TAVARES DIAS NETO | C48: MARIA DA PENHA F. DA SILVA | I48: FELIPE ROCHA PAIAO
A49: PREFEITO MUNICIPAL | C49: CONTADORA | I49: CONTADOR

Sheet RREO-Anexo 08
A2: PREFEITURA MUNICIPAL DE INDAIATUBA
A3: Av. Eng. Fabio R. Barnabe, 2800 - Jd. Esplanada II
A4: C.N.P.J. 44.733.608/0001-09
A5: Telefone: (19) 3834-9000
A6: Tabela 8.2 - Demonstrativo das Receitas e Despesas com Manutenção e Desenvolvimento do Ensino - MDE - MUNICÍPIOS
A8: PREFEITURA MUNICIPAL DE INDAIATUBA
A9: RELATÓRIO RESUMIDO DA EXECUÇÃO ORÇAMENTÁRIA
A10: DEMONSTRATIVO DAS RECEITAS E DESPESAS COM MANUTENÇÃO E DESENVOLVIMENTO DO ENSINO - MDE
A11: ORÇAMENTOS FISCAL E DA SEGURIDADE SOCIAL
A12: Período: 3º Bimestre | B12: =IF(IFERROR(SEARCH("SEMESTRE",A12,1),0)>0,"Semestre",IF(IFERROR(SEARCH("QUADRIMESTRE",A12,1),0)>0,"Quadrimestre",IF(IFERROR(SEARCH("TRIMESTRE",A12,1),0)>0,"Trimestre",IF(IFERROR(SEARCH("BIMESTRE",A12,1),0)>0,"Bimestre","Mês")))) -> Bimestre
A16: RREO - ANEXO 8 (LDB, art. 72) | C16: Em Reais
A17: RECEITAS DO ENSINO
B18: PREVISÃO | C18: RECEITAS
A19: RECEITA RESULTANTE DE IMPOSTOS (caput do art. 212 da Constituição) | B19: ATUALIZADA | C19: REALIZADAS
B20: (a) | C20: (b)
A21: 1- RECEITA DE IMPOSTOS | B21: =SUM(B22:B25) -> 746494000 | C21: =SUM(C22:C25) -> 3.9559894e+08
A22: 1.1- Receita Resultante do Imposto sobre a Propriedade Predial e Territorial Urbana – IPTU | B22: 234600000 | C22: 1.3673894e+08
A23: 1.2- Receita Resultante do Imposto sobre Transmissão Inter Vivos – ITBI | B23: 90374000 | C23: 50107519
A24: 1.3- Receita Resultante do Imposto sobre Serviços de Qualquer Natureza – ISS | B24: 297000000 | C24: 1.481417e+08
A25: 1.4- Receita Resultante do Imposto de Renda Retido na Fonte – IRRF | B25: 124520000 | C25: 60610777
A26: 2- RECEITA DE TRANSFERÊNCIAS CONSTITUCIONAIS E LEGAIS | B26: =B27+SUM(B30:B35) -> 786000000 | C26: =C27+SUM(C30:C35) -> 4.4495486e+08
A27: 2.1- Cota-Parte FPM | B27: =SUM(B28:B29) -> 170500000 | C27: =SUM(C28:C29) -> 80404656
A28: 2.1.1- Parcela referente à CF, art. 159, I, alínea b | B28: 152000000 | C28: 80404656
A29: 2.1.2- Parcela referente à CF, art. 159, I, alínea d e e | B29: 18500000 | C29: 0
A30: 2.2- Cota-Parte ICMS | B30: 457000000 | C30: 2.3348362e+08
A31: 2.3- Cota-Parte IPI-Exportação | B31: 3500000 | C31: 1758014.5
A32: 2.4- Cota-Parte ITR | B32: 2000000 | C32: 81615.66
A33: 2.5- Cota-Parte IPVA | B33: 153000000 | C33: 1.2922696e+08
A34: 2.6- Cota-Parte IOF-Ouro
A35: 2.7- Compensações Financeiras Provenientes de Impostos e Transferências Constitucionais
A36: 3- TOTAL DA RECEITA DE IMPOSTOS (1 + 2) | B36: =B21+B26 -> 1532494000 | C36: =C21+C26 -> 8.405538e+08
A38: 4- TOTAL DESTINADO AO FUNDEB - 20% DE ((2.1.1) + (2.2) + (2.3) + (2.4) + (2.5) + (2.7)) | B38: 153500000 | C38: 88990973
A40: 5- VALOR MÍNIMO A SER APLICADO ALÉM DO VALOR DESTINADO AO FUNDEB - 5% DE ((2.1.1) + (2.2) + (2.3) + (2.4) + (2.5)) + 25% DE ((1.1) + (1.2) + (1.3) + (1.4) + (2.1.2) + (2.6)+ (2.7)) | B40: =(B36*0.25)-B38 -> 229623500 | C40: =(C36*0.25)-C38 -> 1.2114748e+08
A42: FUNDEB
B43: PREVISÃO | C43: RECEITAS
A44: RECEITAS RECEBIDAS DO FUNDEB NO EXERCÍCIO | B44: ATUALIZADA | C44: REALIZADAS
B45: (a) | C45: (b)
A46: 6- RECEITAS RECEBIDAS DO FUNDEB | B46: =B47+B51+B55+B59 -> 2.3042429e+08 | C46: =C47+C51+C55+C59 -> 1.1629662e+08
A47: 6.1- FUNDEB - Impostos e Transferências de Impostos | B47: =SUM(B48:B50) -> 230216000 | C47: =SUM(C48:C50) -> 1.1608933e+08
A48: 6.1.1- Principal | B48: 229088000 | C48: 1.1547132e+08
...

Sheet RREO-Anexo 09
A2: PREFEITURA MUNICIPAL DE INDAIATUBA
A3: Av. Eng. Fabio R. Barnabe, 2800 - Jd. Esplanada II
A4: C.N.P.J. 44.733.608/0001-09
A5: Telefone: (19) 3834-9000
A6: Tabela 9 – Demonstrativo das Receitas de Operações de Crédito e Despesas de Capital
A8: PREFEITURA MUNICIPAL DE INDAIATUBA
A9: RELATÓRIO RESUMIDO DA EXECUÇÃO ORÇAMENTÁRIA
A10: DEMONSTRATIVO DAS RECEITAS DE OPERAÇÕES DE CRÉDITO E DESPESAS DE CAPITAL
A11: ORÇAMENTOS FISCAL E DA SEGURIDADE SOCIAL
A12: Período: 3º Bimestre | B12: =IF(IFERROR(SEARCH("SEMESTRE",A12,1),0)>0,"Semestre",IF(IFERROR(SEARCH("QUADRIMESTRE",A12,1),0)>0,"Quadrimestre",IF(IFERROR(SEARCH("TRIMESTRE",A12,1),0)>0,"Trimestre",IF(IFERROR(SEARCH("BIMESTRE",A12,1),0)>0,"Bimestre","Mês")))) -> Bimestre
A17: RREO – ANEXO 9 (LRF, art.53, § 1º, inciso I) | D17: Em Reais
A18: RECEITAS | B18: PREVISÃO ATUALIZADA | C18: RECEITAS REALIZADAS | D18: SALDO NÃO REALIZADO
B19: (a) | C19: (b) | D19: (c) = (a – b)
A20: RECEITAS DE OPERAÇÕES DE CRÉDITO1 (I)
B26: DOTAÇÃO | C26: DESPESAS | D26: SALDO NÃO EXECUTADO
A27: DESPESAS | B27: ATUALIZADA | C27: EMPENHADAS
B28: (d) | C28: (e) | D28: (f) = (d – e)
A29: DESPESAS DE CAPITAL
A30: Investimentos
A31: Inversões Financeiras
A32: Amortização da Dívida
A33: (-) Incentivos Fiscais a Contribuinte
A34: (-) Incentivos Fiscais a Contribuinte por Instituições Financeiras
A35: DESPESA DE CAPITAL LÍQUIDA (II)
A43: RESULTADO PARA APURAÇÃO DA | B43: <(a - d)> | C43: <(b – e)> | D43: <(f – c)>
A44: REGRA DE OURO (III) = (I – II)
A45: FONTE: Sistema CECAM, Unidade Responsável: CONTABILIDADE. Emissão: 17/07/2026, às 08:06:17. Assinado Digitalmente no dia 17/07/2026, às 08:06:17.
A46: Notas:
A47: 1 Operações de Crédito descritas na CF, art. 167, inciso III
A51: DR. CUSTÓDIO TAVARES DIAS NETO | B51: MARIA DA PENHA F. DA SILVA | D51: FELIPE ROCHA PAIAO
A52: PREFEITO MUNICIPAL | B52: CONTADORA | D52: CONTADOR

Sheet RREO-Anexo 10 - RPPS
A2: PREFEITURA MUNICIPAL DE INDAIATUBA
A3: Av. Eng. Fabio R. Barnabe, 2800 - Jd. Esplanada II
A4: C.N.P.J. 44.733.608/0001-09
A5: Telefone: (19) 3834-9000
A6: Tabela 10.1 - Demonstrativo da Projeção Atuarial do Regime Próprio de Previdência dos Servidores
A8: PREFEITURA MUNICIPAL DE INDAIATUBA
A9: RELATÓRIO RESUMIDO DA EXECUÇÃO ORÇAMENTÁRIA
A10: DEMONSTRATIVO DA PROJEÇÃO ATUARIAL DO REGIME PRÓPRIO DE PREVIDÊNCIA DOS SERVIDORES
A11: ORÇAMENTO DA SEGURIDADE SOCIAL
A12: Período: 3º Bimestre
A15: RREO – ANEXO 10 (LRF, art. 53, § 1º, inciso II) | E15: Em Reais
A16: PLANO PREVIDÊNCIARIO - FUNDO EM CAPITALIZAÇÃO
A17: EXERCÍCIO | B17: RECEITAS | C17: DESPESAS | D17: RESULTADO | E17: SALDO FINANCEIRO
B18: PREVIDENCIÁRIAS | C18: PREVIDENCIÁRIAS | D18: PREVIDENCIÁRIO | E18: DO EXERCÍCIO
B19: (a) | C19: (b) | D19: (c) = (a - b) | E19: (d) = (“d” exerc. Anterior) + (c)
A20: 2024 | D20: =B20-C20 -> 0 | E20: =F20+D20 -> 0
A21: 2025 | D21: =B21-C21 -> 0 | E21: =E20+D21 -> 0
A22: 2026 | D22: =B22-C22 -> 0 | E22: =E21+D22 -> 0
A23: 2027 | D23: =B23-C23 -> 0 | E23: =E22+D23 -> 0
A24: 2028 | D24: =B24-C24 -> 0 | E24: =E23+D24 -> 0
A25: 2029 | D25: =B25-C25 -> 0 | E25: =E24+D25 -> 0
A26: 2030 | D26: =B26-C26 -> 0 | E26: =E25+D26 -> 0
A27: 2031 | D27: =B27-C27 -> 0 | E27: =E26+D27 -> 0
A28: 2032 | D28: =B28-C28 -> 0 | E28: =E27+D28 -> 0
A29: 2033 | D29: =B29-C29 -> 0 | E29: =E28+D29 -> 0
A30: 2034 | D30: =B30-C30 -> 0 | E30: =E29+D30 -> 0
A31: 2035 | D31: =B31-C31 -> 0 | E31: =E30+D31 -> 0
A32: 2036 | D32: =B32-C32 -> 0 | E32: =E31+D32 -> 0
... A94: 2098 | D94: =B94-C94 -> 0 | E94: =E93+D94 -> 0
A95: FONTE: Sistema CECAM, Unidade Responsável: CONTABILIDADE. Emissão: 17/07/2026, às 08:06:18. Assinado Digitalmente no dia 17/07/2026, às 08:06:18.
A96: Notas: 1 Projeção atuarial elaborada em <DATA DA AVALIAÇÃO> e oficialmente enviada para o Ministério da Previdência Social – MPS.
A97: 2 Este Demonstrativo utiliza as seguintes hipóteses: <HIPÓTESE>: <VALOR>
A99: PLANO FINANCEIRO - FUNDO EM REPARTIÇÃO
A100: EXERCÍCIO | B100: RECEITAS | C100: DESPESAS | D100: RESULTADO | E100: SALDO FINANCEIRO
B101: PREVIDENCIÁRIAS | C101: PREVIDENCIÁRIAS | D101: PREVIDENCIÁRIO | E101: DO EXERCÍCIO
B102: (a) | C102: (b) | D102: (c) = (a - b) | E102: (d) = (“d” exerc. Anterior) + (c)
A103: 2024 | D103: =B103-C103 -> 0 | E103: =F103+D103 -> 0
A104: 2025 | D104: =B104-C104 -> 0 | E104: =E103+D104 -> 0
A105: 2026 | D105: =B105-C105 -> 0 | E105: =E104+D105 -> 0
A106: 2027 | D106: =B106-C106 -> 0 | E106: =E105+D106 -> 0
...

Sheet RREO-Anexo 11
A2: PREFEITURA MUNICIPAL DE INDAIATUBA
A3: Av. Eng. Fabio R. Barnabe, 2800 - Jd. Esplanada II
A4: C.N.P.J. 44.733.608/0001-09
A5: Telefone: (19) 3834-9000
A6: Tabela 11 - Demonstrativo da Receita de Alienação de Ativos e Aplicação dos Recursos
A8: PREFEITURA MUNICIPAL DE INDAIATUBA
A9: RELATÓRIO RESUMIDO DA EXECUÇÃO ORÇAMENTÁRIA
A10: DEMONSTRATIVO DA RECEITA DE ALIENAÇÃO DE ATIVOS E APLICAÇÃO DOS RECURSOS
A11: ORÇAMENTOS FISCAL E DA SEGURIDADE SOCIAL
A12: Período: 3º Bimestre | B12: =IF(IFERROR(SEARCH("SEMESTRE",A12,1),0)>0,"Semestre",IF(IFERROR(SEARCH("QUADRIMESTRE",A12,1),0)>0,"Quadrimestre",IF(IFERROR(SEARCH("TRIMESTRE",A12,1),0)>0,"Trimestre",IF(IFERROR(SEARCH("BIMESTRE",A12,1),0)>0,"Bimestre","Mês")))) -> Bimestre
A17: RREO – ANEXO 11 (LRF, art. 53, § 1º, inciso III ) | D17: Em Reais
A18: RECEITAS | B18: PREVISÃO ATUALIZADA | C18: RECEITAS REALIZADAS | D18: SALDO
B19: (a) | C19: (b) | D19: (c) = (a-b)
A20: RECEITAS DE ALIENAÇÃO DE ATIVOS (I)
A21: Receita de Alienação de Bens Móveis
A22: Receita de Alienação de Bens Imóveis
A23: Receita de Alienação de Bens Intangiveis
A24: Receita de Rendimento de Aplicações Financeiras
B30: DOTAÇÃO ATUALIZADA | C30: DESPESAS | D30: DESPESAS | E30: DESPESAS (e) | F30: DESPESAS INSCRITAS EM RESTOS A PAGAR NÃO PROCESSADOS | G30: PAGAMENTO | H30: SALDO
A31: DESPESAS | C31: EMPENHADAS | D31: LIQUIDADAS | E31: PAGAS | G31: DE RESTOS A PAGAR
B32: (d) | C32: (e) | E32: (f) | G32: (g) | H32: (h) = (d-e)
A33: APLICAÇÃO DOS RECURSOS DA ALIENAÇÃO DE ATIVOS (II)
A34: Despesas de Capital
A35: Investimentos
A36: Inversões Financeiras
A37: Amortização da Dívida
A38: Despesas Correntes dos Regimes de Previdência
A39: Regime Geral da Previdência Social
A40: Regime Próprio dos Servidores Públicos
A45: DR. CUSTÓDIO TAVARES DIAS NETO | C45: MARIA DA PENHA F. DA SILVA | F45: FELIPE ROCHA PAIAO
A46: PREFEITO MUNICIPAL | C46: CONTADORA | F46: CONTADOR
A47: SALDO FINANCEIRO A APLICAR | B47: <EXERCÍCIO ANTERIOR> | C47: <EXERCÍCIO> | D47: SALDO ATUAL
B48: (i) | C48: (j) = (Ib – (IIf+ IIg)) | D48: (k) = (IIIi + IIIj)
A49: VALOR (III)
A50: FONTE: Sistema CECAM, Unidade Responsável: CONTABILIDADE. Emissão: 17/07/2026, às 08:06:22. Assinado Digitalmente no dia 17/07/2026, às 08:06:22.

Sheet RREO-Anexo 12
A2: PREFEITURA MUNICIPAL DE INDAIATUBA
A3: Av. Eng. Fabio R. Barnabe, 2800 - Jd. Esplanada II
A4: C.N.P.J. 44.733.608/0001-09
A5: Telefone: (19) 3834-9000
A6: Tabela 12.2 - Demonstrativo das Despesas com Saúde - Municípios
A8: PREFEITURA MUNICIPAL DE INDAIATUBA
A9: RELATÓRIO RESUMIDO DA EXECUÇÃO ORÇAMENTÁRIA
A10: DEMONSTRATIVO DAS RECEITAS E DESPESAS COM AÇÕES E SERVIÇOS PÚBLICOS DE SAÚDE
A11: ORÇAMENTOS FISCAL E DA SEGURIDADE SOCIAL
A12: Período: 3º Bimestre | B12: =IF(IFERROR(SEARCH("SEMESTRE",A12,1),0)>0,"Semestre",IF(IFERROR(SEARCH("QUADRIMESTRE",A12,1),0)>0,"Quadrimestre",IF(IFERROR(SEARCH("TRIMESTRE",A12,1),0)>0,"Trimestre",IF(IFERROR(SEARCH("BIMESTRE",A12,1),0)>0,"Bimestre","Mês")))) -> Bimestre
A16: RREO – ANEXO 12 (LC 141/2012, art. 35) | E16: Em Reais
A17: RECEITAS PARA APURAÇÃO DA APLICAÇÃO EM AÇÕES E SERVIÇOS PÚBLICOS DE SAÚDE | B17: PREVISÃO | C17: PREVISÃO | D17: RECEITAS REALIZADAS
B18: INICIAL | C18: ATUALIZADA | D18: =CONCATENATE("Até o ", B12) -> Até o Bimestre | E18: %
C19: (a) | D19: (b) | E19: (b/a) x 100
A20: RECEITA DE IMPOSTOS (I) | B20: =B21+B24+B27+B30 -> 746494000 | C20: =C21+C24+C27+C30 -> 746494000 | D20: =D21+D24+D27+D30 -> 3.9559894e+08 | E20: =IF(C20>0,D20/C20*100,0) -> 52.994255
A21: Receita Resultante do Imposto Predial e Territorial Urbano - IPTU | B21: =SUM(B22:B23) -> 234600000 | C21: =SUM(C22:C23) -> 234600000 | D21: =SUM(D22:D23) -> 1.3673894e+08 | E21: =IF(C21>0,D21/C21*100,0) -> 58.285991
A22: IPTU | B22: 207000000 | C22: 207000000 | D22: 1.1610218e+08 | E22: =IF(C22>0,D22/C22*100,0) -> 56.088009
A23: Multas, Juros de Mora, Divida Ativa e Outros Encargos do IPTU | B23: 27600000 | C23: 27600000 | D23: 20636757 | E23: =IF(C23>0,D23/C23*100,0) -> 74.770859
A24: Receita Resultante do Imposto sobre Transmissão Inter Vivos - ITBI | B24: =SUM(B25:B26) -> 90374000 | C24: =SUM(C25:C26) -> 90374000 | D24: =SUM(D25:D26) -> 50107519 | E24: =IF(C24>0,D24/C24*100,0) -> 55.444618
A25: ITBI | B25: 90000000 | C25: 90000000 | D25: 49571821 | E25: =IF(C25>0,D25/C25*100,0) -> 55.079801
A26: Multas, Juros de Mora, Dívida Ativa e Outros Encargos do ITBI | B26: 374000 | C26: 374000 | D26: 535698.47 | E26: =IF(C26>0,D26/C26*100,0) -> 143.23489
A27: Receita Resultante do Imposto sobre Serviços de Qualquer Natureza - ISS | B27: =SUM(B28:B29) -> 297000000 | C27: =SUM(C28:C29) -> 297000000 | D27: =SUM(D28:D29) -> 1.481417e+08 | E27: =IF(C27>0,D27/C27*100,0) -> 49.879362
A28: ISS | B28: 285200000 | C28: 285200000 | D28: 1.3984313e+08 | E28: =IF(C28>0,D28/C28*100,0) -> 49.033357
A29: Multas, Juros de Mora, Dívida Ativa e Outros Encargos do ISS | B29: 11800000 | C29: 11800000 | D29: 8298572 | E29: =IF(C29>0,D29/C29*100,0) -> 70.326881
A30: Receita Resultante do IRRF | B30: 124520000 | C30: 124520000 | D30: 60610777 | E30: =IF(C30>0,D30/C30*100,0) -> 48.675536
A31: RECEITA DE TRANSFERÊNCIAS CONSTITUCIONAIS E LEGAIS (II) | B31: =SUM(B32:B37) -> 767500000 | C31: =SUM(C32:C37) -> 767500000 | D31: =SUM(D32:D37) -> 4.4495486e+08 | E31: =IF(C31>0,D31/C31*100,0) -> 57.974575
A32: Cota-Parte FPM | B32: 152000000 | C32: 152000000 | D32: 80404656 | E32: =IF(C32>0,D32/C32*100,0) -> 52.8978
A33: Cota-Parte ITR | B33: 2000000 | C33: 2000000 | D33: 81615.66 | E33: =IF(C33>0,D33/C33*100,0) -> 4.080783
A34: Cota-Parte IPVA | B34: 153000000 | C34: 153000000 | D34: 1.2922696e+08 | E34: =IF(C34>0,D34/C34*100,0) -> 84.462064
A35: Cota-Parte ICMS | B35: 457000000 | C35: 457000000 | D35: 2.3348362e+08 | E35: =IF(C35>0,D35/C35*100,0) -> 51.090508
A36: Cota-Parte IPI-Exportação | B36: 3500000 | C36: 3500000 | D36: 1758014.5 | E36: =IF(C36>0,D36/C36*100,0) -> 50.228987
A37: Compensações Financeiras Provenientes de Impostos e Transferências Constitucionais | B37: =SUM(B38:B39) -> 0 | C37: =SUM(C38:C39) -> 0 | D37: =SUM(D38:D39) -> 0 | E37: =IF(C37>0,D37/C37*100,0) -> 0
A38: Desoneração ICMS (LC 194/2022) | E38: =IF(C38>0,D38/C38*100,0) -> 0
A39: Outras | E39: =IF(C39>0,D39/C39*100,0) -> 0
A40: TOTAL DAS RECEITAS RESULTANTES DE IMPOSTOS E TRANFERÊNCIAS CONSTITUCIONAIS E LEGAIS - (III) = (I) + (II) | B40: =B20+B31 -> 1513994000 | C40: =C20+C31 -> 1513994000 | D40: =D20+D31 -> 8.405538e+08 | E40: =IF(C40>0,D40/C40*100,0) -> 55.518965
A42: DESPESAS COM AÇÕES E SERVIÇOS PÚBLICOS DE SAÚDE (ASPS) – POR SUBFUNÇÃO E CATEGORIA ECONÔMICA | B42: DOTAÇÃO | C42: DOTAÇÃO | D42: DESPESAS EMPENHADAS | F42: DESPESAS LIQUIDADAS | H42: DESPESAS PAGAS | J42: Inscritas em Restos a Pagar não Processados7
A43: (Por Subfunção) | B43: INICIAL | C43: ATUALIZADA | D43: =CONCATENATE("Até o ", B12) -> Até o Bimestre | E43: % | F43: =CONCATENATE("Até o ", B12) -> Até o Bimestre | G43: % | H43: =CONCATENATE("Até o ", B12) -> Até o Bimestre | I43: %
C44: (c) | D44: (d) | E44: (d/c) x 100 | F44: (e) | G44: (e/c) x 100 | H44: (f) | I44: (f/c) x 100 | J44: (g)
A45: ATENÇÃO BÁSICA (IV) | B45: =SUM(B46:B47) -> 86633000 | C45: =SUM(C46:C47) -> 97768461 | D45: =SUM(D46:D47) -> 47001519 | E45: =IF(C45>0,D45/C45*100,0) -> 48.074316 | F45: =SUM(F46:F47) -> 38400235 | G45: =IF(C45>0,F45/C45*100,0) -> 39.27671 | H45: =SUM(H46:H47) -> 32825130 | I45: =IF(C45>0,H45/C45*100,0) -> 33.574355 | J45: =SUM(J46:J47) -> 0
A46: Despesas Correntes | B46: 84741000 | C46: 89781000 | D46: 43258189 | E46: =IF(C46>0,D46/C46*100,0) -> 48.181897 | F46: 37680967 | G46: =IF(C46>0,F46/C46*100,0) -> 41.969868 | H46: 32221070 | I46: =IF(C46>0,H46/C46*100,0) -> 35.888518
...

Sheet RREO-Anexo 13
A2: PREFEITURA MUNICIPAL DE INDAIATUBA
A3: Av. Eng. Fabio R. Barnabe, 2800 - Jd. Esplanada II
A4: C.N.P.J. 44.733.608/0001-09
A5: Telefone: (19) 3834-9000
A6: Tabela 13 - Demonstrativo das Parcerias Público Privadas
A8: PREFEITURA MUNICIPAL DE INDAIATUBA
A9: RELATÓRIO RESUMIDO DA EXECUÇÃO ORÇAMENTÁRIA
A10: DEMONSTRATIVO DAS PARCERIAS PÚBLICO-PRIVADAS
A11: ORÇAMENTOS FISCAL E DA SEGURIDADE SOCIAL
A12: Período: 3º Bimestre | B12: =IF(IFERROR(SEARCH("SEMESTRE",A12,1),0)>0,"Semestre",IF(IFERROR(SEARCH("QUADRIMESTRE",A12,1),0)>0,"Quadrimestre",IF(IFERROR(SEARCH("TRIMESTRE",A12,1),0)>0,"Trimestre",IF(IFERROR(SEARCH("BIMESTRE",A12,1),0)>0,"Bimestre","Mês")))) -> Bimestre
A16: RREO - Anexo 13 (Lei nº 11.079, de 30.12.2004, arts. 22, 25 e 28) | C16: Em reais
A17: ESPECIFICAÇÃO | B17: SALDO DO EXERCÍCIO ANTERIOR | C17: SALDO DO EXERCÍCIO ATUAL
B19: (a) | C19: (a)
A20: TOTAL DE ATIVOS | B20: =B22 -> 0 | C20: =C22 -> 0
A21: Ativos Constituídos pela SPE
A22: TOTAL DE PASSIVOS | B22: =SUM(B23:B25) -> 0 | C22: =SUM(C23:C25) -> 0
A23: Obrigações decorrentes de Ativos Constituídos pela SPE
A24: Provisões de PPP
A25: Outros Passivos
A26: ATOS POTENCIAIS PASSIVOS | B26: =SUM(B27:B30) -> 0 | C26: =SUM(C27:C30) -> 0
A27: Obrigações Contratuais
A28: Riscos não Provisionados
A29: Garantias Concedidas
A30: Outros Passivos Contingentes
B40: EXERCÍCIO | C40: EXERCÍCIO | D40: <EC + 1> | E40: <EC + 2> | F40: <EC + 3> | G40: <EC + 4> | H40: <EC + 5> | I40: <EC + 6> | J40: <EC + 7> | K40: <EC + 8> | L40: <EC + 9>
A41: DESPESAS DE PPP | B41: ANTERIOR | C41: CORRENTE
C42: (EC)
A43: DO ENTE FEDERADO, EXCETO ESTATAIS NÃO DEPENDENTES (I) = (I.1 + I.2) | B43: =B44+B50 -> 0 | C43: =C44+C50 -> 0 | D43: =D44+D50 -> 0 | E43: =E44+E50 -> 0 | F43: =F44+F50 -> 0 | G43: =G44+G50 -> 0 | H43: =H44+H50 -> 0 | I43: =I44+I50 -> 0 | ... L43: =L44+L50 -> 0
A44: Do Ente Federado, exceto estatais não dependentes - Contratadas (I.1) | B44: =SUM(B45:B49) -> 0 | C44: =SUM(C45:C49) -> 0 | D44: =SUM(D45:D49) -> 0 | E44: =SUM(E45:E49) -> 0 | F44: =SUM(F45:F49) -> 0 | G44: =SUM(G45:G49) -> 0 | H44: =SUM(H45:H49) -> 0 | I44: =SUM(I45:I49) -> 0 | ... L44: =SUM(L45:L49) -> 0
A50: Do Ente Federado, exceto estatais não dependentes - A contratar (I.2) | B50: =SUM(B51:B54) -> 0 | C50: =SUM(C51:C54) -> 0 | D50: =SUM(D51:D54) -> 0 | E50: =SUM(E51:E54) -> 0 | F50: =SUM(F51:F54) -> 0 | G50: =SUM(G51:G54) -> 0 | H50: =SUM(H51:H54) -> 0 | I50: =SUM(I51:I54) -> 0 | ... L50: =SUM(L51:L54) -> 0
A55: DAS ESTATAIS NÃO-DEPENDENTES (II) = (II.1 + II.2) | B55: =B56+B62 -> 0 | C55: =C56+C62 -> 0 | D55: =D56+D62 -> 0 | E55: =E56+E62 -> 0 | F55: =F56+F62 -> 0 | G55: =G56+G62 -> 0 | H55: =H56+H62 -> 0 | I55: =I56+I62 -> 0 | ... L55: =L56+L62 -> 0
A56: Das Estatais Não-Dependentes - Contratadas (II.1) | B56: =SUM(B57:B61) -> 0 | C56: =SUM(C57:C61) -> 0 | D56: =SUM(D57:D61) -> 0 | E56: =SUM(E57:E61) -> 0 | F56: =SUM(F57:F61) -> 0 | G56: =SUM(G57:G61) -> 0 | H56: =SUM(H57:H61) -> 0 | I56: =SUM(I57:I61) -> 0 | ... L56: =SUM(L57:L61) -> 0
A62: Das Estatais Não-Dependentes - A contratar (II.2) | B62: =SUM(B63:B66) -> 0 | C62: =SUM(C63:C66) -> 0 | D62: =SUM(D63:D66) -> 0 | E62: =SUM(E63:E66) -> 0 | F62: =SUM(F63:F66) -> 0 | G62: =SUM(G63:G66) -> 0 | H62: =SUM(H63:H66) -> 0 | I62: =SUM(I63:I66) -> 0 | ... L62: =SUM(L63:L66) -> 0
A67: TOTAL DAS DESPESAS DE PPP DO ENTE FEDERADO (I) = (I.1 + I.2) | B67: =B43 -> 0 | C67: =C43 -> 0 | D67: =D43 -> 0 | E67: =E43 -> 0 | F67: =F43 -> 0 | G67: =G43 -> 0 | H67: =H43 -> 0 | I67: =I43 -> 0 | ... L67: =L43 -> 0
A68: TOTAL DAS DESPESAS DE PPP DAS ESTATAIS NÃO-DEPENDENTES (II) = (II.1 + II.2) | B68: =B55 -> 0 | C68: =C55 -> 0 | D68: =D55 -> 0 | E68: =E55 -> 0 | F68: =F55 -> 0 | G68: =G55 -> 0 | H68: =H55 -> 0 | I68: =I55 -> 0 | ... L68: =L55 -> 0
A69: TOTAL DAS DESPESAS DE PPP (III) = (I + II) | B69: =B67+B68 -> 0 | C69: =C67+C68 -> 0 | D69: =D67+D68 -> 0 | E69: =E67+E68 -> 0 | F69: =F67+F68 -> 0 | G69: =G67+G68 -> 0 | H69: =H67+H68 -> 0 | I69: =I67+I68 -> 0 | ... L69: =L67+L68 -> 0
A70: RECEITA CORRENTE LÍQUIDA (RCL) (IV) | B70: 2.337488e+09 | C70: 2.4812101e+09
A71: TOTAL DAS DESPESAS CONSIDERADAS PARA O LIMITE = (I) | B71: =B67 -> 0 | C71: =C67 -> 0 | D71: =D67 -> 0 | E71: =E67 -> 0 | F71: =F67 -> 0 | G71: =G67 -> 0 | H71: =H67 -> 0 | I71: =I67 -> 0 | ... L71: =L67 -> 0
A72: TOTAL DAS DESPESAS CONSIDERADAS PARA O LIMITE / RCL (%) (V) = (I / IV) | B72: =IF(B70>0,B71/B70*100,0) -> 0 | C72: =IF(C70>0,C71/C70*100,0) -> 0 | D72: =IF(D70>0,D71/D70*100,0) -> 0 | E72: =IF(E70>0,E71/E70*100,0) -> 0 | F72: =IF(F70>0,F71/F70*100,0) -> 0 | G72: =IF(G70>0,G71/G70*100,0) -> 0 | H72: =IF(H70>0,H71/H70*100,0) -> 0 | I72: =IF(I70>0,I71/I70*100,0) -> 0 | ... L72: =IF(L70>0,L71/L70*100,0) -> 0
A73: FONTE: Sistema CECAM, Unidade Responsável: CONTABILIDADE. Emissão: 17/07/2026, às 08:06:31. Assinado Digitalmente no dia 17/07/2026, às 08:06:31.
...

Sheet RREO-Anexo 14
A2: PREFEITURA MUNICIPAL DE INDAIATUBA
A3: Av. Eng. Fabio R. Barnabe, 2800 - Jd. Esplanada II
A4: C.N.P.J. 44.733.608/0001-09
A5: Telefone: (19) 3834-9000
A6: Tabela 14 - Demonstrativo Simplificado do Relatório Resumido da Execução Orçamentária
A8: PREFEITURA MUNICIPAL DE INDAIATUBA
A9: RELATÓRIO RESUMIDO DA EXECUÇÃO ORÇAMENTÁRIA
A10: DEMONSTRATIVO SIMPLIFICADO DO RELATÓRIO RESUMIDO DA EXECUÇÃO ORÇAMENTÁRIA
A11: ORÇAMENTOS FISCAL E DA SEGURIDADE SOCIAL
A12: Período: 3º Bimestre | B12: Mês
A18: RREO - Anexo XVIII (LRF, Art. 48) | B18: Em Reais
A19: BALANÇO ORÇAMENTÁRIO | B19: Até o Mês
A20: RECEITAS
A21: Previsão Inicial | B21: ='RREO-Anexo 01'!B93 -> 2715000000
A22: Previsão Atualizada | B22: ='RREO-Anexo 01'!C93 -> 2.7465046e+09
A23: Receitas Realizadas | B23: ='RREO-Anexo 01'!F93 -> 1.4962085e+09
A24: Déficit Orçamentário | B24: ='RREO-Anexo 01'!F94 -> 0
A25: Saldos de Exercícios Anteriores (Utilizados para Créditos Adicionais) | B25: ='RREO-Anexo 01'!F96 -> 3.4330225e+08
A26: DESPESAS
A27: Dotação Inicial | B27: ='RREO-Anexo 01'!B124 -> 2640698000
A28: Dotação Atualizada | B28: ='RREO-Anexo 01'!C124 -> 3.0155049e+09
A29: Despesas Empenhadas | B29: ='RREO-Anexo 01'!E124 -> 1.7699424e+09
A30: Despesas Liquidadas | B30: ='RREO-Anexo 01'!H124 -> 1.2185867e+09
A31: Despesas Pagas | B31: ='RREO-Anexo 01'!J124 -> 1.050962e+09
A32: Superávit Orçamentário | B32: =IF(A12="Período: 6º Bimestre",'RREO-Anexo 01'!E125,'RREO-Anexo 01'!H125) -> 2.7762176e+08
A40: DESPESAS POR FUNÇÃO/SUBFUNÇÃO | B40: Até o Mês
A41: Despesas Empenhadas | B41: ='RREO-Anexo 02'!E215 -> 1.7699424e+09
A42: Despesas Liquidadas | B42: ='RREO-Anexo 02'!I215 -> 1.2185867e+09
A50: RECEITA CORRENTE LÍQUIDA - RCL | B50: Até o Mês
A51: Receita Corrente Líquida | B51: ='RREO-Anexo 03'!N49 -> 2.4812101e+09
A52: Receita Corrente Líquida Ajustada para Cálculo dos Limites de Endividamento | B52: ='RREO-Anexo 03'!N51 -> 2.4742056e+09
A53: Receita Corrente Líquida Ajustada para Cálculo dos Limites da Despesa com Pessoal | B53: ='RREO-Anexo 03'!N55 -> 2.4691176e+09
A55: RECEITA CORRENTE LÍQUIDA - RCL CONFORME TCE | B55: Até o
A56: Receita Corrente Líquida
A57: Receita Corrente Líquida Ajustada para Cálculo dos Limites de Endividamento
A58: Receita Corrente Líquida Ajustada para Cálculo dos Limites da Despesa com Pessoal
A61: RECEITAS E DESPESAS DOS REGIMES DE PREVIDÊNCIA | B61: Até o Mês
A62: Regime Próprio de Previdência dos Servidores - Plano Previdênciário - Fundo em Capitalização
A63: Receitas Previdenciárias Realizadas | B63: ='RREO-Anexo 04'!C42 -> 1.3618111e+08
A64: Despesas Previdenciárias Empenhadas | B64: ='RREO-Anexo 04'!C57 -> 1.0446068e+08
...
